Workbook

Sheet 검증요약
B2: DSD 재무제표 검증요약 | H2: =IF(0+IF(LEFT(E7,5)="FALSE",1,0)+IF(LEFT(F7,5)="FALSE",1,0)+IF(LEFT(E8,5)="FALSE",1,0)+IF(LEFT(F8,5)="FALSE",1,0)+IF(LEFT(F9,5)="FALSE",1,0)+IF(LEFT(E10,5)="FALSE",1,0)+IF(LEFT(F10,5)="FALSE",1,0)+IF(LEFT(E11,5)="FALSE",1,0)+IF(LEFT(F11,5)="FALSE",1,0)+IF(LEFT(E15,5)="FALSE",1,0)+IF(LEFT(F15,5)="FALSE",1,0)+IF(LEFT(E16,5)="FALSE",1,0)+IF(LEFT(F16,5)="FALSE",1,0)+IF(LEFT(E17,5)="FALSE",1,0)+IF(LEFT(F17,5)="FALSE",1,0)+IF(LEFT(E18,5)="FALSE",1,0)+IF(LEFT(E19,5)="FALSE",1,0)+IF(LEFT(F19,5)="FALSE",1,0)+IF(LEFT(E20,5)="FALSE",1,0)+IF(LEFT(F20,5)="FALSE",1,0)+IF(LEFT(E21,5)="FALSE",1,0)+IF(LEFT(E22,5)="FALSE",1,0)+IF(LEFT(E23,5)="FALSE",1,0)+IF(LEFT(E24,5)="FALSE",1,0)+IF(LEFT(F24,5)="FALSE",1,0)+IF(LEFT(E25,5)="FALSE",1,0)+IF(LEFT(E26,5)="FALSE",1,0)+IF(LEFT(F26,5)="FALSE",1,0)+IF(LEFT(E27,5)="FALSE",1,0)+IF(LEFT(F27,5)="FALSE",1,0)+IF(LEFT(E28,5)="FALSE",1,0)+IF(LEFT(F28,5)="FALSE",1,0)=0,"이상 없음","불일치 "&(0+IF(LEFT(E7,5)="FALSE",1,0)+IF(LEFT(F7,5)="FALSE",1,0)+IF(LEFT(E8,5)="FALSE",1,0)+IF(LEFT(F8,5)="FALSE",1,0)+IF(LEFT(F9,5)="FALSE",1,0)+IF(LEFT(E10,5)="FALSE",1,0)+IF(LEFT(F10,5)="FALSE",1,0)+IF(LEFT(E11,5)="FALSE",1,0)+IF(LEFT(F11,5)="FALSE",1,0)+IF(LEFT(E15,5)="FALSE",1,0)+IF(LEFT(F15,5)="FALSE",1,0)+IF(LEFT(E16,5)="FALSE",1,0)+IF(LEFT(F16,5)="FALSE",1,0)+IF(LEFT(E17,5)="FALSE",1,0)+IF(LEFT(F17,5)="FALSE",1,0)+IF(LEFT(E18,5)="FALSE",1,0)+IF(LEFT(E19,5)="FALSE",1,0)+IF(LEFT(F19,5)="FALSE",1,0)+IF(LEFT(E20,5)="FALSE",1,0)+IF(LEFT(F20,5)="FALSE",1,0)+IF(LEFT(E21,5)="FALSE",1,0)+IF(LEFT(E22,5)="FALSE",1,0)+IF(LEFT(E23,5)="FALSE",1,0)+IF(LEFT(E24,5)="FALSE",1,0)+IF(LEFT(F24,5)="FALSE",1,0)+IF(LEFT(E25,5)="FALSE",1,0)+IF(LEFT(E26,5)="FALSE",1,0)+IF(LEFT(F26,5)="FALSE",1,0)+IF(LEFT(E27,5)="FALSE",1,0)+IF(LEFT(F27,5)="FALSE",1,0)+IF(LEFT(E28,5)="FALSE",1,0)+IF(LEFT(F28,5)="FALSE",1,0))&"건")
B3: 원본: 풋팅데모 · 모든 검증값은 실수식(F2 로 추적 가능) · 각 재무제표 시트 우측에 합계검증 70건 별도 표시
B5: 1. 재무제표 간 연계검증 (당기·전기 = 각 재무제표의 당기·전기 열, 정확일치)
B6: No | C6: 구분 | D6: 검증내용 | E6: 당기 | F6: 전기
B7: 1 | C7: BS | D7: 자산총계 = 부채와자본총계 | E7: =IF(ABS((BS!B21)-(BS!B43))<=0,TRUE,"FALSE ("&TEXT((BS!B21)-(BS!B43),"#,##0")&")") | F7: =IF(ABS((BS!C21)-(BS!C43))<=0,TRUE,"FALSE ("&TEXT((BS!C21)-(BS!C43),"#,##0")&")")
B8: 2 | C8: BS↔CF | D8: 현금흐름표 기말·기초현금 = 재무상태표 현금및현금성자산 | E8: =IF(ABS((CF!B19)-(BS!B8))<=0,TRUE,"FALSE ("&TEXT((CF!B19)-(BS!B8),"#,##0")&")") | F8: =IF(ABS((CF!B18)-(BS!C8))<=0,TRUE,"FALSE ("&TEXT((CF!B18)-(BS!C8),"#,##0")&")")
B9: 3 | C9: CF | D9: 기말현금(전기) = 기초현금(당기) — 기간 연속성 | F9: =IF(ABS((CF!C19)-(CF!B18))<=0,TRUE,"FALSE ("&TEXT((CF!C19)-(CF!B18),"#,##0")&")")
B10: 4 | C10: PL↔CE | D10: 당기순이익 : 손익계산서 = 자본변동표 | E10: =IF(ABS((PL!B29)-(CE!E9))<=0,TRUE,"FALSE ("&TEXT((PL!B29)-(CE!E9),"#,##0")&")") | F10: =IF(ABS((PL!C29)-(CE!E6))<=0,TRUE,"FALSE ("&TEXT((PL!C29)-(CE!E6),"#,##0")&")")
B11: 5 | C11: BS↔CE | D11: 자본총계 : 자본변동표 = 재무상태표 | E11: =IF(ABS((CE!E12)-(BS!B42))<=0,TRUE,"FALSE ("&TEXT((CE!E12)-(BS!B42),"#,##0")&")") | F11: =IF(ABS((CE!E8)-(BS!C42))<=0,TRUE,"FALSE ("&TEXT((CE!E8)-(BS!C42),"#,##0")&")")
B13: 3. 재무제표 ↔ 주석 대사 (재무제표 값을 주석 단위로 반올림해 대조, 허용오차 ±2단위 — 상세 검증은 각 주석 시트의 본표대사 행)
B14: No | C14: 구분 | D14: 검증내용 | E14: 당기 | F14: 전기
B15: 6 | C15: 주석4 | D15: 현금및현금성자산 = 주석4 현금및현금성자산 [주석단위 x1,000] | E15: =IF(ABS(ABS(ROUND((BS!B8)/1000,0))-ABS(주석4!B4))<=2,TRUE,"FALSE ("&TEXT(ABS(ROUND((BS!B8)/1000,0))-ABS(주석4!B4),"#,##0")&")") | F15: =IF(ABS(ABS(ROUND((BS!C8)/1000,0))-ABS(주석4!C4))<=2,TRUE,"FALSE ("&TEXT(ABS(ROUND((BS!C8)/1000,0))-ABS(주석4!C4),"#,##0")&")")
B16: 7 | C16: 주석5 | D16: 단기매매증권 = 주석5 단기매매증권 | E16: =IF(ABS(ABS((BS!B9))-ABS(주석5!B4))<=1,TRUE,"FALSE ("&TEXT(ABS((BS!B9))-ABS(주석5!B4),"#,##0")&")") | F16: =IF(ABS(ABS((BS!C9))-ABS(주석5!C4))<=1,TRUE,"FALSE ("&TEXT(ABS((BS!C9))-ABS(주석5!C4),"#,##0")&")")
B17: 8 | C17: 주석6,16 | D17: 단기대여금 = 주석6,16 대여금 및 수취채권 | E17: =IF(ABS(ABS((BS!B10))-ABS(주석6!B4))<=1,TRUE,"FALSE ("&TEXT(ABS((BS!B10))-ABS(주석6!B4),"#,##0")&")") | F17: =IF(ABS(ABS((BS!C10))-ABS(주석6!C4))<=1,TRUE,"FALSE ("&TEXT(ABS((BS!C10))-ABS(주석6!C4),"#,##0")&")")
B18: 9 | C18: 주석6,16 | D18: 대손충당금 = 주석6,16 대여금 및 수취채권 | E18: =IF(ABS(ABS((BS!B11))-ABS(주석6!B4))<=1,TRUE,"FALSE ("&TEXT(ABS((BS!B11))-ABS(주석6!B4),"#,##0")&")")
B19: 10 | C19: 주석6 | D19: 임차보증금 = 주석6 대여금 및 수취채권 | E19: =IF(ABS(ABS((BS!B20))-ABS(주석6!B6))<=1,TRUE,"FALSE ("&TEXT(ABS((BS!B20))-ABS(주석6!B6),"#,##0")&")") | F19: =IF(ABS(ABS((BS!C20))-ABS(주석6!C6))<=1,TRUE,"FALSE ("&TEXT(ABS((BS!C20))-ABS(주석6!C6),"#,##0")&")")
B20: 11 | C20: 주석8,16 | D20: 단기차입금 = 주석8,16 차입금 | E20: =IF(ABS(ABS((BS!B27))-ABS(주석8!B4))<=1,TRUE,"FALSE ("&TEXT(ABS((BS!B27))-ABS(주석8!B4),"#,##0")&")") | F20: =IF(ABS(ABS((BS!C27))-ABS(주석8!C4))<=1,TRUE,"FALSE ("&TEXT(ABS((BS!C27))-ABS(주석8!C4),"#,##0")&")")
B21: 12 | C21: 주석9 | D21: 전환사채 = 주석9 전환사채 | E21: =IF(ABS(ABS((BS!B30))-ABS(주석9!B4))<=1,TRUE,"FALSE ("&TEXT(ABS((BS!B30))-ABS(주석9!B4),"#,##0")&")")
B22: 13 | C22: 주석9 | D22: 상환할증금 = 주석9 전환사채 | E22: =IF(ABS(ABS((BS!B31))-ABS(주석9!B5))<=1,TRUE,"FALSE ("&TEXT(ABS((BS!B31))-ABS(주석9!B5),"#,##0")&")")
B23: 14 | C23: 주석9 | D23: 전환권조정 = 주석9 전환사채 | E23: =IF(ABS(ABS((BS!B32))-ABS(주석9!B6))<=1,TRUE,"FALSE ("&TEXT(ABS((BS!B32))-ABS(주석9!B6),"#,##0")&")")
B24: 15 | C24: 주석10 | D24: 자 본 금 = 주석10 자본금 | E24: =IF(ABS(ABS((BS!B35))-ABS(주석10!B4))<=1,TRUE,"FALSE ("&TEXT(ABS((BS!B35))-ABS(주석10!B4),"#,##0")&")") | F24: =IF(ABS(ABS((BS!C35))-ABS(주석10!C4))<=1,TRUE,"FALSE ("&TEXT(ABS((BS!C35))-ABS(주석10!C4),"#,##0")&")")
B25: 16 | C25: 주석9 | D25: 전환권대가 = 주석9 전환사채 | E25: =IF(ABS(ABS((BS!B39))-ABS(주석9!B7))<=1,TRUE,"FALSE ("&TEXT(ABS((BS!B39))-ABS(주석9!B7),"#,##0")&")")
B26: 17 | C26: 주석13 | D26: 판매비와관리비 = 주석13 판매비와관리비 [주석단위 x1,000] | E26: =IF(ABS(ABS(ROUND((PL!B8)/1000,0))-ABS(주석13!B8))<=2,TRUE,"FALSE ("&TEXT(ABS(ROUND((PL!B8)/1000,0))-ABS(주석13!B8),"#,##0")&")") | F26: =IF(ABS(ABS(ROUND((PL!C8)/1000,0))-ABS(주석13!C8))<=2,TRUE,"FALSE ("&TEXT(ABS(ROUND((PL!C8)/1000,0))-ABS(주석13!C8),"#,##0")&")")
B27: 18 | C27: 주석13 | D27: 세금과공과금 = 주석13 판매비와관리비 [주석단위 x1,000] | E27: =IF(ABS(ABS(ROUND((PL!B10)/1000,0))-ABS(주석13!B4))<=2,TRUE,"FALSE ("&TEXT(ABS(ROUND((PL!B10)/1000,0))-ABS(주석13!B4),"#,##0")&")") | F27: =IF(ABS(ABS(ROUND((PL!C10)/1000,0))-ABS(주석13!C4))<=2,TRUE,"FALSE ("&TEXT(ABS(ROUND((PL!C10)/1000,0))-ABS(주석13!C4),"#,##0")&")")
B28: 19 | C28: 주석13 | D28: 임차료 = 주석13 판매비와관리비 [주석단위 x1,000] | E28: =IF(ABS(ABS(ROUND((PL!B11)/1000,0))-ABS(주석13!B5))<=2,TRUE,"FALSE ("&TEXT(ABS(ROUND((PL!B11)/1000,0))-ABS(주석13!B5),"#,##0")&")") | F28: =IF(ABS(ABS(ROUND((PL!C11)/1000,0))-ABS(주석13!C5))<=2,TRUE,"FALSE ("&TEXT(ABS(ROUND((PL!C11)/1000,0))-ABS(주석13!C5),"#,##0")&")")
B30: 4. 각 재무제표 내 합계검증(footing)은 BS·PL·CE·CF 시트 우측의 검증 열에서 TRUE/FALSE 로 확인할 수 있습니다.

Sheet BS
A1: 재 무 상 태 표
A2: (단위: 원)
A4: 과 목 | B4: 제 5(당) 기 | C4: 제 4(전) 기 | E4: 검증(제 5(당) 기) | F4: 검증(제 4(전) 기) | G4: 차이(제 5(당) 기) | H4: 차이(제 4(전) 기)
A5: 자 산
A6: Ⅰ. 유 동 자 산 | B6: 14633154845 | C6: 57407978379 | E6: =B6=B7+B15 | F6: =C6=C7+C15 | G6: =IF(B6=B7+B15,"",(B6)-(B7+B15)) | H6: =IF(C6=C7+C15,"",(C6)-(C7+C15))
A7: (1) 당좌자산 | B7: 14633154845 | C7: 57407978379 | E7: =B7=SUM(B8:B14) | F7: =C7=SUM(C8:C14) | G7: =IF(B7=SUM(B8:B14),"",(B7)-(SUM(B8:B14))) | H7: =IF(C7=SUM(C8:C14),"",(C7)-(SUM(C8:C14)))
A8: 현금및현금성자산(주석4) | B8: 51543284 | C8: 19553969
A9: 단기매매증권(주석5) | B9: 14460290400 | C9: 41365277513
A10: 단기대여금(주석6,16) | B10: 20087231602 | C10: 15977075780
A11: 대손충당금(주석6,16) | B11: -20087231602 | C11: 0
A12: 선급금 | B12: 1320000 | C12: 2961480
A13: 부가세대급금 | B13: 111366651 | C13: 39463727
A14: 선납세금 | B14: 8634510 | C14: 3645910
A15: (2) 재고자산 | B15: 0 | C15: 0
A16: Ⅱ. 비 유 동 자 산 | B16: 200000 | C16: 6050200000 | E16: =B16=B17+B19 | F16: =C16=C17+C19 | G16: =IF(B16=B17+B19,"",(B16)-(B17+B19)) | H16: =IF(C16=C17+C19,"",(C16)-(C17+C19))
A17: (1) 투자자산 | B17: 0 | C17: 6050000000 | E17: =B17=SUM(B18:B18) | F17: =C17=SUM(C18:C18) | G17: =IF(B17=SUM(B18:B18),"",(B17)-(SUM(B18:B18))) | H17: =IF(C17=SUM(C18:C18),"",(C17)-(SUM(C18:C18)))
A18: 출자금 | B18: 0 | C18: 6050000000
A19: (2) 기타비유동자산 | B19: 200000 | C19: 200000 | E19: =B19=SUM(B20:B20) | F19: =C19=SUM(C20:C20) | G19: =IF(B19=SUM(B20:B20),"",(B19)-(SUM(B20:B20))) | H19: =IF(C19=SUM(C20:C20),"",(C19)-(SUM(C20:C20)))
A20: 임차보증금(주석6) | B20: 200000 | C20: 200000
A21: 자 산 총 계 | B21: 14633354845 | C21: 63458178379 | E21: =B21=B6+B16 | F21: =C21=C6+C16 | G21: =IF(B21=B6+B16,"",(B21)-(B6+B16)) | H21: =IF(C21=C6+C16,"",(C21)-(C6+C16))
A22: 부 채
A23: Ⅰ. 유 동 부 채 | B23: 7813737985 | C23: 59306681144 | E23: =B23=SUM(B24:B27) | F23: =C23=SUM(C24:C27) | G23: =IF(B23=SUM(B24:B27),"",(B23)-(SUM(B24:B27))) | H23: =IF(C23=SUM(C24:C27),"",(C23)-(SUM(C24:C27)))
A24: 미지급금 | B24: 1210112860 | C24: 177927041
A25: 미지급비용 | B25: 28493151 | C25: 0
A26: 예수금 | B26: 165723261 | C26: 165723261
A27: 단기차입금(주석8,16) | B27: 6409408713 | C27: 58963030842
A28: Ⅱ. 비 유 동 부 채 | B28: 2956663684 | C28: 240000000 | E28: =B28=SUM(B29:B32) | F28: =C28=SUM(C29:C32) | G28: =IF(B28=SUM(B29:B32),"",(B28)-(SUM(B29:B32))) | H28: =IF(C28=SUM(C29:C32),"",(C28)-(SUM(C29:C32)))
A29: 장기차입금(주석8) | B29: 0 | C29: 240000000
A30: 전환사채(주석9) | B30: 3773000000 | C30: 0
A31: 상환할증금(주석9) | B31: 452760000 | C31: 0
A32: 전환권조정(주석9) | B32: -1269096316 | C32: 0
A33: 부 채 총 계 | B33: 10770401669 | C33: 59546681144 | E33: =B33=B23+B28 | F33: =C33=C23+C28 | G33: =IF(B33=B23+B28,"",(B33)-(B23+B28)) | H33: =IF(C33=C23+C28,"",(C33)-(C23+C28))
A34: 자 본
A35: Ⅰ. 자 본 금(주석10) | B35: 100000000 | C35: 100000000 | E35: =B35=SUM(B36:B36) | F35: =C35=SUM(C36:C36) | G35: =IF(B35=SUM(B36:B36),"",(B35)-(SUM(B36:B36))) | H35: =IF(C35=SUM(C36:C36),"",(C35)-(SUM(C36:C36)))
A36: 보통주자본금 | B36: 100000000 | C36: 100000000
A37: Ⅱ.자 본 잉 여 금 | B37: 5018173968 | C37: 0 | E37: =B37=SUM(B38:B39) | F37: =C37=SUM(C38:C39) | G37: =IF(B37=SUM(B38:B39),"",(B37)-(SUM(B38:B39))) | H37: =IF(C37=SUM(C38:C39),"",(C37)-(SUM(C38:C39)))
A38: 주식발행초과금 | B38: 3983552636 | C38: 0
A39: 전환권대가(주석9) | B39: 1034621332 | C39: 0
A40: Ⅲ.이 익 잉 여 금(주석11) | B40: -1255220792 | C40: 3811497235 | E40: =B40=SUM(B41:B41) | F40: =C40=SUM(C41:C41) | G40: =IF(B40=SUM(B41:B41),"",(B40)-(SUM(B41:B41))) | H40: =IF(C40=SUM(C41:C41),"",(C40)-(SUM(C41:C41)))
A41: 미처분이익잉여금 | B41: -1255220792 | C41: 3811497235
...

Sheet PL
A1: 포 괄 손 익 계 산 서
A2: (단위: 원)
A4: 과 목 | B4: 제 5(당) 기 | C4: 제 4(전) 기 | E4: 검증(제 5(당) 기) | F4: 검증(제 4(전) 기) | G4: 차이(제 5(당) 기) | H4: 차이(제 4(전) 기)
A5: Ⅰ. 매 출 액 | B5: 0 | C5: 0
A6: Ⅱ. 매 출 원 가 | B6: 0 | C6: 0
A7: Ⅲ. 매 출 총 이 익 | B7: 0 | C7: 0 | E7: =B7=B5-B6 | F7: =C7=C5-C6 | G7: =IF(B7=B5-B6,"",(B7)-(B5-B6)) | H7: =IF(C7=C5-C6,"",(C7)-(C5-C6))
A8: Ⅳ. 판매비와관리비 | B8: 1070027106 | C8: 117673400 | E8: =B8=SUM(B9:B13) | F8: =C8=SUM(C9:C13) | G8: =IF(B8=SUM(B9:B13),"",(B8)-(SUM(B9:B13))) | H8: =IF(C8=SUM(C9:C13),"",(C8)-(SUM(C9:C13)))
A9: 급여(주석13) | B9: 0 | C9: 0
A10: 세금과공과금(주석13) | B10: 212500 | C10: 1111400
A11: 임차료(주석13) | B11: 600000 | C11: 600000
A12: 도서인쇄비 | B12: 2300000 | C12: 0
A13: 지급수수료 | B13: 1067014606 | C13: 115962000
A14: Ⅴ. 영 업 이 익 | B14: -1070027106 | C14: -117673400
A15: Ⅵ. 영 업 외 수 익 | B15: 34643689636 | C15: 6823370 | E15: =B15=SUM(B16:B19) | F15: =C15=SUM(C16:C19) | G15: =IF(B15=SUM(B16:B19),"",(B15)-(SUM(B16:B19))) | H15: =IF(C15=SUM(C16:C19),"",(C15)-(SUM(C16:C19)))
A16: 이자수익 | B16: 37901530 | C16: 6053102
A17: 단기매매증권평가이익 | B17: 5878531795 | C17: 0
A18: 단기매매증권처분이익 | B18: 28727219860 | C18: 0
A19: 잡이익 | B19: 36451 | C19: 770268
A20: Ⅶ. 영 업 외 비 용 | B20: 38640380557 | C20: 1290079635 | E20: =B20=SUM(B21:B26) | F20: =C20=SUM(C21:C26) | G20: =IF(B20=SUM(B21:B26),"",(B20)-(SUM(B21:B26))) | H20: =IF(C20=SUM(C21:C26),"",(C20)-(SUM(C21:C26)))
A21: 이자비용 | B21: 3873544344 | C21: 1286107633
A22: 단기매매증권평가손실 | B22: 0 | C22: 3972002
A23: 단기매매증권처분손실 | B23: 12177963131 | C23: 0
A24: 기타의대손상각비 | B24: 20087231602 | C24: 0
A25: 매도가능증권손상차손 | B25: 2500000000 | C25: 0
A26: 잡손실 | B26: 1641480 | C26: 0
A27: Ⅷ. 법인세차감전순이익 | B27: -5066718027 | C27: -1400929665 | E27: =B27=B14+B15-B20 | F27: =C27=C14+C15-C20 | G27: =IF(B27=B14+B15-B20,"",(B27)-(B14+B15-B20)) | H27: =IF(C27=C14+C15-C20,"",(C27)-(C14+C15-C20))
A28: Ⅸ. 법인세등 | B28: 0 | C28: 0
A29: Ⅹ. 당기순이익 | B29: -5066718027 | C29: -1400929665 | E29: =B29=B27-B28 | F29: =C29=C27-C28 | G29: =IF(B29=B27-B28,"",(B29)-(B27-B28)) | H29: =IF(C29=C27-C28,"",(C29)-(C27-C28))

Sheet CE
A1: 자 본 변 동 표
A2: (단위: 원)
A4: 과 목 | B4: 자본금 | C4: 자본잉여금 | D4: 이익잉여금 | E4: 총 계 | G4: 검증(행합계) | H4: 차이
A5: 2024.1.1(전기초) | B5: 100000000 | C5: 0 | D5: 5212426900 | E5: 5312426900 | G5: =E5=SUM(B5:D5) | H5: =IF(E5=SUM(B5:D5),"",(E5)-(SUM(B5:D5)))
A6: 당기순이익(손실) | B6: 0 | C6: 0 | D6: -1400929665 | E6: -1400929665 | G6: =E6=SUM(B6:D6) | H6: =IF(E6=SUM(B6:D6),"",(E6)-(SUM(B6:D6)))
A7: 2024.12.31(전기말) | B7: 100000000 | C7: 0 | D7: 3811497235 | E7: 3911497235 | G7: =E7=SUM(B7:D7) | H7: =IF(E7=SUM(B7:D7),"",(E7)-(SUM(B7:D7)))
A8: 2025.1.1(당기초) | B8: 100000000 | C8: 0 | D8: 3811497235 | E8: 3911497235 | G8: =E8=SUM(B8:D8) | H8: =IF(E8=SUM(B8:D8),"",(E8)-(SUM(B8:D8)))
A9: 당기순이익(손실) | B9: 0 | C9: 0 | D9: -5066718027 | E9: -5066718027 | G9: =E9=SUM(B9:D9) | H9: =IF(E9=SUM(B9:D9),"",(E9)-(SUM(B9:D9)))
A10: 주식발행초과금 | B10: 0 | C10: 3983552636 | D10: 0 | E10: 3983552636 | G10: =E10=SUM(B10:D10) | H10: =IF(E10=SUM(B10:D10),"",(E10)-(SUM(B10:D10)))
A11: 전환권대가 | B11: 0 | C11: 1034621332 | D11: 0 | E11: 1034621332 | G11: =E11=SUM(B11:D11) | H11: =IF(E11=SUM(B11:D11),"",(E11)-(SUM(B11:D11)))
A12: 2025.12.31(당기말) | B12: 100000000 | C12: 5018173968 | D12: -1255220792 | E12: 3862953176 | G12: =E12=SUM(B12:D12) | H12: =IF(E12=SUM(B12:D12),"",(E12)-(SUM(B12:D12)))
A14: 검증: 2024.12.31(전기말) = 2024.1.1(전기초) + 변동액 합계 | B14: =B7=B5+SUM(B6:B6) | C14: =C7=C5+SUM(C6:C6) | D14: =D7=D5+SUM(D6:D6) | E14: =E7=E5+SUM(E6:E6)
A15: ↳ 차이 | B15: =IF(B7=B5+SUM(B6:B6),"",(B7)-(B5+SUM(B6:B6))) | C15: =IF(C7=C5+SUM(C6:C6),"",(C7)-(C5+SUM(C6:C6))) | D15: =IF(D7=D5+SUM(D6:D6),"",(D7)-(D5+SUM(D6:D6))) | E15: =IF(E7=E5+SUM(E6:E6),"",(E7)-(E5+SUM(E6:E6)))
A16: 검증: 2025.12.31(당기말) = 2025.1.1(당기초) + 변동액 합계 | B16: =B12=B8+SUM(B9:B11) | C16: =C12=C8+SUM(C9:C11) | D16: =D12=D8+SUM(D9:D11) | E16: =E12=E8+SUM(E9:E11)
A17: ↳ 차이 | B17: =IF(B12=B8+SUM(B9:B11),"",(B12)-(B8+SUM(B9:B11))) | C17: =IF(C12=C8+SUM(C9:C11),"",(C12)-(C8+SUM(C9:C11))) | D17: =IF(D12=D8+SUM(D9:D11),"",(D12)-(D8+SUM(D9:D11))) | E17: =IF(E12=E8+SUM(E9:E11),"",(E12)-(E8+SUM(E9:E11)))

Sheet CF
A1: 현 금 흐 름 표
A2: (단위: 원)
A4: 과 목 | B4: 제 5(당) 기 | C4: 제 4(전) 기 | E4: 검증(제 5(당) 기) | F4: 검증(제 4(전) 기) | G4: 차이(제 5(당) 기) | H4: 차이(제 4(전) 기)
A5: Ⅰ. 영업활동으로 인한 현금흐름 | B5: -3000000000 | C5: -500000000 | E5: =B5=B6+B7+B9 | F5: =C5=C6+C7+C9 | G5: =IF(B5=B6+B7+B9,"",(B5)-(B6+B7+B9)) | H5: =IF(C5=C6+C7+C9,"",(C5)-(C6+C7+C9))
A6: 1. 당기순이익(손실) | B6: -5066718027 | C6: -1400929665
A7: 2. 현금의 유출이 없는 비용등의 가산 | B7: 2266718027 | C7: 900929665 | E7: =B7=SUM(B8:B8) | F7: =C7=SUM(C8:C8) | G7: =IF(B7=SUM(B8:B8),"",(B7)-(SUM(B8:B8))) | H7: =IF(C7=SUM(C8:C8),"",(C7)-(SUM(C8:C8)))
A8: 대손상각비 | B8: 2266718027 | C8: 900929665
A9: 3. 현금의 유입이 없는 수익등의 차감 | B9: -200000000 | C9: 0 | E9: =B9=-SUM(B10:B10) | F9: =C9=SUM(C10:C10) | G9: =IF(B9=-SUM(B10:B10),"",(B9)-(-SUM(B10:B10))) | H9: =IF(C9=SUM(C10:C10),"",(C9)-(SUM(C10:C10)))
A10: 이자수익 | B10: 200000000 | C10: 0
A11: Ⅱ. 투자활동으로 인한 현금흐름 | B11: -1968010685 | C11: 0 | E11: =B11=SUM(B12:B12) | F11: =C11=SUM(C12:C12) | G11: =IF(B11=SUM(B12:B12),"",(B11)-(SUM(B12:B12))) | H11: =IF(C11=SUM(C12:C12),"",(C11)-(SUM(C12:C12)))
A12: 1. 단기대여금의 증가 | B12: -1968010685 | C12: 0
A13: Ⅲ. 재무활동으로 인한 현금흐름 | B13: 5000000000 | C13: 509553969 | E13: =B13=SUM(B14:B16) | F13: =C13=SUM(C14:C16) | G13: =IF(B13=SUM(B14:B16),"",(B13)-(SUM(B14:B16))) | H13: =IF(C13=SUM(C14:C16),"",(C13)-(SUM(C14:C16)))
A14: 1. 전환사채의 발행 | B14: 3773000000 | C14: 0
A15: 2. 신주의 발행 | B15: 1227000000 | C15: 0
A16: 3. 단기차입금의 차입 | B16: 0 | C16: 509553969
A17: Ⅳ. 현금의 증가(감소) | B17: 31989315 | C17: 9553969 | E17: =B17=B5+B11+B13 | F17: =C17=C5+C11+C13 | G17: =IF(B17=B5+B11+B13,"",(B17)-(B5+B11+B13)) | H17: =IF(C17=C5+C11+C13,"",(C17)-(C5+C11+C13))
A18: Ⅴ. 기초의 현금 | B18: 19553969 | C18: 10000000
A19: Ⅵ. 기말의 현금 | B19: 51543284 | C19: 19553969 | E19: =B19=B18+B17 | F19: =C19=C18+C17 | G19: =IF(B19=B18+B17,"",(B19)-(B18+B17)) | H19: =IF(C19=C18+C17,"",(C19)-(C18+C17))

Sheet 주석매핑
B2: 재무제표 ↔ 주석번호 매핑
B3: 기재된 주석번호와 엔진이 찾은 관련 주석(제목 일치·금액 발견)을 대조 — '기재 검토'는 근거가 강한 항목만 제안합니다
B5: 재무제표 | C5: 계정과목 | D5: 당기 금액 | E5: 기재된 주석 | F5: 관련 주석 (근거) | G5: 판정
B6: 재 무 상 태 표 | C6: 현금및현금성자산 | D6: 51543284 | E6: 4 | F6: 4(제목·금액×2) | G6: 일치
B7: 재 무 상 태 표 | C7: 단기매매증권 | D7: 14460290400 | E7: 5 | F7: 5(제목) | G7: 일치
B8: 재 무 상 태 표 | C8: 단기대여금 | D8: 20087231602 | E8: 6, 16 | F8: 6(금액×2), 16(금액×2) | G8: 일치
B9: 재 무 상 태 표 | C9: 대손충당금 | D9: -20087231602 | E9: 6, 16 | F9: 6(금액), 16(금액) | G9: 일치
B10: 재 무 상 태 표 | C10: 기타비유동자산 | D10: 200000 | E10: - | F10: 6(금액×2) | G10: 기재 검토 — 주석 6
B11: 재 무 상 태 표 | C11: 임차보증금 | D11: 200000 | E11: 6 | F11: 6(금액×2) | G11: 일치
B12: 재 무 상 태 표 | C12: 단기차입금 | D12: 6409408713 | E12: 8, 16 | F12: 8(금액×2), 16(금액×2) | G12: 일치
B13: 재 무 상 태 표 | C13: 장기차입금 | D13: 0 | E13: 8 | F13: 8(금액) | G13: 일치
B14: 재 무 상 태 표 | C14: 전환사채 | D14: 3773000000 | E14: 9 | F14: 9(제목·금액) | G14: 일치
B15: 재 무 상 태 표 | C15: 상환할증금 | D15: 452760000 | E15: 9 | F15: 9(금액) | G15: 일치
B16: 재 무 상 태 표 | C16: 전환권조정 | D16: -1269096316 | E16: 9 | F16: 9(금액) | G16: 일치
B17: 재 무 상 태 표 | C17: 자 본 금 | D17: 100000000 | E17: 10 | F17: 10(제목·금액×2) | G17: 일치
... B25: 포 괄 손 익 계 산 서 | C25: 지급수수료 | D25: 1067014606 | E25: - | F25: 13(금액×2) | G25: 기재 검토 — 주석 13

Sheet 주석4
A1: 4. 현금및현금성자산
A2: (단위: 천원)
A3: 구 분 | B3: 당기 | C3: 전기
A4: 보통예금 | B4: 51543 | C4: 19554
A5: 본표대사 (현금및현금성자산 ↔ 재무상태표) | B5: =ABS(ABS(B4)-ABS(ROUND((BS!B8)/1000,0)))<=2 | C5: =ABS(ABS(C4)-ABS(ROUND((BS!C8)/1000,0)))<=2
A6: ↳ 차이 | B6: =IF(ABS(ABS(B4)-ABS(ROUND((BS!B8)/1000,0)))<=2,"",ABS(B4)-ABS(ROUND((BS!B8)/1000,0))) | C6: =IF(ABS(ABS(C4)-ABS(ROUND((BS!C8)/1000,0)))<=2,"",ABS(C4)-ABS(ROUND((BS!C8)/1000,0)))

Sheet 주석5
A1: 5. 단기매매증권
A2: (단위: 천원)
A3: 구 분 | B3: 당기 | C3: 전기
A4: 수익증권 | B4: 14460290400 | C4: 41365277513
A5: 본표대사 (단기매매증권 ↔ 재무상태표) | B5: =ABS(ABS(B4)-ABS((BS!B9)))<=1 | C5: =ABS(ABS(C4)-ABS((BS!C9)))<=1
A6: ↳ 차이 | B6: =IF(ABS(ABS(B4)-ABS((BS!B9)))<=1,"",ABS(B4)-ABS((BS!B9))) | C6: =IF(ABS(ABS(C4)-ABS((BS!C9)))<=1,"",ABS(C4)-ABS((BS!C9)))

Sheet 주석6
A1: 6. 대여금 및 수취채권
A2: (단위: 원)
A3: 구 분 | B3: 당기 | C3: 전기
A4: 단기대여금 | B4: 20087231602 | C4: 15977075780
A5: 대손충당금 | B5: 20087231602 | C5: 0
A6: 임차보증금 | B6: 200000 | C6: 200000
A7: 본표대사 (단기대여금 ↔ 재무상태표) | B7: =ABS(ABS(B4)-ABS((BS!B10)))<=1 | C7: =ABS(ABS(C4)-ABS((BS!C10)))<=1
A8: ↳ 차이 | B8: =IF(ABS(ABS(B4)-ABS((BS!B10)))<=1,"",ABS(B4)-ABS((BS!B10))) | C8: =IF(ABS(ABS(C4)-ABS((BS!C10)))<=1,"",ABS(C4)-ABS((BS!C10)))
A9: 본표대사 (대손충당금 ↔ 재무상태표) | B9: =ABS(ABS(B4)-ABS((BS!B11)))<=1
A10: ↳ 차이 | B10: =IF(ABS(ABS(B4)-ABS((BS!B11)))<=1,"",ABS(B4)-ABS((BS!B11)))
A11: 본표대사 (임차보증금 ↔ 재무상태표) | B11: =ABS(ABS(B6)-ABS((BS!B20)))<=1 | C11: =ABS(ABS(C6)-ABS((BS!C20)))<=1
A12: ↳ 차이 | B12: =IF(ABS(ABS(B6)-ABS((BS!B20)))<=1,"",ABS(B6)-ABS((BS!B20))) | C12: =IF(ABS(ABS(C6)-ABS((BS!C20)))<=1,"",ABS(C6)-ABS((BS!C20)))

Sheet 주석8
A1: 8. 차입금
A2: (단위: 원)
A3: 구 분 | B3: 당기 | C3: 전기
A4: 단기차입금 | B4: 6409408713 | C4: 58963030842
A5: 장기차입금 | B5: 0 | C5: 240000000
A6: 합 계 | B6: 6409408714 | C6: 59203030842
A7: 합계검증 (합 계 행) | B7: =B6=(SUM(B4:B5)) | C7: =C6=(SUM(C4:C5))
A8: ↳ 차이 | B8: =IF(B6=(SUM(B4:B5)),"",(B6)-((SUM(B4:B5)))) | C8: =IF(C6=(SUM(C4:C5)),"",(C6)-((SUM(C4:C5))))
A9: 본표대사 (단기차입금 ↔ 재무상태표) | B9: =ABS(ABS(B4)-ABS((BS!B27)))<=1 | C9: =ABS(ABS(C4)-ABS((BS!C27)))<=1
A10: ↳ 차이 | B10: =IF(ABS(ABS(B4)-ABS((BS!B27)))<=1,"",ABS(B4)-ABS((BS!B27))) | C10: =IF(ABS(ABS(C4)-ABS((BS!C27)))<=1,"",ABS(C4)-ABS((BS!C27)))

Sheet 주석9
A1: 9. 전환사채
A2: (단위: 원)
A3: 구 분 | B3: 당기 | C3: 전기
A4: 전환사채 | B4: 3773000000 | C4: 0
A5: 상환할증금 | B5: 452760000 | C5: 0
A6: 전환권조정 | B6: 1269096316 | C6: 0
A7: 전환권대가 | B7: 1034621332 | C7: 0
A8: 본표대사 (전환사채 ↔ 재무상태표) | B8: =ABS(ABS(B4)-ABS((BS!B30)))<=1
A9: ↳ 차이 | B9: =IF(ABS(ABS(B4)-ABS((BS!B30)))<=1,"",ABS(B4)-ABS((BS!B30)))
A10: 본표대사 (상환할증금 ↔ 재무상태표) | B10: =ABS(ABS(B5)-ABS((BS!B31)))<=1
A11: ↳ 차이 | B11: =IF(ABS(ABS(B5)-ABS((BS!B31)))<=1,"",ABS(B5)-ABS((BS!B31)))
A12: 본표대사 (전환권조정 ↔ 재무상태표) | B12: =ABS(ABS(B6)-ABS((BS!B32)))<=1
A13: ↳ 차이 | B13: =IF(ABS(ABS(B6)-ABS((BS!B32)))<=1,"",ABS(B6)-ABS((BS!B32)))
A14: 본표대사 (전환권대가 ↔ 재무상태표) | B14: =ABS(ABS(B7)-ABS((BS!B39)))<=1
A15: ↳ 차이 | B15: =IF(ABS(ABS(B7)-ABS((BS!B39)))<=1,"",ABS(B7)-ABS((BS!B39)))

Sheet 주석10
A1: 10. 자본금
A2: (단위: 원)
A3: 구 분 | B3: 당기 | C3: 전기
A4: 보통주자본금 | B4: 100000000 | C4: 100000000
A5: 본표대사 (자 본 금 ↔ 재무상태표) | B5: =ABS(ABS(B4)-ABS((BS!B35)))<=1 | C5: =ABS(ABS(C4)-ABS((BS!C35)))<=1
A6: ↳ 차이 | B6: =IF(ABS(ABS(B4)-ABS((BS!B35)))<=1,"",ABS(B4)-ABS((BS!B35))) | C6: =IF(ABS(ABS(C4)-ABS((BS!C35)))<=1,"",ABS(C4)-ABS((BS!C35)))

Sheet 주석13
A1: 13. 판매비와관리비
A2: (단위: 천원)
A3: 구 분 | B3: 당기 | C3: 전기
A4: 세금과공과 | B4: 213 | C4: 1111
A5: 임차료 | B5: 600 | C5: 600
A6: 지급수수료 | B6: 1067015 | C6: 115962
A7: 도서인쇄비 | B7: 2200 | C7: 0
A8: 합 계 | B8: 1070027 | C8: 117673
A9: 합계검증 (합 계 행) | B9: =B8=(SUM(B4:B7)) | C9: =C8=(SUM(C4:C7))
A10: ↳ 차이 | B10: =IF(B8=(SUM(B4:B7)),"",(B8)-((SUM(B4:B7)))) | C10: =IF(C8=(SUM(C4:C7)),"",(C8)-((SUM(C4:C7))))
A11: 본표대사 (판매비와관리비 ↔ 손익계산서) | B11: =ABS(ABS(B8)-ABS(ROUND((PL!B8)/1000,0)))<=2 | C11: =ABS(ABS(C8)-ABS(ROUND((PL!C8)/1000,0)))<=2
A12: ↳ 차이 | B12: =IF(ABS(ABS(B8)-ABS(ROUND((PL!B8)/1000,0)))<=2,"",ABS(B8)-ABS(ROUND((PL!B8)/1000,0))) | C12: =IF(ABS(ABS(C8)-ABS(ROUND((PL!C8)/1000,0)))<=2,"",ABS(C8)-ABS(ROUND((PL!C8)/1000,0)))
A13: 본표대사 (세금과공과금 ↔ 손익계산서) | B13: =ABS(ABS(B4)-ABS(ROUND((PL!B10)/1000,0)))<=2 | C13: =ABS(ABS(C4)-ABS(ROUND((PL!C10)/1000,0)))<=2
A14: ↳ 차이 | B14: =IF(ABS(ABS(B4)-ABS(ROUND((PL!B10)/1000,0)))<=2,"",ABS(B4)-ABS(ROUND((PL!B10)/1000,0))) | C14: =IF(ABS(ABS(C4)-ABS(ROUND((PL!C10)/1000,0)))<=2,"",ABS(C4)-ABS(ROUND((PL!C10)/1000,0)))
A15: 본표대사 (임차료 ↔ 손익계산서) | B15: =ABS(ABS(B5)-ABS(ROUND((PL!B11)/1000,0)))<=2 | C15: =ABS(ABS(C5)-ABS(ROUND((PL!C11)/1000,0)))<=2
A16: ↳ 차이 | B16: =IF(ABS(ABS(B5)-ABS(ROUND((PL!B11)/1000,0)))<=2,"",ABS(B5)-ABS(ROUND((PL!B11)/1000,0))) | C16: =IF(ABS(ABS(C5)-ABS(ROUND((PL!C11)/1000,0)))<=2,"",ABS(C5)-ABS(ROUND((PL!C11)/1000,0)))

Sheet 주석16
A1: 16. 특수관계자 거래
A2: (단위: 원)
A3: 구 분 | B3: 당기 | C3: 전기
A4: 단기대여금 | B4: 20087231602 | C4: 15977075780
A5: 단기차입금 | B5: 6409408713 | C5: 58963030842
A6: 본표대사 (단기대여금 ↔ 재무상태표) | B6: =ABS(ABS(B4)-ABS((BS!B10)))<=1
A7: ↳ 차이 | B7: =IF(ABS(ABS(B4)-ABS((BS!B10)))<=1,"",ABS(B4)-ABS((BS!B10)))
A8: 본표대사 (대손충당금 ↔ 재무상태표) | B8: =ABS(ABS(B4)-ABS((BS!B11)))<=1
A9: ↳ 차이 | B9: =IF(ABS(ABS(B4)-ABS((BS!B11)))<=1,"",ABS(B4)-ABS((BS!B11)))
A10: 본표대사 (단기차입금 ↔ 재무상태표) | B10: =ABS(ABS(B5)-ABS((BS!B27)))<=1
A11: ↳ 차이 | B11: =IF(ABS(ABS(B5)-ABS((BS!B27)))<=1,"",ABS(B5)-ABS((BS!B27)))

Sheet _dsdf
A1: DSD Footing 검증워크북 지문 — 이 시트는 수정하지 마세요
A2: ver | B2: 1
A3: co | B3: ea055ed41ea8
A4: year | B4: 2025
A5: period | B5: Y
A6: scope | B6: S
A8: BS | B8: 1 | C8: dea7e3dd0f
A9: BS | B9: 2 | C9: 044bf08836
A10: BS | B10: 4 | C10: 0928442a3a
A11: BS | B11: 5 | C11: 40ce1366f1
A12: BS | B12: 6 | C12: cca5db6c03
A13: BS | B13: 7 | C13: 661618e047
A14: BS | B14: 8 | C14: c41df4c63e
A15: BS | B15: 9 | C15: 2c33ef6c76
A16: BS | B16: 10 | C16: 057ed1a314
A17: BS | B17: 11 | C17: ba535bd804
A18: BS | B18: 12 | C18: c1d93463fa
A19: BS | B19: 13 | C19: cdc17a9918
... A192: 주석16 | B192: 11 | C192: 9acf933c3e

Sheet _f_검증요약
B2: • | H2: =IF(0+IF(LEFT(E7,5)="FALSE",1,0)+IF(LEFT(F7,5)="FALSE",1,0)+IF(LEFT(E8,5)="FALSE",1,0)+IF(LEFT(F8,5)="FALSE",1,0)+IF(LEFT(F9,5)="FALSE",1,0)+IF(LEFT(E10,5)="FALSE",1,0)+IF(LEFT(F10,5)="FALSE",1,0)+IF(LEFT(E11,5)="FALSE",1,0)+IF(LEFT(F11,5)="FALSE",1,0)+IF(LEFT(E15,5)="FALSE",1,0)+IF(LEFT(F15,5)="FALSE",1,0)+IF(LEFT(E16,5)="FALSE",1,0)+IF(LEFT(F16,5)="FALSE",1,0)+IF(LEFT(E17,5)="FALSE",1,0)+IF(LEFT(F17,5)="FALSE",1,0)+IF(LEFT(E18,5)="FALSE",1,0)+IF(LEFT(E19,5)="FALSE",1,0)+IF(LEFT(F19,5)="FALSE",1,0)+IF(LEFT(E20,5)="FALSE",1,0)+IF(LEFT(F20,5)="FALSE",1,0)+IF(LEFT(E21,5)="FALSE",1,0)+IF(LEFT(E22,5)="FALSE",1,0)+IF(LEFT(E23,5)="FALSE",1,0)+IF(LEFT(E24,5)="FALSE",1,0)+IF(LEFT(F24,5)="FALSE",1,0)+IF(LEFT(E25,5)="FALSE",1,0)+IF(LEFT(E26,5)="FALSE",1,0)+IF(LEFT(F26,5)="FALSE",1,0)+IF(LEFT(E27,5)="FALSE",1,0)+IF(LEFT(F27,5)="FALSE",1,0)+IF(LEFT(E28,5)="FALSE",1,0)+IF(LEFT(F28,5)="FALSE",1,0)=0,"이상 없음","불일치 "&(0+IF(LEFT(E7,5)="FALSE",1,0)+IF(LEFT(F7,5)="FALSE",1,0)+IF(LEFT(E8,5)="FALSE",1,0)+IF(LEFT(F8,5)="FALSE",1,0)+IF(LEFT(F9,5)="FALSE",1,0)+IF(LEFT(E10,5)="FALSE",1,0)+IF(LEFT(F10,5)="FALSE",1,0)+IF(LEFT(E11,5)="FALSE",1,0)+IF(LEFT(F11,5)="FALSE",1,0)+IF(LEFT(E15,5)="FALSE",1,0)+IF(LEFT(F15,5)="FALSE",1,0)+IF(LEFT(E16,5)="FALSE",1,0)+IF(LEFT(F16,5)="FALSE",1,0)+IF(LEFT(E17,5)="FALSE",1,0)+IF(LEFT(F17,5)="FALSE",1,0)+IF(LEFT(E18,5)="FALSE",1,0)+IF(LEFT(E19,5)="FALSE",1,0)+IF(LEFT(F19,5)="FALSE",1,0)+IF(LEFT(E20,5)="FALSE",1,0)+IF(LEFT(F20,5)="FALSE",1,0)+IF(LEFT(E21,5)="FALSE",1,0)+IF(LEFT(E22,5)="FALSE",1,0)+IF(LEFT(E23,5)="FALSE",1,0)+IF(LEFT(E24,5)="FALSE",1,0)+IF(LEFT(F24,5)="FALSE",1,0)+IF(LEFT(E25,5)="FALSE",1,0)+IF(LEFT(E26,5)="FALSE",1,0)+IF(LEFT(F26,5)="FALSE",1,0)+IF(LEFT(E27,5)="FALSE",1,0)+IF(LEFT(F27,5)="FALSE",1,0)+IF(LEFT(E28,5)="FALSE",1,0)+IF(LEFT(F28,5)="FALSE",1,0))&"건")
B3: •
B5: •
B6: • | C6: • | D6: • | E6: • | F6: •
B7: • | C7: • | D7: • | E7: =IF(ABS((BS!B21)-(BS!B43))<=0,TRUE,"FALSE ("&TEXT((BS!B21)-(BS!B43),"#,##0")&")") | F7: =IF(ABS((BS!C21)-(BS!C43))<=0,TRUE,"FALSE ("&TEXT((BS!C21)-(BS!C43),"#,##0")&")")
B8: • | C8: • | D8: • | E8: =IF(ABS((CF!B19)-(BS!B8))<=0,TRUE,"FALSE ("&TEXT((CF!B19)-(BS!B8),"#,##0")&")") | F8: =IF(ABS((CF!B18)-(BS!C8))<=0,TRUE,"FALSE ("&TEXT((CF!B18)-(BS!C8),"#,##0")&")")
B9: • | C9: • | D9: • | F9: =IF(ABS((CF!C19)-(CF!B18))<=0,TRUE,"FALSE ("&TEXT((CF!C19)-(CF!B18),"#,##0")&")")
B10: • | C10: • | D10: • | E10: =IF(ABS((PL!B29)-(CE!E9))<=0,TRUE,"FALSE ("&TEXT((PL!B29)-(CE!E9),"#,##0")&")") | F10: =IF(ABS((PL!C29)-(CE!E6))<=0,TRUE,"FALSE ("&TEXT((PL!C29)-(CE!E6),"#,##0")&")")
B11: • | C11: • | D11: • | E11: =IF(ABS((CE!E12)-(BS!B42))<=0,TRUE,"FALSE ("&TEXT((CE!E12)-(BS!B42),"#,##0")&")") | F11: =IF(ABS((CE!E8)-(BS!C42))<=0,TRUE,"FALSE ("&TEXT((CE!E8)-(BS!C42),"#,##0")&")")
B13: •
B14: • | C14: • | D14: • | E14: • | F14: •
B15: • | C15: • | D15: • | E15: =IF(ABS(ABS(ROUND((BS!B8)/1000,0))-ABS(주석4!B4))<=2,TRUE,"FALSE ("&TEXT(ABS(ROUND((BS!B8)/1000,0))-ABS(주석4!B4),"#,##0")&")") | F15: =IF(ABS(ABS(ROUND((BS!C8)/1000,0))-ABS(주석4!C4))<=2,TRUE,"FALSE ("&TEXT(ABS(ROUND((BS!C8)/1000,0))-ABS(주석4!C4),"#,##0")&")")
B16: • | C16: • | D16: • | E16: =IF(ABS(ABS((BS!B9))-ABS(주석5!B4))<=1,TRUE,"FALSE ("&TEXT(ABS((BS!B9))-ABS(주석5!B4),"#,##0")&")") | F16: =IF(ABS(ABS((BS!C9))-ABS(주석5!C4))<=1,TRUE,"FALSE ("&TEXT(ABS((BS!C9))-ABS(주석5!C4),"#,##0")&")")
B17: • | C17: • | D17: • | E17: =IF(ABS(ABS((BS!B10))-ABS(주석6!B4))<=1,TRUE,"FALSE ("&TEXT(ABS((BS!B10))-ABS(주석6!B4),"#,##0")&")") | F17: =IF(ABS(ABS((BS!C10))-ABS(주석6!C4))<=1,TRUE,"FALSE ("&TEXT(ABS((BS!C10))-ABS(주석6!C4),"#,##0")&")")
B18: • | C18: • | D18: • | E18: =IF(ABS(ABS((BS!B11))-ABS(주석6!B4))<=1,TRUE,"FALSE ("&TEXT(ABS((BS!B11))-ABS(주석6!B4),"#,##0")&")")
B19: • | C19: • | D19: • | E19: =IF(ABS(ABS((BS!B20))-ABS(주석6!B6))<=1,TRUE,"FALSE ("&TEXT(ABS((BS!B20))-ABS(주석6!B6),"#,##0")&")") | F19: =IF(ABS(ABS((BS!C20))-ABS(주석6!C6))<=1,TRUE,"FALSE ("&TEXT(ABS((BS!C20))-ABS(주석6!C6),"#,##0")&")")
B20: • | C20: • | D20: • | E20: =IF(ABS(ABS((BS!B27))-ABS(주석8!B4))<=1,TRUE,"FALSE ("&TEXT(ABS((BS!B27))-ABS(주석8!B4),"#,##0")&")") | F20: =IF(ABS(ABS((BS!C27))-ABS(주석8!C4))<=1,TRUE,"FALSE ("&TEXT(ABS((BS!C27))-ABS(주석8!C4),"#,##0")&")")
B21: • | C21: • | D21: • | E21: =IF(ABS(ABS((BS!B30))-ABS(주석9!B4))<=1,TRUE,"FALSE ("&TEXT(ABS((BS!B30))-ABS(주석9!B4),"#,##0")&")")
B22: • | C22: • | D22: • | E22: =IF(ABS(ABS((BS!B31))-ABS(주석9!B5))<=1,TRUE,"FALSE ("&TEXT(ABS((BS!B31))-ABS(주석9!B5),"#,##0")&")")
B23: • | C23: • | D23: • | E23: =IF(ABS(ABS((BS!B32))-ABS(주석9!B6))<=1,TRUE,"FALSE ("&TEXT(ABS((BS!B32))-ABS(주석9!B6),"#,##0")&")")
B24: • | C24: • | D24: • | E24: =IF(ABS(ABS((BS!B35))-ABS(주석10!B4))<=1,TRUE,"FALSE ("&TEXT(ABS((BS!B35))-ABS(주석10!B4),"#,##0")&")") | F24: =IF(ABS(ABS((BS!C35))-ABS(주석10!C4))<=1,TRUE,"FALSE ("&TEXT(ABS((BS!C35))-ABS(주석10!C4),"#,##0")&")")
B25: • | C25: • | D25: • | E25: =IF(ABS(ABS((BS!B39))-ABS(주석9!B7))<=1,TRUE,"FALSE ("&TEXT(ABS((BS!B39))-ABS(주석9!B7),"#,##0")&")")
B26: • | C26: • | D26: • | E26: =IF(ABS(ABS(ROUND((PL!B8)/1000,0))-ABS(주석13!B8))<=2,TRUE,"FALSE ("&TEXT(ABS(ROUND((PL!B8)/1000,0))-ABS(주석13!B8),"#,##0")&")") | F26: =IF(ABS(ABS(ROUND((PL!C8)/1000,0))-ABS(주석13!C8))<=2,TRUE,"FALSE ("&TEXT(ABS(ROUND((PL!C8)/1000,0))-ABS(주석13!C8),"#,##0")&")")
B27: • | C27: • | D27: • | E27: =IF(ABS(ABS(ROUND((PL!B10)/1000,0))-ABS(주석13!B4))<=2,TRUE,"FALSE ("&TEXT(ABS(ROUND((PL!B10)/1000,0))-ABS(주석13!B4),"#,##0")&")") | F27: =IF(ABS(ABS(ROUND((PL!C10)/1000,0))-ABS(주석13!C4))<=2,TRUE,"FALSE ("&TEXT(ABS(ROUND((PL!C10)/1000,0))-ABS(주석13!C4),"#,##0")&")")
B28: • | C28: • | D28: • | E28: =IF(ABS(ABS(ROUND((PL!B11)/1000,0))-ABS(주석13!B5))<=2,TRUE,"FALSE ("&TEXT(ABS(ROUND((PL!B11)/1000,0))-ABS(주석13!B5),"#,##0")&")") | F28: =IF(ABS(ABS(ROUND((PL!C11)/1000,0))-ABS(주석13!C5))<=2,TRUE,"FALSE ("&TEXT(ABS(ROUND((PL!C11)/1000,0))-ABS(주석13!C5),"#,##0")&")")
B30: •

Sheet _c_검증요약
A1: =IF(ISBLANK('검증요약'!A1),IF(LEFT('_f_검증요약'!A1,1)="=","M",""),IF(IFERROR(_xlfn.FORMULATEXT('검증요약'!A1),"")<>"",IF(_xlfn.FORMULATEXT('검증요약'!A1)<>'_f_검증요약'!A1,"M",""),IF(OR(LEFT('_f_검증요약'!A1,1)="=",'_f_검증요약'!A1=""),"M",""))) | B1: =IF(ISBLANK('검증요약'!B1),IF(LEFT('_f_검증요약'!B1,1)="=","M",""),IF(IFERROR(_xlfn.FORMULATEXT('검증요약'!B1),"")<>"",IF(_xlfn.FORMULATEXT('검증요약'!B1)<>'_f_검증요약'!B1,"M",""),IF(OR(LEFT('_f_검증요약'!B1,1)="=",'_f_검증요약'!B1=""),"M",""))) | C1: =IF(ISBLANK('검증요약'!C1),IF(LEFT('_f_검증요약'!C1,1)="=","M",""),IF(IFERROR(_xlfn.FORMULATEXT('검증요약'!C1),"")<>"",IF(_xlfn.FORMULATEXT('검증요약'!C1)<>'_f_검증요약'!C1,"M",""),IF(OR(LEFT('_f_검증요약'!C1,1)="=",'_f_검증요약'!C1=""),"M",""))) | D1: =IF(ISBLANK('검증요약'!D1),IF(LEFT('_f_검증요약'!D1,1)="=","M",""),IF(IFERROR(_xlfn.FORMULATEXT('검증요약'!D1),"")<>"",IF(_xlfn.FORMULATEXT('검증요약'!D1)<>'_f_검증요약'!D1,"M",""),IF(OR(LEFT('_f_검증요약'!D1,1)="=",'_f_검증요약'!D1=""),"M",""))) | E1: =IF(ISBLANK('검증요약'!E1),IF(LEFT('_f_검증요약'!E1,1)="=","M",""),IF(IFERROR(_xlfn.FORMULATEXT('검증요약'!E1),"")<>"",IF(_xlfn.FORMULATEXT('검증요약'!E1)<>'_f_검증요약'!E1,"M",""),IF(OR(LEFT('_f_검증요약'!E1,1)="=",'_f_검증요약'!E1=""),"M",""))) | F1: =IF(ISBLANK('검증요약'!F1),IF(LEFT('_f_검증요약'!F1,1)="=","M",""),IF(IFERROR(_xlfn.FORMULATEXT('검증요약'!F1),"")<>"",IF(_xlfn.FORMULATEXT('검증요약'!F1)<>'_f_검증요약'!F1,"M",""),IF(OR(LEFT('_f_검증요약'!F1,1)="=",'_f_검증요약'!F1=""),"M",""))) | G1: =IF(ISBLANK('검증요약'!G1),IF(LEFT('_f_검증요약'!G1,1)="=","M",""),IF(IFERROR(_xlfn.FORMULATEXT('검증요약'!G1),"")<>"",IF(_xlfn.FORMULATEXT('검증요약'!G1)<>'_f_검증요약'!G1,"M",""),IF(OR(LEFT('_f_검증요약'!G1,1)="=",'_f_검증요약'!G1=""),"M",""))) | H1: =IF(ISBLANK('검증요약'!H1),IF(LEFT('_f_검증요약'!H1,1)="=","M",""),IF(IFERROR(_xlfn.FORMULATEXT('검증요약'!H1),"")<>"",IF(_xlfn.FORMULATEXT('검증요약'!H1)<>'_f_검증요약'!H1,"M",""),IF(OR(LEFT('_f_검증요약'!H1,1)="=",'_f_검증요약'!H1=""),"M",""))) | ... P1: =IF(ISBLANK('검증요약'!P1),IF(LEFT('_f_검증요약'!P1,1)="=","M",""),IF(IFERROR(_xlfn.FORMULATEXT('검증요약'!P1),"")<>"",IF(_xlfn.FORMULATEXT('검증요약'!P1)<>'_f_검증요약'!P1,"M",""),IF(OR(LEFT('_f_검증요약'!P1,1)="=",'_f_검증요약'!P1=""),"M","")))
A2: =IF(ISBLANK('검증요약'!A2),IF(LEFT('_f_검증요약'!A2,1)="=","M",""),IF(IFERROR(_xlfn.FORMULATEXT('검증요약'!A2),"")<>"",IF(_xlfn.FORMULATEXT('검증요약'!A2)<>'_f_검증요약'!A2,"M",""),IF(OR(LEFT('_f_검증요약'!A2,1)="=",'_f_검증요약'!A2=""),"M",""))) | B2: =IF(ISBLANK('검증요약'!B2),IF(LEFT('_f_검증요약'!B2,1)="=","M",""),IF(IFERROR(_xlfn.FORMULATEXT('검증요약'!B2),"")<>"",IF(_xlfn.FORMULATEXT('검증요약'!B2)<>'_f_검증요약'!B2,"M",""),IF(OR(LEFT('_f_검증요약'!B2,1)="=",'_f_검증요약'!B2=""),"M",""))) | C2: =IF(ISBLANK('검증요약'!C2),IF(LEFT('_f_검증요약'!C2,1)="=","M",""),IF(IFERROR(_xlfn.FORMULATEXT('검증요약'!C2),"")<>"",IF(_xlfn.FORMULATEXT('검증요약'!C2)<>'_f_검증요약'!C2,"M",""),IF(OR(LEFT('_f_검증요약'!C2,1)="=",'_f_검증요약'!C2=""),"M",""))) | D2: =IF(ISBLANK('검증요약'!D2),IF(LEFT('_f_검증요약'!D2,1)="=","M",""),IF(IFERROR(_xlfn.FORMULATEXT('검증요약'!D2),"")<>"",IF(_xlfn.FORMULATEXT('검증요약'!D2)<>'_f_검증요약'!D2,"M",""),IF(OR(LEFT('_f_검증요약'!D2,1)="=",'_f_검증요약'!D2=""),"M",""))) | E2: =IF(ISBLANK('검증요약'!E2),IF(LEFT('_f_검증요약'!E2,1)="=","M",""),IF(IFERROR(_xlfn.FORMULATEXT('검증요약'!E2),"")<>"",IF(_xlfn.FORMULATEXT('검증요약'!E2)<>'_f_검증요약'!E2,"M",""),IF(OR(LEFT('_f_검증요약'!E2,1)="=",'_f_검증요약'!E2=""),"M",""))) | F2: =IF(ISBLANK('검증요약'!F2),IF(LEFT('_f_검증요약'!F2,1)="=","M",""),IF(IFERROR(_xlfn.FORMULATEXT('검증요약'!F2),"")<>"",IF(_xlfn.FORMULATEXT('검증요약'!F2)<>'_f_검증요약'!F2,"M",""),IF(OR(LEFT('_f_검증요약'!F2,1)="=",'_f_검증요약'!F2=""),"M",""))) | G2: =IF(ISBLANK('검증요약'!G2),IF(LEFT('_f_검증요약'!G2,1)="=","M",""),IF(IFERROR(_xlfn.FORMULATEXT('검증요약'!G2),"")<>"",IF(_xlfn.FORMULATEXT('검증요약'!G2)<>'_f_검증요약'!G2,"M",""),IF(OR(LEFT('_f_검증요약'!G2,1)="=",'_f_검증요약'!G2=""),"M",""))) | H2: =IF(ISBLANK('검증요약'!H2),IF(LEFT('_f_검증요약'!H2,1)="=","M",""),IF(IFERROR(_xlfn.FORMULATEXT('검증요약'!H2),"")<>"",IF(_xlfn.FORMULATEXT('검증요약'!H2)<>'_f_검증요약'!H2,"M",""),IF(OR(LEFT('_f_검증요약'!H2,1)="=",'_f_검증요약'!H2=""),"M",""))) | ... P2: =IF(ISBLANK('검증요약'!P2),IF(LEFT('_f_검증요약'!P2,1)="=","M",""),IF(IFERROR(_xlfn.FORMULATEXT('검증요약'!P2),"")<>"",IF(_xlfn.FORMULATEXT('검증요약'!P2)<>'_f_검증요약'!P2,"M",""),IF(OR(LEFT('_f_검증요약'!P2,1)="=",'_f_검증요약'!P2=""),"M","")))
A3: =IF(ISBLANK('검증요약'!A3),IF(LEFT('_f_검증요약'!A3,1)="=","M",""),IF(IFERROR(_xlfn.FORMULATEXT('검증요약'!A3),"")<>"",IF(_xlfn.FORMULATEXT('검증요약'!A3)<>'_f_검증요약'!A3,"M",""),IF(OR(LEFT('_f_검증요약'!A3,1)="=",'_f_검증요약'!A3=""),"M",""))) | B3: =IF(ISBLANK('검증요약'!B3),IF(LEFT('_f_검증요약'!B3,1)="=","M",""),IF(IFERROR(_xlfn.FORMULATEXT('검증요약'!B3),"")<>"",IF(_xlfn.FORMULATEXT('검증요약'!B3)<>'_f_검증요약'!B3,"M",""),IF(OR(LEFT('_f_검증요약'!B3,1)="=",'_f_검증요약'!B3=""),"M",""))) | C3: =IF(ISBLANK('검증요약'!C3),IF(LEFT('_f_검증요약'!C3,1)="=","M",""),IF(IFERROR(_xlfn.FORMULATEXT('검증요약'!C3),"")<>"",IF(_xlfn.FORMULATEXT('검증요약'!C3)<>'_f_검증요약'!C3,"M",""),IF(OR(LEFT('_f_검증요약'!C3,1)="=",'_f_검증요약'!C3=""),"M",""))) | D3: =IF(ISBLANK('검증요약'!D3),IF(LEFT('_f_검증요약'!D3,1)="=","M",""),IF(IFERROR(_xlfn.FORMULATEXT('검증요약'!D3),"")<>"",IF(_xlfn.FORMULATEXT('검증요약'!D3)<>'_f_검증요약'!D3,"M",""),IF(OR(LEFT('_f_검증요약'!D3,1)="=",'_f_검증요약'!D3=""),"M",""))) | E3: =IF(ISBLANK('검증요약'!E3),IF(LEFT('_f_검증요약'!E3,1)="=","M",""),IF(IFERROR(_xlfn.FORMULATEXT('검증요약'!E3),"")<>"",IF(_xlfn.FORMULATEXT('검증요약'!E3)<>'_f_검증요약'!E3,"M",""),IF(OR(LEFT('_f_검증요약'!E3,1)="=",'_f_검증요약'!E3=""),"M",""))) | F3: =IF(ISBLANK('검증요약'!F3),IF(LEFT('_f_검증요약'!F3,1)="=","M",""),IF(IFERROR(_xlfn.FORMULATEXT('검증요약'!F3),"")<>"",IF(_xlfn.FORMULATEXT('검증요약'!F3)<>'_f_검증요약'!F3,"M",""),IF(OR(LEFT('_f_검증요약'!F3,1)="=",'_f_검증요약'!F3=""),"M",""))) | G3: =IF(ISBLANK('검증요약'!G3),IF(LEFT('_f_검증요약'!G3,1)="=","M",""),IF(IFERROR(_xlfn.FORMULATEXT('검증요약'!G3),"")<>"",IF(_xlfn.FORMULATEXT('검증요약'!G3)<>'_f_검증요약'!G3,"M",""),IF(OR(LEFT('_f_검증요약'!G3,1)="=",'_f_검증요약'!G3=""),"M",""))) | H3: =IF(ISBLANK('검증요약'!H3),IF(LEFT('_f_검증요약'!H3,1)="=","M",""),IF(IFERROR(_xlfn.FORMULATEXT('검증요약'!H3),"")<>"",IF(_xlfn.FORMULATEXT('검증요약'!H3)<>'_f_검증요약'!H3,"M",""),IF(OR(LEFT('_f_검증요약'!H3,1)="=",'_f_검증요약'!H3=""),"M",""))) | ... P3: =IF(ISBLANK('검증요약'!P3),IF(LEFT('_f_검증요약'!P3,1)="=","M",""),IF(IFERROR(_xlfn.FORMULATEXT('검증요약'!P3),"")<>"",IF(_xlfn.FORMULATEXT('검증요약'!P3)<>'_f_검증요약'!P3,"M",""),IF(OR(LEFT('_f_검증요약'!P3,1)="=",'_f_검증요약'!P3=""),"M","")))
A4: =IF(ISBLANK('검증요약'!A4),IF(LEFT('_f_검증요약'!A4,1)="=","M",""),IF(IFERROR(_xlfn.FORMULATEXT('검증요약'!A4),"")<>"",IF(_xlfn.FORMULATEXT('검증요약'!A4)<>'_f_검증요약'!A4,"M",""),IF(OR(LEFT('_f_검증요약'!A4,1)="=",'_f_검증요약'!A4=""),"M",""))) | B4: =IF(ISBLANK('검증요약'!B4),IF(LEFT('_f_검증요약'!B4,1)="=","M",""),IF(IFERROR(_xlfn.FORMULATEXT('검증요약'!B4),"")<>"",IF(_xlfn.FORMULATEXT('검증요약'!B4)<>'_f_검증요약'!B4,"M",""),IF(OR(LEFT('_f_검증요약'!B4,1)="=",'_f_검증요약'!B4=""),"M",""))) | C4: =IF(ISBLANK('검증요약'!C4),IF(LEFT('_f_검증요약'!C4,1)="=","M",""),IF(IFERROR(_xlfn.FORMULATEXT('검증요약'!C4),"")<>"",IF(_xlfn.FORMULATEXT('검증요약'!C4)<>'_f_검증요약'!C4,"M",""),IF(OR(LEFT('_f_검증요약'!C4,1)="=",'_f_검증요약'!C4=""),"M",""))) | D4: =IF(ISBLANK('검증요약'!D4),IF(LEFT('_f_검증요약'!D4,1)="=","M",""),IF(IFERROR(_xlfn.FORMULATEXT('검증요약'!D4),"")<>"",IF(_xlfn.FORMULATEXT('검증요약'!D4)<>'_f_검증요약'!D4,"M",""),IF(OR(LEFT('_f_검증요약'!D4,1)="=",'_f_검증요약'!D4=""),"M",""))) | E4: =IF(ISBLANK('검증요약'!E4),IF(LEFT('_f_검증요약'!E4,1)="=","M",""),IF(IFERROR(_xlfn.FORMULATEXT('검증요약'!E4),"")<>"",IF(_xlfn.FORMULATEXT('검증요약'!E4)<>'_f_검증요약'!E4,"M",""),IF(OR(LEFT('_f_검증요약'!E4,1)="=",'_f_검증요약'!E4=""),"M",""))) | F4: =IF(ISBLANK('검증요약'!F4),IF(LEFT('_f_검증요약'!F4,1)="=","M",""),IF(IFERROR(_xlfn.FORMULATEXT('검증요약'!F4),"")<>"",IF(_xlfn.FORMULATEXT('검증요약'!F4)<>'_f_검증요약'!F4,"M",""),IF(OR(LEFT('_f_검증요약'!F4,1)="=",'_f_검증요약'!F4=""),"M",""))) | G4: =IF(ISBLANK('검증요약'!G4),IF(LEFT('_f_검증요약'!G4,1)="=","M",""),IF(IFERROR(_xlfn.FORMULATEXT('검증요약'!G4),"")<>"",IF(_xlfn.FORMULATEXT('검증요약'!G4)<>'_f_검증요약'!G4,"M",""),IF(OR(LEFT('_f_검증요약'!G4,1)="=",'_f_검증요약'!G4=""),"M",""))) | H4: =IF(ISBLANK('검증요약'!H4),IF(LEFT('_f_검증요약'!H4,1)="=","M",""),IF(IFERROR(_xlfn.FORMULATEXT('검증요약'!H4),"")<>"",IF(_xlfn.FORMULATEXT('검증요약'!H4)<>'_f_검증요약'!H4,"M",""),IF(OR(LEFT('_f_검증요약'!H4,1)="=",'_f_검증요약'!H4=""),"M",""))) | ... P4: =IF(ISBLANK('검증요약'!P4),IF(LEFT('_f_검증요약'!P4,1)="=","M",""),IF(IFERROR(_xlfn.FORMULATEXT('검증요약'!P4),"")<>"",IF(_xlfn.FORMULATEXT('검증요약'!P4)<>'_f_검증요약'!P4,"M",""),IF(OR(LEFT('_f_검증요약'!P4,1)="=",'_f_검증요약'!P4=""),"M","")))
A5: =IF(ISBLANK('검증요약'!A5),IF(LEFT('_f_검증요약'!A5,1)="=","M",""),IF(IFERROR(_xlfn.FORMULATEXT('검증요약'!A5),"")<>"",IF(_xlfn.FORMULATEXT('검증요약'!A5)<>'_f_검증요약'!A5,"M",""),IF(OR(LEFT('_f_검증요약'!A5,1)="=",'_f_검증요약'!A5=""),"M",""))) | B5: =IF(ISBLANK('검증요약'!B5),IF(LEFT('_f_검증요약'!B5,1)="=","M",""),IF(IFERROR(_xlfn.FORMULATEXT('검증요약'!B5),"")<>"",IF(_xlfn.FORMULATEXT('검증요약'!B5)<>'_f_검증요약'!B5,"M",""),IF(OR(LEFT('_f_검증요약'!B5,1)="=",'_f_검증요약'!B5=""),"M",""))) | C5: =IF(ISBLANK('검증요약'!C5),IF(LEFT('_f_검증요약'!C5,1)="=","M",""),IF(IFERROR(_xlfn.FORMULATEXT('검증요약'!C5),"")<>"",IF(_xlfn.FORMULATEXT('검증요약'!C5)<>'_f_검증요약'!C5,"M",""),IF(OR(LEFT('_f_검증요약'!C5,1)="=",'_f_검증요약'!C5=""),"M",""))) | D5: =IF(ISBLANK('검증요약'!D5),IF(LEFT('_f_검증요약'!D5,1)="=","M",""),IF(IFERROR(_xlfn.FORMULATEXT('검증요약'!D5),"")<>"",IF(_xlfn.FORMULATEXT('검증요약'!D5)<>'_f_검증요약'!D5,"M",""),IF(OR(LEFT('_f_검증요약'!D5,1)="=",'_f_검증요약'!D5=""),"M",""))) | E5: =IF(ISBLANK('검증요약'!E5),IF(LEFT('_f_검증요약'!E5,1)="=","M",""),IF(IFERROR(_xlfn.FORMULATEXT('검증요약'!E5),"")<>"",IF(_xlfn.FORMULATEXT('검증요약'!E5)<>'_f_검증요약'!E5,"M",""),IF(OR(LEFT('_f_검증요약'!E5,1)="=",'_f_검증요약'!E5=""),"M",""))) | F5: =IF(ISBLANK('검증요약'!F5),IF(LEFT('_f_검증요약'!F5,1)="=","M",""),IF(IFERROR(_xlfn.FORMULATEXT('검증요약'!F5),"")<>"",IF(_xlfn.FORMULATEXT('검증요약'!F5)<>'_f_검증요약'!F5,"M",""),IF(OR(LEFT('_f_검증요약'!F5,1)="=",'_f_검증요약'!F5=""),"M",""))) | G5: =IF(ISBLANK('검증요약'!G5),IF(LEFT('_f_검증요약'!G5,1)="=","M",""),IF(IFERROR(_xlfn.FORMULATEXT('검증요약'!G5),"")<>"",IF(_xlfn.FORMULATEXT('검증요약'!G5)<>'_f_검증요약'!G5,"M",""),IF(OR(LEFT('_f_검증요약'!G5,1)="=",'_f_검증요약'!G5=""),"M",""))) | H5: =IF(ISBLANK('검증요약'!H5),IF(LEFT('_f_검증요약'!H5,1)="=","M",""),IF(IFERROR(_xlfn.FORMULATEXT('검증요약'!H5),"")<>"",IF(_xlfn.FORMULATEXT('검증요약'!H5)<>'_f_검증요약'!H5,"M",""),IF(OR(LEFT('_f_검증요약'!H5,1)="=",'_f_검증요약'!H5=""),"M",""))) | ... P5: =IF(ISBLANK('검증요약'!P5),IF(LEFT('_f_검증요약'!P5,1)="=","M",""),IF(IFERROR(_xlfn.FORMULATEXT('검증요약'!P5),"")<>"",IF(_xlfn.FORMULATEXT('검증요약'!P5)<>'_f_검증요약'!P5,"M",""),IF(OR(LEFT('_f_검증요약'!P5,1)="=",'_f_검증요약'!P5=""),"M","")))
A6: =IF(ISBLANK('검증요약'!A6),IF(LEFT('_f_검증요약'!A6,1)="=","M",""),IF(IFERROR(_xlfn.FORMULATEXT('검증요약'!A6),"")<>"",IF(_xlfn.FORMULATEXT('검증요약'!A6)<>'_f_검증요약'!A6,"M",""),IF(OR(LEFT('_f_검증요약'!A6,1)="=",'_f_검증요약'!A6=""),"M",""))) | B6: =IF(ISBLANK('검증요약'!B6),IF(LEFT('_f_검증요약'!B6,1)="=","M",""),IF(IFERROR(_xlfn.FORMULATEXT('검증요약'!B6),"")<>"",IF(_xlfn.FORMULATEXT('검증요약'!B6)<>'_f_검증요약'!B6,"M",""),IF(OR(LEFT('_f_검증요약'!B6,1)="=",'_f_검증요약'!B6=""),"M",""))) | C6: =IF(ISBLANK('검증요약'!C6),IF(LEFT('_f_검증요약'!C6,1)="=","M",""),IF(IFERROR(_xlfn.FORMULATEXT('검증요약'!C6),"")<>"",IF(_xlfn.FORMULATEXT('검증요약'!C6)<>'_f_검증요약'!C6,"M",""),IF(OR(LEFT('_f_검증요약'!C6,1)="=",'_f_검증요약'!C6=""),"M",""))) | D6: =IF(ISBLANK('검증요약'!D6),IF(LEFT('_f_검증요약'!D6,1)="=","M",""),IF(IFERROR(_xlfn.FORMULATEXT('검증요약'!D6),"")<>"",IF(_xlfn.FORMULATEXT('검증요약'!D6)<>'_f_검증요약'!D6,"M",""),IF(OR(LEFT('_f_검증요약'!D6,1)="=",'_f_검증요약'!D6=""),"M",""))) | E6: =IF(ISBLANK('검증요약'!E6),IF(LEFT('_f_검증요약'!E6,1)="=","M",""),IF(IFERROR(_xlfn.FORMULATEXT('검증요약'!E6),"")<>"",IF(_xlfn.FORMULATEXT('검증요약'!E6)<>'_f_검증요약'!E6,"M",""),IF(OR(LEFT('_f_검증요약'!E6,1)="=",'_f_검증요약'!E6=""),"M",""))) | F6: =IF(ISBLANK('검증요약'!F6),IF(LEFT('_f_검증요약'!F6,1)="=","M",""),IF(IFERROR(_xlfn.FORMULATEXT('검증요약'!F6),"")<>"",IF(_xlfn.FORMULATEXT('검증요약'!F6)<>'_f_검증요약'!F6,"M",""),IF(OR(LEFT('_f_검증요약'!F6,1)="=",'_f_검증요약'!F6=""),"M",""))) | G6: =IF(ISBLANK('검증요약'!G6),IF(LEFT('_f_검증요약'!G6,1)="=","M",""),IF(IFERROR(_xlfn.FORMULATEXT('검증요약'!G6),"")<>"",IF(_xlfn.FORMULATEXT('검증요약'!G6)<>'_f_검증요약'!G6,"M",""),IF(OR(LEFT('_f_검증요약'!G6,1)="=",'_f_검증요약'!G6=""),"M",""))) | H6: =IF(ISBLANK('검증요약'!H6),IF(LEFT('_f_검증요약'!H6,1)="=","M",""),IF(IFERROR(_xlfn.FORMULATEXT('검증요약'!H6),"")<>"",IF(_xlfn.FORMULATEXT('검증요약'!H6)<>'_f_검증요약'!H6,"M",""),IF(OR(LEFT('_f_검증요약'!H6,1)="=",'_f_검증요약'!H6=""),"M",""))) | ... P6: =IF(ISBLANK('검증요약'!P6),IF(LEFT('_f_검증요약'!P6,1)="=","M",""),IF(IFERROR(_xlfn.FORMULATEXT('검증요약'!P6),"")<>"",IF(_xlfn.FORMULATEXT('검증요약'!P6)<>'_f_검증요약'!P6,"M",""),IF(OR(LEFT('_f_검증요약'!P6,1)="=",'_f_검증요약'!P6=""),"M","")))
A7: =IF(ISBLANK('검증요약'!A7),IF(LEFT('_f_검증요약'!A7,1)="=","M",""),IF(IFERROR(_xlfn.FORMULATEXT('검증요약'!A7),"")<>"",IF(_xlfn.FORMULATEXT('검증요약'!A7)<>'_f_검증요약'!A7,"M",""),IF(OR(LEFT('_f_검증요약'!A7,1)="=",'_f_검증요약'!A7=""),"M",""))) | B7: =IF(ISBLANK('검증요약'!B7),IF(LEFT('_f_검증요약'!B7,1)="=","M",""),IF(IFERROR(_xlfn.FORMULATEXT('검증요약'!B7),"")<>"",IF(_xlfn.FORMULATEXT('검증요약'!B7)<>'_f_검증요약'!B7,"M",""),IF(OR(LEFT('_f_검증요약'!B7,1)="=",'_f_검증요약'!B7=""),"M",""))) | C7: =IF(ISBLANK('검증요약'!C7),IF(LEFT('_f_검증요약'!C7,1)="=","M",""),IF(IFERROR(_xlfn.FORMULATEXT('검증요약'!C7),"")<>"",IF(_xlfn.FORMULATEXT('검증요약'!C7)<>'_f_검증요약'!C7,"M",""),IF(OR(LEFT('_f_검증요약'!C7,1)="=",'_f_검증요약'!C7=""),"M",""))) | D7: =IF(ISBLANK('검증요약'!D7),IF(LEFT('_f_검증요약'!D7,1)="=","M",""),IF(IFERROR(_xlfn.FORMULATEXT('검증요약'!D7),"")<>"",IF(_xlfn.FORMULATEXT('검증요약'!D7)<>'_f_검증요약'!D7,"M",""),IF(OR(LEFT('_f_검증요약'!D7,1)="=",'_f_검증요약'!D7=""),"M",""))) | E7: =IF(ISBLANK('검증요약'!E7),IF(LEFT('_f_검증요약'!E7,1)="=","M",""),IF(IFERROR(_xlfn.FORMULATEXT('검증요약'!E7),"")<>"",IF(_xlfn.FORMULATEXT('검증요약'!E7)<>'_f_검증요약'!E7,"M",""),IF(OR(LEFT('_f_검증요약'!E7,1)="=",'_f_검증요약'!E7=""),"M",""))) | F7: =IF(ISBLANK('검증요약'!F7),IF(LEFT('_f_검증요약'!F7,1)="=","M",""),IF(IFERROR(_xlfn.FORMULATEXT('검증요약'!F7),"")<>"",IF(_xlfn.FORMULATEXT('검증요약'!F7)<>'_f_검증요약'!F7,"M",""),IF(OR(LEFT('_f_검증요약'!F7,1)="=",'_f_검증요약'!F7=""),"M",""))) | G7: =IF(ISBLANK('검증요약'!G7),IF(LEFT('_f_검증요약'!G7,1)="=","M",""),IF(IFERROR(_xlfn.FORMULATEXT('검증요약'!G7),"")<>"",IF(_xlfn.FORMULATEXT('검증요약'!G7)<>'_f_검증요약'!G7,"M",""),IF(OR(LEFT('_f_검증요약'!G7,1)="=",'_f_검증요약'!G7=""),"M",""))) | H7: =IF(ISBLANK('검증요약'!H7),IF(LEFT('_f_검증요약'!H7,1)="=","M",""),IF(IFERROR(_xlfn.FORMULATEXT('검증요약'!H7),"")<>"",IF(_xlfn.FORMULATEXT('검증요약'!H7)<>'_f_검증요약'!H7,"M",""),IF(OR(LEFT('_f_검증요약'!H7,1)="=",'_f_검증요약'!H7=""),"M",""))) | ... P7: =IF(ISBLANK('검증요약'!P7),IF(LEFT('_f_검증요약'!P7,1)="=","M",""),IF(IFERROR(_xlfn.FORMULATEXT('검증요약'!P7),"")<>"",IF(_xlfn.FORMULATEXT('검증요약'!P7)<>'_f_검증요약'!P7,"M",""),IF(OR(LEFT('_f_검증요약'!P7,1)="=",'_f_검증요약'!P7=""),"M","")))
A8: =IF(ISBLANK('검증요약'!A8),IF(LEFT('_f_검증요약'!A8,1)="=","M",""),IF(IFERROR(_xlfn.FORMULATEXT('검증요약'!A8),"")<>"",IF(_xlfn.FORMULATEXT('검증요약'!A8)<>'_f_검증요약'!A8,"M",""),IF(OR(LEFT('_f_검증요약'!A8,1)="=",'_f_검증요약'!A8=""),"M",""))) | B8: =IF(ISBLANK('검증요약'!B8),IF(LEFT('_f_검증요약'!B8,1)="=","M",""),IF(IFERROR(_xlfn.FORMULATEXT('검증요약'!B8),"")<>"",IF(_xlfn.FORMULATEXT('검증요약'!B8)<>'_f_검증요약'!B8,"M",""),IF(OR(LEFT('_f_검증요약'!B8,1)="=",'_f_검증요약'!B8=""),"M",""))) | C8: =IF(ISBLANK('검증요약'!C8),IF(LEFT('_f_검증요약'!C8,1)="=","M",""),IF(IFERROR(_xlfn.FORMULATEXT('검증요약'!C8),"")<>"",IF(_xlfn.FORMULATEXT('검증요약'!C8)<>'_f_검증요약'!C8,"M",""),IF(OR(LEFT('_f_검증요약'!C8,1)="=",'_f_검증요약'!C8=""),"M",""))) | D8: =IF(ISBLANK('검증요약'!D8),IF(LEFT('_f_검증요약'!D8,1)="=","M",""),IF(IFERROR(_xlfn.FORMULATEXT('검증요약'!D8),"")<>"",IF(_xlfn.FORMULATEXT('검증요약'!D8)<>'_f_검증요약'!D8,"M",""),IF(OR(LEFT('_f_검증요약'!D8,1)="=",'_f_검증요약'!D8=""),"M",""))) | E8: =IF(ISBLANK('검증요약'!E8),IF(LEFT('_f_검증요약'!E8,1)="=","M",""),IF(IFERROR(_xlfn.FORMULATEXT('검증요약'!E8),"")<>"",IF(_xlfn.FORMULATEXT('검증요약'!E8)<>'_f_검증요약'!E8,"M",""),IF(OR(LEFT('_f_검증요약'!E8,1)="=",'_f_검증요약'!E8=""),"M",""))) | F8: =IF(ISBLANK('검증요약'!F8),IF(LEFT('_f_검증요약'!F8,1)="=","M",""),IF(IFERROR(_xlfn.FORMULATEXT('검증요약'!F8),"")<>"",IF(_xlfn.FORMULATEXT('검증요약'!F8)<>'_f_검증요약'!F8,"M",""),IF(OR(LEFT('_f_검증요약'!F8,1)="=",'_f_검증요약'!F8=""),"M",""))) | G8: =IF(ISBLANK('검증요약'!G8),IF(LEFT('_f_검증요약'!G8,1)="=","M",""),IF(IFERROR(_xlfn.FORMULATEXT('검증요약'!G8),"")<>"",IF(_xlfn.FORMULATEXT('검증요약'!G8)<>'_f_검증요약'!G8,"M",""),IF(OR(LEFT('_f_검증요약'!G8,1)="=",'_f_검증요약'!G8=""),"M",""))) | H8: =IF(ISBLANK('검증요약'!H8),IF(LEFT('_f_검증요약'!H8,1)="=","M",""),IF(IFERROR(_xlfn.FORMULATEXT('검증요약'!H8),"")<>"",IF(_xlfn.FORMULATEXT('검증요약'!H8)<>'_f_검증요약'!H8,"M",""),IF(OR(LEFT('_f_검증요약'!H8,1)="=",'_f_검증요약'!H8=""),"M",""))) | ... P8: =IF(ISBLANK('검증요약'!P8),IF(LEFT('_f_검증요약'!P8,1)="=","M",""),IF(IFERROR(_xlfn.FORMULATEXT('검증요약'!P8),"")<>"",IF(_xlfn.FORMULATEXT('검증요약'!P8)<>'_f_검증요약'!P8,"M",""),IF(OR(LEFT('_f_검증요약'!P8,1)="=",'_f_검증요약'!P8=""),"M","")))
A9: =IF(ISBLANK('검증요약'!A9),IF(LEFT('_f_검증요약'!A9,1)="=","M",""),IF(IFERROR(_xlfn.FORMULATEXT('검증요약'!A9),"")<>"",IF(_xlfn.FORMULATEXT('검증요약'!A9)<>'_f_검증요약'!A9,"M",""),IF(OR(LEFT('_f_검증요약'!A9,1)="=",'_f_검증요약'!A9=""),"M",""))) | B9: =IF(ISBLANK('검증요약'!B9),IF(LEFT('_f_검증요약'!B9,1)="=","M",""),IF(IFERROR(_xlfn.FORMULATEXT('검증요약'!B9),"")<>"",IF(_xlfn.FORMULATEXT('검증요약'!B9)<>'_f_검증요약'!B9,"M",""),IF(OR(LEFT('_f_검증요약'!B9,1)="=",'_f_검증요약'!B9=""),"M",""))) | C9: =IF(ISBLANK('검증요약'!C9),IF(LEFT('_f_검증요약'!C9,1)="=","M",""),IF(IFERROR(_xlfn.FORMULATEXT('검증요약'!C9),"")<>"",IF(_xlfn.FORMULATEXT('검증요약'!C9)<>'_f_검증요약'!C9,"M",""),IF(OR(LEFT('_f_검증요약'!C9,1)="=",'_f_검증요약'!C9=""),"M",""))) | D9: =IF(ISBLANK('검증요약'!D9),IF(LEFT('_f_검증요약'!D9,1)="=","M",""),IF(IFERROR(_xlfn.FORMULATEXT('검증요약'!D9),"")<>"",IF(_xlfn.FORMULATEXT('검증요약'!D9)<>'_f_검증요약'!D9,"M",""),IF(OR(LEFT('_f_검증요약'!D9,1)="=",'_f_검증요약'!D9=""),"M",""))) | E9: =IF(ISBLANK('검증요약'!E9),IF(LEFT('_f_검증요약'!E9,1)="=","M",""),IF(IFERROR(_xlfn.FORMULATEXT('검증요약'!E9),"")<>"",IF(_xlfn.FORMULATEXT('검증요약'!E9)<>'_f_검증요약'!E9,"M",""),IF(OR(LEFT('_f_검증요약'!E9,1)="=",'_f_검증요약'!E9=""),"M",""))) | F9: =IF(ISBLANK('검증요약'!F9),IF(LEFT('_f_검증요약'!F9,1)="=","M",""),IF(IFERROR(_xlfn.FORMULATEXT('검증요약'!F9),"")<>"",IF(_xlfn.FORMULATEXT('검증요약'!F9)<>'_f_검증요약'!F9,"M",""),IF(OR(LEFT('_f_검증요약'!F9,1)="=",'_f_검증요약'!F9=""),"M",""))) | G9: =IF(ISBLANK('검증요약'!G9),IF(LEFT('_f_검증요약'!G9,1)="=","M",""),IF(IFERROR(_xlfn.FORMULATEXT('검증요약'!G9),"")<>"",IF(_xlfn.FORMULATEXT('검증요약'!G9)<>'_f_검증요약'!G9,"M",""),IF(OR(LEFT('_f_검증요약'!G9,1)="=",'_f_검증요약'!G9=""),"M",""))) | H9: =IF(ISBLANK('검증요약'!H9),IF(LEFT('_f_검증요약'!H9,1)="=","M",""),IF(IFERROR(_xlfn.FORMULATEXT('검증요약'!H9),"")<>"",IF(_xlfn.FORMULATEXT('검증요약'!H9)<>'_f_검증요약'!H9,"M",""),IF(OR(LEFT('_f_검증요약'!H9,1)="=",'_f_검증요약'!H9=""),"M",""))) | ... P9: =IF(ISBLANK('검증요약'!P9),IF(LEFT('_f_검증요약'!P9,1)="=","M",""),IF(IFERROR(_xlfn.FORMULATEXT('검증요약'!P9),"")<>"",IF(_xlfn.FORMULATEXT('검증요약'!P9)<>'_f_검증요약'!P9,"M",""),IF(OR(LEFT('_f_검증요약'!P9,1)="=",'_f_검증요약'!P9=""),"M","")))
A10: =IF(ISBLANK('검증요약'!A10),IF(LEFT('_f_검증요약'!A10,1)="=","M",""),IF(IFERROR(_xlfn.FORMULATEXT('검증요약'!A10),"")<>"",IF(_xlfn.FORMULATEXT('검증요약'!A10)<>'_f_검증요약'!A10,"M",""),IF(OR(LEFT('_f_검증요약'!A10,1)="=",'_f_검증요약'!A10=""),"M",""))) | B10: =IF(ISBLANK('검증요약'!B10),IF(LEFT('_f_검증요약'!B10,1)="=","M",""),IF(IFERROR(_xlfn.FORMULATEXT('검증요약'!B10),"")<>"",IF(_xlfn.FORMULATEXT('검증요약'!B10)<>'_f_검증요약'!B10,"M",""),IF(OR(LEFT('_f_검증요약'!B10,1)="=",'_f_검증요약'!B10=""),"M",""))) | C10: =IF(ISBLANK('검증요약'!C10),IF(LEFT('_f_검증요약'!C10,1)="=","M",""),IF(IFERROR(_xlfn.FORMULATEXT('검증요약'!C10),"")<>"",IF(_xlfn.FORMULATEXT('검증요약'!C10)<>'_f_검증요약'!C10,"M",""),IF(OR(LEFT('_f_검증요약'!C10,1)="=",'_f_검증요약'!C10=""),"M",""))) | D10: =IF(ISBLANK('검증요약'!D10),IF(LEFT('_f_검증요약'!D10,1)="=","M",""),IF(IFERROR(_xlfn.FORMULATEXT('검증요약'!D10),"")<>"",IF(_xlfn.FORMULATEXT('검증요약'!D10)<>'_f_검증요약'!D10,"M",""),IF(OR(LEFT('_f_검증요약'!D10,1)="=",'_f_검증요약'!D10=""),"M",""))) | E10: =IF(ISBLANK('검증요약'!E10),IF(LEFT('_f_검증요약'!E10,1)="=","M",""),IF(IFERROR(_xlfn.FORMULATEXT('검증요약'!E10),"")<>"",IF(_xlfn.FORMULATEXT('검증요약'!E10)<>'_f_검증요약'!E10,"M",""),IF(OR(LEFT('_f_검증요약'!E10,1)="=",'_f_검증요약'!E10=""),"M",""))) | F10: =IF(ISBLANK('검증요약'!F10),IF(LEFT('_f_검증요약'!F10,1)="=","M",""),IF(IFERROR(_xlfn.FORMULATEXT('검증요약'!F10),"")<>"",IF(_xlfn.FORMULATEXT('검증요약'!F10)<>'_f_검증요약'!F10,"M",""),IF(OR(LEFT('_f_검증요약'!F10,1)="=",'_f_검증요약'!F10=""),"M",""))) | G10: =IF(ISBLANK('검증요약'!G10),IF(LEFT('_f_검증요약'!G10,1)="=","M",""),IF(IFERROR(_xlfn.FORMULATEXT('검증요약'!G10),"")<>"",IF(_xlfn.FORMULATEXT('검증요약'!G10)<>'_f_검증요약'!G10,"M",""),IF(OR(LEFT('_f_검증요약'!G10,1)="=",'_f_검증요약'!G10=""),"M",""))) | H10: =IF(ISBLANK('검증요약'!H10),IF(LEFT('_f_검증요약'!H10,1)="=","M",""),IF(IFERROR(_xlfn.FORMULATEXT('검증요약'!H10),"")<>"",IF(_xlfn.FORMULATEXT('검증요약'!H10)<>'_f_검증요약'!H10,"M",""),IF(OR(LEFT('_f_검증요약'!H10,1)="=",'_f_검증요약'!H10=""),"M",""))) | ... P10: =IF(ISBLANK('검증요약'!P10),IF(LEFT('_f_검증요약'!P10,1)="=","M",""),IF(IFERROR(_xlfn.FORMULATEXT('검증요약'!P10),"")<>"",IF(_xlfn.FORMULATEXT('검증요약'!P10)<>'_f_검증요약'!P10,"M",""),IF(OR(LEFT('_f_검증요약'!P10,1)="=",'_f_검증요약'!P10=""),"M","")))
A11: =IF(ISBLANK('검증요약'!A11),IF(LEFT('_f_검증요약'!A11,1)="=","M",""),IF(IFERROR(_xlfn.FORMULATEXT('검증요약'!A11),"")<>"",IF(_xlfn.FORMULATEXT('검증요약'!A11)<>'_f_검증요약'!A11,"M",""),IF(OR(LEFT('_f_검증요약'!A11,1)="=",'_f_검증요약'!A11=""),"M",""))) | B11: =IF(ISBLANK('검증요약'!B11),IF(LEFT('_f_검증요약'!B11,1)="=","M",""),IF(IFERROR(_xlfn.FORMULATEXT('검증요약'!B11),"")<>"",IF(_xlfn.FORMULATEXT('검증요약'!B11)<>'_f_검증요약'!B11,"M",""),IF(OR(LEFT('_f_검증요약'!B11,1)="=",'_f_검증요약'!B11=""),"M",""))) | C11: =IF(ISBLANK('검증요약'!C11),IF(LEFT('_f_검증요약'!C11,1)="=","M",""),IF(IFERROR(_xlfn.FORMULATEXT('검증요약'!C11),"")<>"",IF(_xlfn.FORMULATEXT('검증요약'!C11)<>'_f_검증요약'!C11,"M",""),IF(OR(LEFT('_f_검증요약'!C11,1)="=",'_f_검증요약'!C11=""),"M",""))) | D11: =IF(ISBLANK('검증요약'!D11),IF(LEFT('_f_검증요약'!D11,1)="=","M",""),IF(IFERROR(_xlfn.FORMULATEXT('검증요약'!D11),"")<>"",IF(_xlfn.FORMULATEXT('검증요약'!D11)<>'_f_검증요약'!D11,"M",""),IF(OR(LEFT('_f_검증요약'!D11,1)="=",'_f_검증요약'!D11=""),"M",""))) | E11: =IF(ISBLANK('검증요약'!E11),IF(LEFT('_f_검증요약'!E11,1)="=","M",""),IF(IFERROR(_xlfn.FORMULATEXT('검증요약'!E11),"")<>"",IF(_xlfn.FORMULATEXT('검증요약'!E11)<>'_f_검증요약'!E11,"M",""),IF(OR(LEFT('_f_검증요약'!E11,1)="=",'_f_검증요약'!E11=""),"M",""))) | F11: =IF(ISBLANK('검증요약'!F11),IF(LEFT('_f_검증요약'!F11,1)="=","M",""),IF(IFERROR(_xlfn.FORMULATEXT('검증요약'!F11),"")<>"",IF(_xlfn.FORMULATEXT('검증요약'!F11)<>'_f_검증요약'!F11,"M",""),IF(OR(LEFT('_f_검증요약'!F11,1)="=",'_f_검증요약'!F11=""),"M",""))) | G11: =IF(ISBLANK('검증요약'!G11),IF(LEFT('_f_검증요약'!G11,1)="=","M",""),IF(IFERROR(_xlfn.FORMULATEXT('검증요약'!G11),"")<>"",IF(_xlfn.FORMULATEXT('검증요약'!G11)<>'_f_검증요약'!G11,"M",""),IF(OR(LEFT('_f_검증요약'!G11,1)="=",'_f_검증요약'!G11=""),"M",""))) | H11: =IF(ISBLANK('검증요약'!H11),IF(LEFT('_f_검증요약'!H11,1)="=","M",""),IF(IFERROR(_xlfn.FORMULATEXT('검증요약'!H11),"")<>"",IF(_xlfn.FORMULATEXT('검증요약'!H11)<>'_f_검증요약'!H11,"M",""),IF(OR(LEFT('_f_검증요약'!H11,1)="=",'_f_검증요약'!H11=""),"M",""))) | ... P11: =IF(ISBLANK('검증요약'!P11),IF(LEFT('_f_검증요약'!P11,1)="=","M",""),IF(IFERROR(_xlfn.FORMULATEXT('검증요약'!P11),"")<>"",IF(_xlfn.FORMULATEXT('검증요약'!P11)<>'_f_검증요약'!P11,"M",""),IF(OR(LEFT('_f_검증요약'!P11,1)="=",'_f_검증요약'!P11=""),"M","")))
A12: =IF(ISBLANK('검증요약'!A12),IF(LEFT('_f_검증요약'!A12,1)="=","M",""),IF(IFERROR(_xlfn.FORMULATEXT('검증요약'!A12),"")<>"",IF(_xlfn.FORMULATEXT('검증요약'!A12)<>'_f_검증요약'!A12,"M",""),IF(OR(LEFT('_f_검증요약'!A12,1)="=",'_f_검증요약'!A12=""),"M",""))) | B12: =IF(ISBLANK('검증요약'!B12),IF(LEFT('_f_검증요약'!B12,1)="=","M",""),IF(IFERROR(_xlfn.FORMULATEXT('검증요약'!B12),"")<>"",IF(_xlfn.FORMULATEXT('검증요약'!B12)<>'_f_검증요약'!B12,"M",""),IF(OR(LEFT('_f_검증요약'!B12,1)="=",'_f_검증요약'!B12=""),"M",""))) | C12: =IF(ISBLANK('검증요약'!C12),IF(LEFT('_f_검증요약'!C12,1)="=","M",""),IF(IFERROR(_xlfn.FORMULATEXT('검증요약'!C12),"")<>"",IF(_xlfn.FORMULATEXT('검증요약'!C12)<>'_f_검증요약'!C12,"M",""),IF(OR(LEFT('_f_검증요약'!C12,1)="=",'_f_검증요약'!C12=""),"M",""))) | D12: =IF(ISBLANK('검증요약'!D12),IF(LEFT('_f_검증요약'!D12,1)="=","M",""),IF(IFERROR(_xlfn.FORMULATEXT('검증요약'!D12),"")<>"",IF(_xlfn.FORMULATEXT('검증요약'!D12)<>'_f_검증요약'!D12,"M",""),IF(OR(LEFT('_f_검증요약'!D12,1)="=",'_f_검증요약'!D12=""),"M",""))) | E12: =IF(ISBLANK('검증요약'!E12),IF(LEFT('_f_검증요약'!E12,1)="=","M",""),IF(IFERROR(_xlfn.FORMULATEXT('검증요약'!E12),"")<>"",IF(_xlfn.FORMULATEXT('검증요약'!E12)<>'_f_검증요약'!E12,"M",""),IF(OR(LEFT('_f_검증요약'!E12,1)="=",'_f_검증요약'!E12=""),"M",""))) | F12: =IF(ISBLANK('검증요약'!F12),IF(LEFT('_f_검증요약'!F12,1)="=","M",""),IF(IFERROR(_xlfn.FORMULATEXT('검증요약'!F12),"")<>"",IF(_xlfn.FORMULATEXT('검증요약'!F12)<>'_f_검증요약'!F12,"M",""),IF(OR(LEFT('_f_검증요약'!F12,1)="=",'_f_검증요약'!F12=""),"M",""))) | G12: =IF(ISBLANK('검증요약'!G12),IF(LEFT('_f_검증요약'!G12,1)="=","M",""),IF(IFERROR(_xlfn.FORMULATEXT('검증요약'!G12),"")<>"",IF(_xlfn.FORMULATEXT('검증요약'!G12)<>'_f_검증요약'!G12,"M",""),IF(OR(LEFT('_f_검증요약'!G12,1)="=",'_f_검증요약'!G12=""),"M",""))) | H12: =IF(ISBLANK('검증요약'!H12),IF(LEFT('_f_검증요약'!H12,1)="=","M",""),IF(IFERROR(_xlfn.FORMULATEXT('검증요약'!H12),"")<>"",IF(_xlfn.FORMULATEXT('검증요약'!H12)<>'_f_검증요약'!H12,"M",""),IF(OR(LEFT('_f_검증요약'!H12,1)="=",'_f_검증요약'!H12=""),"M",""))) | ... P12: =IF(ISBLANK('검증요약'!P12),IF(LEFT('_f_검증요약'!P12,1)="=","M",""),IF(IFERROR(_xlfn.FORMULATEXT('검증요약'!P12),"")<>"",IF(_xlfn.FORMULATEXT('검증요약'!P12)<>'_f_검증요약'!P12,"M",""),IF(OR(LEFT('_f_검증요약'!P12,1)="=",'_f_검증요약'!P12=""),"M","")))
... A70: =IF(ISBLANK('검증요약'!A70),IF(LEFT('_f_검증요약'!A70,1)="=","M",""),IF(IFERROR(_xlfn.FORMULATEXT('검증요약'!A70),"")<>"",IF(_xlfn.FORMULATEXT('검증요약'!A70)<>'_f_검증요약'!A70,"M",""),IF(OR(LEFT('_f_검증요약'!A70,1)="=",'_f_검증요약'!A70=""),"M",""))) | B70: =IF(ISBLANK('검증요약'!B70),IF(LEFT('_f_검증요약'!B70,1)="=","M",""),IF(IFERROR(_xlfn.FORMULATEXT('검증요약'!B70),"")<>"",IF(_xlfn.FORMULATEXT('검증요약'!B70)<>'_f_검증요약'!B70,"M",""),IF(OR(LEFT('_f_검증요약'!B70,1)="=",'_f_검증요약'!B70=""),"M",""))) | C70: =IF(ISBLANK('검증요약'!C70),IF(LEFT('_f_검증요약'!C70,1)="=","M",""),IF(IFERROR(_xlfn.FORMULATEXT('검증요약'!C70),"")<>"",IF(_xlfn.FORMULATEXT('검증요약'!C70)<>'_f_검증요약'!C70,"M",""),IF(OR(LEFT('_f_검증요약'!C70,1)="=",'_f_검증요약'!C70=""),"M",""))) | D70: =IF(ISBLANK('검증요약'!D70),IF(LEFT('_f_검증요약'!D70,1)="=","M",""),IF(IFERROR(_xlfn.FORMULATEXT('검증요약'!D70),"")<>"",IF(_xlfn.FORMULATEXT('검증요약'!D70)<>'_f_검증요약'!D70,"M",""),IF(OR(LEFT('_f_검증요약'!D70,1)="=",'_f_검증요약'!D70=""),"M",""))) | E70: =IF(ISBLANK('검증요약'!E70),IF(LEFT('_f_검증요약'!E70,1)="=","M",""),IF(IFERROR(_xlfn.FORMULATEXT('검증요약'!E70),"")<>"",IF(_xlfn.FORMULATEXT('검증요약'!E70)<>'_f_검증요약'!E70,"M",""),IF(OR(LEFT('_f_검증요약'!E70,1)="=",'_f_검증요약'!E70=""),"M",""))) | F70: =IF(ISBLANK('검증요약'!F70),IF(LEFT('_f_검증요약'!F70,1)="=","M",""),IF(IFERROR(_xlfn.FORMULATEXT('검증요약'!F70),"")<>"",IF(_xlfn.FORMULATEXT('검증요약'!F70)<>'_f_검증요약'!F70,"M",""),IF(OR(LEFT('_f_검증요약'!F70,1)="=",'_f_검증요약'!F70=""),"M",""))) | G70: =IF(ISBLANK('검증요약'!G70),IF(LEFT('_f_검증요약'!G70,1)="=","M",""),IF(IFERROR(_xlfn.FORMULATEXT('검증요약'!G70),"")<>"",IF(_xlfn.FORMULATEXT('검증요약'!G70)<>'_f_검증요약'!G70,"M",""),IF(OR(LEFT('_f_검증요약'!G70,1)="=",'_f_검증요약'!G70=""),"M",""))) | H70: =IF(ISBLANK('검증요약'!H70),IF(LEFT('_f_검증요약'!H70,1)="=","M",""),IF(IFERROR(_xlfn.FORMULATEXT('검증요약'!H70),"")<>"",IF(_xlfn.FORMULATEXT('검증요약'!H70)<>'_f_검증요약'!H70,"M",""),IF(OR(LEFT('_f_검증요약'!H70,1)="=",'_f_검증요약'!H70=""),"M",""))) | ... P70: =IF(ISBLANK('검증요약'!P70),IF(LEFT('_f_검증요약'!P70,1)="=","M",""),IF(IFERROR(_xlfn.FORMULATEXT('검증요약'!P70),"")<>"",IF(_xlfn.FORMULATEXT('검증요약'!P70)<>'_f_검증요약'!P70,"M",""),IF(OR(LEFT('_f_검증요약'!P70,1)="=",'_f_검증요약'!P70=""),"M","")))

Sheet _f_BS
A1: •
A2: •
A4: • | B4: • | C4: • | E4: • | F4: • | G4: • | H4: •
A5: •
A6: • | B6: • | C6: • | E6: =B6=B7+B15 | F6: =C6=C7+C15 | G6: =IF(B6=B7+B15,"",(B6)-(B7+B15)) | H6: =IF(C6=C7+C15,"",(C6)-(C7+C15))
A7: • | B7: • | C7: • | E7: =B7=SUM(B8:B14) | F7: =C7=SUM(C8:C14) | G7: =IF(B7=SUM(B8:B14),"",(B7)-(SUM(B8:B14))) | H7: =IF(C7=SUM(C8:C14),"",(C7)-(SUM(C8:C14)))
A8: • | B8: • | C8: •
A9: • | B9: • | C9: •
A10: • | B10: • | C10: •
A11: • | B11: • | C11: •
A12: • | B12: • | C12: •
A13: • | B13: • | C13: •
A14: • | B14: • | C14: •
A15: • | B15: • | C15: •
A16: • | B16: • | C16: • | E16: =B16=B17+B19 | F16: =C16=C17+C19 | G16: =IF(B16=B17+B19,"",(B16)-(B17+B19)) | H16: =IF(C16=C17+C19,"",(C16)-(C17+C19))
A17: • | B17: • | C17: • | E17: =B17=SUM(B18:B18) | F17: =C17=SUM(C18:C18) | G17: =IF(B17=SUM(B18:B18),"",(B17)-(SUM(B18:B18))) | H17: =IF(C17=SUM(C18:C18),"",(C17)-(SUM(C18:C18)))
A18: • | B18: • | C18: •
A19: • | B19: • | C19: • | E19: =B19=SUM(B20:B20) | F19: =C19=SUM(C20:C20) | G19: =IF(B19=SUM(B20:B20),"",(B19)-(SUM(B20:B20))) | H19: =IF(C19=SUM(C20:C20),"",(C19)-(SUM(C20:C20)))
A20: • | B20: • | C20: •
A21: • | B21: • | C21: • | E21: =B21=B6+B16 | F21: =C21=C6+C16 | G21: =IF(B21=B6+B16,"",(B21)-(B6+B16)) | H21: =IF(C21=C6+C16,"",(C21)-(C6+C16))
A22: •
A23: • | B23: • | C23: • | E23: =B23=SUM(B24:B27) | F23: =C23=SUM(C24:C27) | G23: =IF(B23=SUM(B24:B27),"",(B23)-(SUM(B24:B27))) | H23: =IF(C23=SUM(C24:C27),"",(C23)-(SUM(C24:C27)))
A24: • | B24: • | C24: •
A25: • | B25: • | C25: •
A26: • | B26: • | C26: •
A27: • | B27: • | C27: •
A28: • | B28: • | C28: • | E28: =B28=SUM(B29:B32) | F28: =C28=SUM(C29:C32) | G28: =IF(B28=SUM(B29:B32),"",(B28)-(SUM(B29:B32))) | H28: =IF(C28=SUM(C29:C32),"",(C28)-(SUM(C29:C32)))
A29: • | B29: • | C29: •
A30: • | B30: • | C30: •
A31: • | B31: • | C31: •
A32: • | B32: • | C32: •
A33: • | B33: • | C33: • | E33: =B33=B23+B28 | F33: =C33=C23+C28 | G33: =IF(B33=B23+B28,"",(B33)-(B23+B28)) | H33: =IF(C33=C23+C28,"",(C33)-(C23+C28))
A34: •
A35: • | B35: • | C35: • | E35: =B35=SUM(B36:B36) | F35: =C35=SUM(C36:C36) | G35: =IF(B35=SUM(B36:B36),"",(B35)-(SUM(B36:B36))) | H35: =IF(C35=SUM(C36:C36),"",(C35)-(SUM(C36:C36)))
A36: • | B36: • | C36: •
A37: • | B37: • | C37: • | E37: =B37=SUM(B38:B39) | F37: =C37=SUM(C38:C39) | G37: =IF(B37=SUM(B38:B39),"",(B37)-(SUM(B38:B39))) | H37: =IF(C37=SUM(C38:C39),"",(C37)-(SUM(C38:C39)))
A38: • | B38: • | C38: •
A39: • | B39: • | C39: •
A40: • | B40: • | C40: • | E40: =B40=SUM(B41:B41) | F40: =C40=SUM(C41:C41) | G40: =IF(B40=SUM(B41:B41),"",(B40)-(SUM(B41:B41))) | H40: =IF(C40=SUM(C41:C41),"",(C40)-(SUM(C41:C41)))
A41: • | B41: • | C41: •
...

Sheet _c_BS
