Workbook

Sheet 검증요약
B2: DSD 재무제표 검증요약 | H2: =IF(0+IF(LEFT(E7,5)="FALSE",1,0)+IF(LEFT(F7,5)="FALSE",1,0)+IF(LEFT(E8,5)="FALSE",1,0)+IF(LEFT(F8,5)="FALSE",1,0)+IF(LEFT(F9,5)="FALSE",1,0)+IF(LEFT(E10,5)="FALSE",1,0)+IF(LEFT(F10,5)="FALSE",1,0)+IF(LEFT(E11,5)="FALSE",1,0)+IF(LEFT(F11,5)="FALSE",1,0)+IF(LEFT(E15,5)="FALSE",1,0)+IF(LEFT(F15,5)="FALSE",1,0)+IF(LEFT(E16,5)="FALSE",1,0)+IF(LEFT(F16,5)="FALSE",1,0)+IF(LEFT(E17,5)="FALSE",1,0)+IF(LEFT(F17,5)="FALSE",1,0)+IF(LEFT(E18,5)="FALSE",1,0)+IF(LEFT(E19,5)="FALSE",1,0)+IF(LEFT(F19,5)="FALSE",1,0)+IF(LEFT(E20,5)="FALSE",1,0)+IF(LEFT(F20,5)="FALSE",1,0)+IF(LEFT(E21,5)="FALSE",1,0)+IF(LEFT(E22,5)="FALSE",1,0)+IF(LEFT(E23,5)="FALSE",1,0)+IF(LEFT(E24,5)="FALSE",1,0)+IF(LEFT(F24,5)="FALSE",1,0)+IF(LEFT(E25,5)="FALSE",1,0)+IF(LEFT(E26,5)="FALSE",1,0)+IF(LEFT(F26,5)="FALSE",1,0)+IF(LEFT(E27,5)="FALSE",1,0)+IF(LEFT(F27,5)="FALSE",1,0)+IF(LEFT(E28,5)="FALSE",1,0)+IF(LEFT(F28,5)="FALSE",1,0)=0,"이상 없음","불일치 "&(0+IF(LEFT(E7,5)="FALSE",1,0)+IF(LEFT(F7,5)="FALSE",1,0)+IF(LEFT(E8,5)="FALSE",1,0)+IF(LEFT(F8,5)="FALSE",1,0)+IF(LEFT(F9,5)="FALSE",1,0)+IF(LEFT(E10,5)="FALSE",1,0)+IF(LEFT(F10,5)="FALSE",1,0)+IF(LEFT(E11,5)="FALSE",1,0)+IF(LEFT(F11,5)="FALSE",1,0)+IF(LEFT(E15,5)="FALSE",1,0)+IF(LEFT(F15,5)="FALSE",1,0)+IF(LEFT(E16,5)="FALSE",1,0)+IF(LEFT(F16,5)="FALSE",1,0)+IF(LEFT(E17,5)="FALSE",1,0)+IF(LEFT(F17,5)="FALSE",1,0)+IF(LEFT(E18,5)="FALSE",1,0)+IF(LEFT(E19,5)="FALSE",1,0)+IF(LEFT(F19,5)="FALSE",1,0)+IF(LEFT(E20,5)="FALSE",1,0)+IF(LEFT(F20,5)="FALSE",1,0)+IF(LEFT(E21,5)="FALSE",1,0)+IF(LEFT(E22,5)="FALSE",1,0)+IF(LEFT(E23,5)="FALSE",1,0)+IF(LEFT(E24,5)="FALSE",1,0)+IF(LEFT(F24,5)="FALSE",1,0)+IF(LEFT(E25,5)="FALSE",1,0)+IF(LEFT(E26,5)="FALSE",1,0)+IF(LEFT(F26,5)="FALSE",1,0)+IF(LEFT(E27,5)="FALSE",1,0)+IF(LEFT(F27,5)="FALSE",1,0)+IF(LEFT(E28,5)="FALSE",1,0)+IF(LEFT(F28,5)="FALSE",1,0))&"건")
B3: 원본: 풋팅데모 · 모든 검증값은 실수식(F2 로 추적 가능) · 각 재무제표 시트 우측에 합계검증 70건 별도 표시
B5: 1. 재무제표 간 연계검증 (당기·전기 = 각 재무제표의 당기·전기 열, 정확일치)
B6: No | C6: 구분 | D6: 검증내용 | E6: 당기 | F6: 전기
B7: 1 | C7: BS | D7: 자산총계 = 부채와자본총계 | E7: =IF(ABS((BS!B21)-(BS!B43))<=0,TRUE,"FALSE ("&TEXT((BS!B21)-(BS!B43),"#,##0")&")") | F7: =IF(ABS((BS!C21)-(BS!C43))<=0,TRUE,"FALSE ("&TEXT((BS!C21)-(BS!C43),"#,##0")&")")
B8: 2 | C8: BS↔CF | D8: 현금흐름표 기말·기초현금 = 재무상태표 현금및현금성자산 | E8: =IF(ABS((CF!B19)-(BS!B8))<=0,TRUE,"FALSE ("&TEXT((CF!B19)-(BS!B8),"#,##0")&")") | F8: =IF(ABS((CF!B18)-(BS!C8))<=0,TRUE,"FALSE ("&TEXT((CF!B18)-(BS!C8),"#,##0")&")")
B9: 3 | C9: CF | D9: 기말현금(전기) = 기초현금(당기) — 기간 연속성 | F9: =IF(ABS((CF!C19)-(CF!B18))<=0,TRUE,"FALSE ("&TEXT((CF!C19)-(CF!B18),"#,##0")&")")
B10: 4 | C10: PL↔CE | D10: 당기순이익 : 손익계산서 = 자본변동표 | E10: =IF(ABS((PL!B29)-(CE!E9))<=0,TRUE,"FALSE ("&TEXT((PL!B29)-(CE!E9),"#,##0")&")") | F10: =IF(ABS((PL!C29)-(CE!E6))<=0,TRUE,"FALSE ("&TEXT((PL!C29)-(CE!E6),"#,##0")&")")
B11: 5 | C11: BS↔CE | D11: 자본총계 : 자본변동표 = 재무상태표 | E11: =IF(ABS((CE!E12)-(BS!B42))<=0,TRUE,"FALSE ("&TEXT((CE!E12)-(BS!B42),"#,##0")&")") | F11: =IF(ABS((CE!E8)-(BS!C42))<=0,TRUE,"FALSE ("&TEXT((CE!E8)-(BS!C42),"#,##0")&")")
B13: 3. 재무제표 ↔ 주석 대사 (재무제표 값을 주석 단위로 반올림해 대조, 허용오차 ±2단위 — 상세 검증은 각 주석 시트의 본표대사 행)
B14: No | C14: 구분 | D14: 검증내용 | E14: 당기 | F14: 전기
B15: 6 | C15: 주석4 | D15: 현금및현금성자산 = 주석4 현금및현금성자산 [주석단위 x1,000] | E15: =IF(ABS(ABS(ROUND((BS!B8)/1000,0))-ABS(주석4!B4))<=2,TRUE,"FALSE ("&TEXT(ABS(ROUND((BS!B8)/1000,0))-ABS(주석4!B4),"#,##0")&")") | F15: =IF(ABS(ABS(ROUND((BS!C8)/1000,0))-ABS(주석4!C4))<=2,TRUE,"FALSE ("&TEXT(ABS(ROUND((BS!C8)/1000,0))-ABS(주석4!C4),"#,##0")&")")
B16: 7 | C16: 주석5 | D16: 단기매매증권 = 주석5 단기매매증권 | E16: =IF(ABS(ABS((BS!B9))-ABS(주석5!B4))<=1,TRUE,"FALSE ("&TEXT(ABS((BS!B9))-ABS(주석5!B4),"#,##0")&")") | F16: =IF(ABS(ABS((BS!C9))-ABS(주석5!C4))<=1,TRUE,"FALSE ("&TEXT(ABS((BS!C9))-ABS(주석5!C4),"#,##0")&")")
B17: 8 | C17: 주석6,16 | D17: 단기대여금 = 주석6,16 대여금 및 수취채권 | E17: =IF(ABS(ABS((BS!B10))-ABS(주석6!B4))<=1,TRUE,"FALSE ("&TEXT(ABS((BS!B10))-ABS(주석6!B4),"#,##0")&")") | F17: =IF(ABS(ABS((BS!C10))-ABS(주석6!C4))<=1,TRUE,"FALSE ("&TEXT(ABS((BS!C10))-ABS(주석6!C4),"#,##0")&")")
B18: 9 | C18: 주석6,16 | D18: 대손충당금 = 주석6,16 대여금 및 수취채권 | E18: =IF(ABS(ABS((BS!B11))-ABS(주석6!B4))<=1,TRUE,"FALSE ("&TEXT(ABS((BS!B11))-ABS(주석6!B4),"#,##0")&")")
B19: 10 | C19: 주석6 | D19: 임차보증금 = 주석6 대여금 및 수취채권 | E19: =IF(ABS(ABS((BS!B20))-ABS(주석6!B6))<=1,TRUE,"FALSE ("&TEXT(ABS((BS!B20))-ABS(주석6!B6),"#,##0")&")") | F19: =IF(ABS(ABS((BS!C20))-ABS(주석6!C6))<=1,TRUE,"FALSE ("&TEXT(ABS((BS!C20))-ABS(주석6!C6),"#,##0")&")")
B20: 11 | C20: 주석8,16 | D20: 단기차입금 = 주석8,16 차입금 | E20: =IF(ABS(ABS((BS!B27))-ABS(주석8!B4))<=1,TRUE,"FALSE ("&TEXT(ABS((BS!B27))-ABS(주석8!B4),"#,##0")&")") | F20: =IF(ABS(ABS((BS!C27))-ABS(주석8!C4))<=1,TRUE,"FALSE ("&TEXT(ABS((BS!C27))-ABS(주석8!C4),"#,##0")&")")
B21: 12 | C21: 주석9 | D21: 전환사채 = 주석9 전환사채 | E21: =IF(ABS(ABS((BS!B30))-ABS(주석9!B4))<=1,TRUE,"FALSE ("&TEXT(ABS((BS!B30))-ABS(주석9!B4),"#,##0")&")")
B22: 13 | C22: 주석9 | D22: 상환할증금 = 주석9 전환사채 | E22: =IF(ABS(ABS((BS!B31))-ABS(주석9!B5))<=1,TRUE,"FALSE ("&TEXT(ABS((BS!B31))-ABS(주석9!B5),"#,##0")&")")
B23: 14 | C23: 주석9 | D23: 전환권조정 = 주석9 전환사채 | E23: =IF(ABS(ABS((BS!B32))-ABS(주석9!B6))<=1,TRUE,"FALSE ("&TEXT(ABS((BS!B32))-ABS(주석9!B6),"#,##0")&")")
B24: 15 | C24: 주석10 | D24: 자 본 금 = 주석10 자본금 | E24: =IF(ABS(ABS((BS!B35))-ABS(주석10!B4))<=1,TRUE,"FALSE ("&TEXT(ABS((BS!B35))-ABS(주석10!B4),"#,##0")&")") | F24: =IF(ABS(ABS((BS!C35))-ABS(주석10!C4))<=1,TRUE,"FALSE ("&TEXT(ABS((BS!C35))-ABS(주석10!C4),"#,##0")&")")
B25: 16 | C25: 주석9 | D25: 전환권대가 = 주석9 전환사채 | E25: =IF(ABS(ABS((BS!B39))-ABS(주석9!B7))<=1,TRUE,"FALSE ("&TEXT(ABS((BS!B39))-ABS(주석9!B7),"#,##0")&")")
B26: 17 | C26: 주석13 | D26: 판매비와관리비 = 주석13 판매비와관리비 [주석단위 x1,000] | E26: =IF(ABS(ABS(ROUND((PL!B8)/1000,0))-ABS(주석13!B8))<=2,TRUE,"FALSE ("&TEXT(ABS(ROUND((PL!B8)/1000,0))-ABS(주석13!B8),"#,##0")&")") | F26: =IF(ABS(ABS(ROUND((PL!C8)/1000,0))-ABS(주석13!C8))<=2,TRUE,"FALSE ("&TEXT(ABS(ROUND((PL!C8)/1000,0))-ABS(주석13!C8),"#,##0")&")")
B27: 18 | C27: 주석13 | D27: 세금과공과금 = 주석13 판매비와관리비 [주석단위 x1,000] | E27: =IF(ABS(ABS(ROUND((PL!B10)/1000,0))-ABS(주석13!B4))<=2,TRUE,"FALSE ("&TEXT(ABS(ROUND((PL!B10)/1000,0))-ABS(주석13!B4),"#,##0")&")") | F27: =IF(ABS(ABS(ROUND((PL!C10)/1000,0))-ABS(주석13!C4))<=2,TRUE,"FALSE ("&TEXT(ABS(ROUND((PL!C10)/1000,0))-ABS(주석13!C4),"#,##0")&")")
B28: 19 | C28: 주석13 | D28: 임차료 = 주석13 판매비와관리비 [주석단위 x1,000] | E28: =IF(ABS(ABS(ROUND((PL!B11)/1000,0))-ABS(주석13!B5))<=2,TRUE,"FALSE ("&TEXT(ABS(ROUND((PL!B11)/1000,0))-ABS(주석13!B5),"#,##0")&")") | F28: =IF(ABS(ABS(ROUND((PL!C11)/1000,0))-ABS(주석13!C5))<=2,TRUE,"FALSE ("&TEXT(ABS(ROUND((PL!C11)/1000,0))-ABS(주석13!C5),"#,##0")&")")
B30: 4. 각 재무제표 내 합계검증(footing)은 BS·PL·CE·CF 시트 우측의 검증 열에서 TRUE/FALSE 로 확인할 수 있습니다.

Sheet BS
A1: 재 무 상 태 표
A2: (단위: 원)
A4: 과 목 | B4: 제 5(당) 기 | C4: 제 4(전) 기 | E4: 검증(제 5(당) 기) | F4: 검증(제 4(전) 기) | G4: 차이(제 5(당) 기) | H4: 차이(제 4(전) 기)
A5: 자 산
A6: Ⅰ. 유 동 자 산 | B6: 14633154845 | C6: 57407978379 | E6: =B6=B7+B15 | F6: =C6=C7+C15 | G6: =IF(B6=B7+B15,"",(B6)-(B7+B15)) | H6: =IF(C6=C7+C15,"",(C6)-(C7+C15))
A7: (1) 당좌자산 | B7: 14633154845 | C7: 57407978379 | E7: =B7=SUM(B8:B14) | F7: =C7=SUM(C8:C14) | G7: =IF(B7=SUM(B8:B14),"",(B7)-(SUM(B8:B14))) | H7: =IF(C7=SUM(C8:C14),"",(C7)-(SUM(C8:C14)))
A8: 현금및현금성자산(주석4) | B8: 51543284 | C8: 19553969
A9: 단기매매증권(주석5) | B9: 14460290400 | C9: 41365277513
A10: 단기대여금(주석6,16) | B10: 20087231602 | C10: 15977075780
A11: 대손충당금(주석6,16) | B11: -20087231602 | C11: 0
A12: 선급금 | B12: 1320000 | C12: 2961480
A13: 부가세대급금 | B13: 111366651 | C13: 39463727
A14: 선납세금 | B14: 8634510 | C14: 3645910
A15: (2) 재고자산 | B15: 0 | C15: 0
A16: Ⅱ. 비 유 동 자 산 | B16: 200000 | C16: 6050200000 | E16: =B16=B17+B19 | F16: =C16=C17+C19 | G16: =IF(B16=B17+B19,"",(B16)-(B17+B19)) | H16: =IF(C16=C17+C19,"",(C16)-(C17+C19))
A17: (1) 투자자산 | B17: 0 | C17: 6050000000 | E17: =B17=SUM(B18:B18) | F17: =C17=SUM(C18:C18) | G17: =IF(B17=SUM(B18:B18),"",(B17)-(SUM(B18:B18))) | H17: =IF(C17=SUM(C18:C18),"",(C17)-(SUM(C18:C18)))
A18: 출자금 | B18: 0 | C18: 6050000000
A19: (2) 기타비유동자산 | B19: 200000 | C19: 200000 | E19: =B19=SUM(B20:B20) | F19: =C19=SUM(C20:C20) | G19: =IF(B19=SUM(B20:B20),"",(B19)-(SUM(B20:B20))) | H19: =IF(C19=SUM(C20:C20),"",(C19)-(SUM(C20:C20)))
A20: 임차보증금(주석6) | B20: 200000 | C20: 200000
A21: 자 산 총 계 | B21: 14633354845 | C21: 63458178379 | E21: =B21=B6+B16 | F21: =C21=C6+C16 | G21: =IF(B21=B6+B16,"",(B21)-(B6+B16)) | H21: =IF(C21=C6+C16,"",(C21)-(C6+C16))
A22: 부 채
A23: Ⅰ. 유 동 부 채 | B23: 7813737985 | C23: 59306681144 | E23: =B23=SUM(B24:B27) | F23: =C23=SUM(C24:C27) | G23: =IF(B23=SUM(B24:B27),"",(B23)-(SUM(B24:B27))) | H23: =IF(C23=SUM(C24:C27),"",(C23)-(SUM(C24:C27)))
A24: 미지급금 | B24: 1210112860 | C24: 177927041
A25: 미지급비용 | B25: 28493151 | C25: 0
A26: 예수금 | B26: 165723261 | C26: 165723261
A27: 단기차입금(주석8,16) | B27: 6409408713 | C27: 58963030842
A28: Ⅱ. 비 유 동 부 채 | B28: 2956663684 | C28: 240000000 | E28: =B28=SUM(B29:B32) | F28: =C28=SUM(C29:C32) | G28: =IF(B28=SUM(B29:B32),"",(B28)-(SUM(B29:B32))) | H28: =IF(C28=SUM(C29:C32),"",(C28)-(SUM(C29:C32)))
A29: 장기차입금(주석8) | B29: 0 | C29: 240000000
A30: 전환사채(주석9) | B30: 3773000000 | C30: 0
A31: 상환할증금(주석9) | B31: 452760000 | C31: 0
A32: 전환권조정(주석9) | B32: -1269096316 | C32: 0
A33: 부 채 총 계 | B33: 10770401669 | C33: 59546681144 | E33: =B33=B23+B28 | F33: =C33=C23+C28 | G33: =IF(B33=B23+B28,"",(B33)-(B23+B28)) | H33: =IF(C33=C23+C28,"",(C33)-(C23+C28))
A34: 자 본
A35: Ⅰ. 자 본 금(주석10) | B35: 100000000 | C35: 100000000 | E35: =B35=SUM(B36:B36) | F35: =C35=SUM(C36:C36) | G35: =IF(B35=SUM(B36:B36),"",(B35)-(SUM(B36:B36))) | H35: =IF(C35=SUM(C36:C36),"",(C35)-(SUM(C36:C36)))
A36: 보통주자본금 | B36: 100000000 | C36: 100000000
A37: Ⅱ.자 본 잉 여 금 | B37: 5018173968 | C37: 0 | E37: =B37=SUM(B38:B39) | F37: =C37=SUM(C38:C39) | G37: =IF(B37=SUM(B38:B39),"",(B37)-(SUM(B38:B39))) | H37: =IF(C37=SUM(C38:C39),"",(C37)-(SUM(C38:C39)))
A38: 주식발행초과금 | B38: 3983552636 | C38: 0
A39: 전환권대가(주석9) | B39: 1034621332 | C39: 0
A40: Ⅲ.이 익 잉 여 금(주석11) | B40: -1255220792 | C40: 3811497235 | E40: =B40=SUM(B41:B41) | F40: =C40=SUM(C41:C41) | G40: =IF(B40=SUM(B41:B41),"",(B40)-(SUM(B41:B41))) | H40: =IF(C40=SUM(C41:C41),"",(C40)-(SUM(C41:C41)))
A41: 미처분이익잉여금 | B41: -1255220792 | C41: 3811497235
A42: 자 본 총 계 | B42: 3862953176 | C42: 3911497235 | E42: =B42=B35+B37+B40 | F42: =C42=C35+C37+C40 | G42: =IF(B42=B35+B37+B40,"",(B42)-(B35+B37+B40)) | H42: =IF(C42=C35+C37+C40,"",(C42)-(C35+C37+C40))
A43: 부 채 및 자 본 총 계 | B43: 14633354845 | C43: 63458178379 | E43: =B43=B33+B42 | F43: =C43=C33+C42 | G43: =IF(B43=B33+B42,"",(B43)-(B33+B42)) | H43: =IF(C43=C33+C42,"",(C43)-(C33+C42))

Sheet PL
A1: 포 괄 손 익 계 산 서
A2: (단위: 원)
A4: 과 목 | B4: 제 5(당) 기 | C4: 제 4(전) 기 | E4: 검증(제 5(당) 기) | F4: 검증(제 4(전) 기) | G4: 차이(제 5(당) 기) | H4: 차이(제 4(전) 기)
A5: Ⅰ. 매 출 액 | B5: 0 | C5: 0
A6: Ⅱ. 매 출 원 가 | B6: 0 | C6: 0
A7: Ⅲ. 매 출 총 이 익 | B7: 0 | C7: 0 | E7: =B7=B5-B6 | F7: =C7=C5-C6 | G7: =IF(B7=B5-B6,"",(B7)-(B5-B6)) | H7: =IF(C7=C5-C6,"",(C7)-(C5-C6))
A8: Ⅳ. 판매비와관리비 | B8: 1070027106 | C8: 117673400 | E8: =B8=SUM(B9:B13) | F8: =C8=SUM(C9:C13) | G8: =IF(B8=SUM(B9:B13),"",(B8)-(SUM(B9:B13))) | H8: =IF(C8=SUM(C9:C13),"",(C8)-(SUM(C9:C13)))
A9: 급여(주석13) | B9: 0 | C9: 0
A10: 세금과공과금(주석13) | B10: 212500 | C10: 1111400
A11: 임차료(주석13) | B11: 600000 | C11: 600000
A12: 도서인쇄비 | B12: 2300000 | C12: 0
A13: 지급수수료 | B13: 1067014606 | C13: 115962000
A14: Ⅴ. 영 업 이 익 | B14: -1070027106 | C14: -117673400
A15: Ⅵ. 영 업 외 수 익 | B15: 34643689636 | C15: 6823370 | E15: =B15=SUM(B16:B19) | F15: =C15=SUM(C16:C19) | G15: =IF(B15=SUM(B16:B19),"",(B15)-(SUM(B16:B19))) | H15: =IF(C15=SUM(C16:C19),"",(C15)-(SUM(C16:C19)))
A16: 이자수익 | B16: 37901530 | C16: 6053102
A17: 단기매매증권평가이익 | B17: 5878531795 | C17: 0
A18: 단기매매증권처분이익 | B18: 28727219860 | C18: 0
A19: 잡이익 | B19: 36451 | C19: 770268
A20: Ⅶ. 영 업 외 비 용 | B20: 38640380557 | C20: 1290079635 | E20: =B20=SUM(B21:B26) | F20: =C20=SUM(C21:C26) | G20: =IF(B20=SUM(B21:B26),"",(B20)-(SUM(B21:B26))) | H20: =IF(C20=SUM(C21:C26),"",(C20)-(SUM(C21:C26)))
A21: 이자비용 | B21: 3873544344 | C21: 1286107633
A22: 단기매매증권평가손실 | B22: 0 | C22: 3972002
A23: 단기매매증권처분손실 | B23: 12177963131 | C23: 0
A24: 기타의대손상각비 | B24: 20087231602 | C24: 0
A25: 매도가능증권손상차손 | B25: 2500000000 | C25: 0
A26: 잡손실 | B26: 1641480 | C26: 0
A27: Ⅷ. 법인세차감전순이익 | B27: -5066718027 | C27: -1400929665 | E27: =B27=B14+B15-B20 | F27: =C27=C14+C15-C20 | G27: =IF(B27=B14+B15-B20,"",(B27)-(B14+B15-B20)) | H27: =IF(C27=C14+C15-C20,"",(C27)-(C14+C15-C20))
A28: Ⅸ. 법인세등 | B28: 0 | C28: 0
A29: Ⅹ. 당기순이익 | B29: -5066718027 | C29: -1400929665 | E29: =B29=B27-B28 | F29: =C29=C27-C28 | G29: =IF(B29=B27-B28,"",(B29)-(B27-B28)) | H29: =IF(C29=C27-C28,"",(C29)-(C27-C28))

Sheet CE
A1: 자 본 변 동 표
A2: (단위: 원)
A4: 과 목 | B4: 자본금 | C4: 자본잉여금 | D4: 이익잉여금 | E4: 총 계 | G4: 검증(행합계) | H4: 차이
A5: 2024.1.1(전기초) | B5: 100000000 | C5: 0 | D5: 5212426900 | E5: 5312426900 | G5: =E5=SUM(B5:D5) | H5: =IF(E5=SUM(B5:D5),"",(E5)-(SUM(B5:D5)))
A6: 당기순이익(손실) | B6: 0 | C6: 0 | D6: -1400929665 | E6: -1400929665 | G6: =E6=SUM(B6:D6) | H6: =IF(E6=SUM(B6:D6),"",(E6)-(SUM(B6:D6)))
A7: 2024.12.31(전기말) | B7: 100000000 | C7: 0 | D7: 3811497235 | E7: 3911497235 | G7: =E7=SUM(B7:D7) | H7: =IF(E7=SUM(B7:D7),"",(E7)-(SUM(B7:D7)))
A8: 2025.1.1(당기초) | B8: 100000000 | C8: 0 | D8: 3811497235 | E8: 3911497235 | G8: =E8=SUM(B8:D8) | H8: =IF(E8=SUM(B8:D8),"",(E8)-(SUM(B8:D8)))
A9: 당기순이익(손실) | B9: 0 | C9: 0 | D9: -5066718027 | E9: -5066718027 | G9: =E9=SUM(B9:D9) | H9: =IF(E9=SUM(B9:D9),"",(E9)-(SUM(B9:D9)))
A10: 주식발행초과금 | B10: 0 | C10: 3983552636 | D10: 0 | E10: 3983552636 | G10: =E10=SUM(B10:D10) | H10: =IF(E10=SUM(B10:D10),"",(E10)-(SUM(B10:D10)))
A11: 전환권대가 | B11: 0 | C11: 1034621332 | D11: 0 | E11: 1034621332 | G11: =E11=SUM(B11:D11) | H11: =IF(E11=SUM(B11:D11),"",(E11)-(SUM(B11:D11)))
A12: 2025.12.31(당기말) | B12: 100000000 | C12: 5018173968 | D12: -1255220792 | E12: 3862953176 | G12: =E12=SUM(B12:D12) | H12: =IF(E12=SUM(B12:D12),"",(E12)-(SUM(B12:D12)))
A14: 검증: 2024.12.31(전기말) = 2024.1.1(전기초) + 변동액 합계 | B14: =B7=B5+SUM(B6:B6) | C14: =C7=C5+SUM(C6:C6) | D14: =D7=D5+SUM(D6:D6) | E14: =E7=E5+SUM(E6:E6)
A15: ↳ 차이 | B15: =IF(B7=B5+SUM(B6:B6),"",(B7)-(B5+SUM(B6:B6))) | C15: =IF(C7=C5+SUM(C6:C6),"",(C7)-(C5+SUM(C6:C6))) | D15: =IF(D7=D5+SUM(D6:D6),"",(D7)-(D5+SUM(D6:D6))) | E15: =IF(E7=E5+SUM(E6:E6),"",(E7)-(E5+SUM(E6:E6)))
A16: 검증: 2025.12.31(당기말) = 2025.1.1(당기초) + 변동액 합계 | B16: =B12=B8+SUM(B9:B11) | C16: =C12=C8+SUM(C9:C11) | D16: =D12=D8+SUM(D9:D11) | E16: =E12=E8+SUM(E9:E11)
A17: ↳ 차이 | B17: =IF(B12=B8+SUM(B9:B11),"",(B12)-(B8+SUM(B9:B11))) | C17: =IF(C12=C8+SUM(C9:C11),"",(C12)-(C8+SUM(C9:C11))) | D17: =IF(D12=D8+SUM(D9:D11),"",(D12)-(D8+SUM(D9:D11))) | E17: =IF(E12=E8+SUM(E9:E11),"",(E12)-(E8+SUM(E9:E11)))

Sheet CF
A1: 현 금 흐 름 표
A2: (단위: 원)
A4: 과 목 | B4: 제 5(당) 기 | C4: 제 4(전) 기 | E4: 검증(제 5(당) 기) | F4: 검증(제 4(전) 기) | G4: 차이(제 5(당) 기) | H4: 차이(제 4(전) 기)
A5: Ⅰ. 영업활동으로 인한 현금흐름 | B5: -3000000000 | C5: -500000000 | E5: =B5=B6+B7+B9 | F5: =C5=C6+C7+C9 | G5: =IF(B5=B6+B7+B9,"",(B5)-(B6+B7+B9)) | H5: =IF(C5=C6+C7+C9,"",(C5)-(C6+C7+C9))
A6: 1. 당기순이익(손실) | B6: -5066718027 | C6: -1400929665
A7: 2. 현금의 유출이 없는 비용등의 가산 | B7: 2266718027 | C7: 900929665 | E7: =B7=SUM(B8:B8) | F7: =C7=SUM(C8:C8) | G7: =IF(B7=SUM(B8:B8),"",(B7)-(SUM(B8:B8))) | H7: =IF(C7=SUM(C8:C8),"",(C7)-(SUM(C8:C8)))
A8: 대손상각비 | B8: 2266718027 | C8: 900929665
A9: 3. 현금의 유입이 없는 수익등의 차감 | B9: -200000000 | C9: 0 | E9: =B9=-SUM(B10:B10) | F9: =C9=SUM(C10:C10) | G9: =IF(B9=-SUM(B10:B10),"",(B9)-(-SUM(B10:B10))) | H9: =IF(C9=SUM(C10:C10),"",(C9)-(SUM(C10:C10)))
A10: 이자수익 | B10: 200000000 | C10: 0
A11: Ⅱ. 투자활동으로 인한 현금흐름 | B11: -1968010685 | C11: 0 | E11: =B11=SUM(B12:B12) | F11: =C11=SUM(C12:C12) | G11: =IF(B11=SUM(B12:B12),"",(B11)-(SUM(B12:B12))) | H11: =IF(C11=SUM(C12:C12),"",(C11)-(SUM(C12:C12)))
A12: 1. 단기대여금의 증가 | B12: -1968010685 | C12: 0
A13: Ⅲ. 재무활동으로 인한 현금흐름 | B13: 5000000000 | C13: 509553969 | E13: =B13=SUM(B14:B16) | F13: =C13=SUM(C14:C16) | G13: =IF(B13=SUM(B14:B16),"",(B13)-(SUM(B14:B16))) | H13: =IF(C13=SUM(C14:C16),"",(C13)-(SUM(C14:C16)))
A14: 1. 전환사채의 발행 | B14: 3773000000 | C14: 0
A15: 2. 신주의 발행 | B15: 1227000000 | C15: 0
A16: 3. 단기차입금의 차입 | B16: 0 | C16: 509553969
A17: Ⅳ. 현금의 증가(감소) | B17: 31989315 | C17: 9553969 | E17: =B17=B5+B11+B13 | F17: =C17=C5+C11+C13 | G17: =IF(B17=B5+B11+B13,"",(B17)-(B5+B11+B13)) | H17: =IF(C17=C5+C11+C13,"",(C17)-(C5+C11+C13))
A18: Ⅴ. 기초의 현금 | B18: 19553969 | C18: 10000000
A19: Ⅵ. 기말의 현금 | B19: 51543284 | C19: 19553969 | E19: =B19=B18+B17 | F19: =C19=C18+C17 | G19: =IF(B19=B18+B17,"",(B19)-(B18+B17)) | H19: =IF(C19=C18+C17,"",(C19)-(C18+C17))

Sheet 주석매핑
B2: 재무제표 ↔ 주석번호 매핑
B3: 기재된 주석번호와 엔진이 찾은 관련 주석(제목 일치·금액 발견)을 대조 — '기재 검토'는 근거가 강한 항목만 제안합니다
B5: 재무제표 | C5: 계정과목 | D5: 당기 금액 | E5: 기재된 주석 | F5: 관련 주석 (근거) | G5: 판정
B6: 재 무 상 태 표 | C6: 현금및현금성자산 | D6: 51543284 | E6: 4 | F6: 4(제목·금액×2) | G6: 일치
B7: 재 무 상 태 표 | C7: 단기매매증권 | D7: 14460290400 | E7: 5 | F7: 5(제목) | G7: 일치
B8: 재 무 상 태 표 | C8: 단기대여금 | D8: 20087231602 | E8: 6, 16 | F8: 6(금액×2), 16(금액×2) | G8: 일치
B9: 재 무 상 태 표 | C9: 대손충당금 | D9: -20087231602 | E9: 6, 16 | F9: 6(금액), 16(금액) | G9: 일치
B10: 재 무 상 태 표 | C10: 기타비유동자산 | D10: 200000 | E10: - | F10: 6(금액×2) | G10: 기재 검토 — 주석 6
B11: 재 무 상 태 표 | C11: 임차보증금 | D11: 200000 | E11: 6 | F11: 6(금액×2) | G11: 일치
B12: 재 무 상 태 표 | C12: 단기차입금 | D12: 6409408713 | E12: 8, 16 | F12: 8(금액×2), 16(금액×2) | G12: 일치
B13: 재 무 상 태 표 | C13: 장기차입금 | D13: 0 | E13: 8 | F13: 8(금액) | G13: 일치
B14: 재 무 상 태 표 | C14: 전환사채 | D14: 3773000000 | E14: 9 | F14: 9(제목·금액) | G14: 일치
B15: 재 무 상 태 표 | C15: 상환할증금 | D15: 452760000 | E15: 9 | F15: 9(금액) | G15: 일치
B16: 재 무 상 태 표 | C16: 전환권조정 | D16: -1269096316 | E16: 9 | F16: 9(금액) | G16: 일치
B17: 재 무 상 태 표 | C17: 자 본 금 | D17: 100000000 | E17: 10 | F17: 10(제목·금액×2) | G17: 일치
... B25: 포 괄 손 익 계 산 서 | C25: 지급수수료 | D25: 1067014606 | E25: - | F25: 13(금액×2) | G25: 기재 검토 — 주석 13

Sheet 주석4
A1: 4. 현금및현금성자산
A2: (단위: 천원)
A3: 구 분 | B3: 당기 | C3: 전기
A4: 보통예금 | B4: 51543 | C4: 19554
A5: 본표대사 (현금및현금성자산 ↔ 재무상태표) | B5: =ABS(ABS(B4)-ABS(ROUND((BS!B8)/1000,0)))<=2 | C5: =ABS(ABS(C4)-ABS(ROUND((BS!C8)/1000,0)))<=2
A6: ↳ 차이 | B6: =IF(ABS(ABS(B4)-ABS(ROUND((BS!B8)/1000,0)))<=2,"",ABS(B4)-ABS(ROUND((BS!B8)/1000,0))) | C6: =IF(ABS(ABS(C4)-ABS(ROUND((BS!C8)/1000,0)))<=2,"",ABS(C4)-ABS(ROUND((BS!C8)/1000,0)))

Sheet 주석5
A1: 5. 단기매매증권
A2: (단위: 천원)
A3: 구 분 | B3: 당기 | C3: 전기
A4: 수익증권 | B4: 14460290400 | C4: 41365277513
A5: 본표대사 (단기매매증권 ↔ 재무상태표) | B5: =ABS(ABS(B4)-ABS((BS!B9)))<=1 | C5: =ABS(ABS(C4)-ABS((BS!C9)))<=1
A6: ↳ 차이 | B6: =IF(ABS(ABS(B4)-ABS((BS!B9)))<=1,"",ABS(B4)-ABS((BS!B9))) | C6: =IF(ABS(ABS(C4)-ABS((BS!C9)))<=1,"",ABS(C4)-ABS((BS!C9)))

Sheet 주석6
A1: 6. 대여금 및 수취채권
A2: (단위: 원)
A3: 구 분 | B3: 당기 | C3: 전기
A4: 단기대여금 | B4: 20087231602 | C4: 15977075780
A5: 대손충당금 | B5: 20087231602 | C5: 0
A6: 임차보증금 | B6: 200000 | C6: 200000
A7: 본표대사 (단기대여금 ↔ 재무상태표) | B7: =ABS(ABS(B4)-ABS((BS!B10)))<=1 | C7: =ABS(ABS(C4)-ABS((BS!C10)))<=1
A8: ↳ 차이 | B8: =IF(ABS(ABS(B4)-ABS((BS!B10)))<=1,"",ABS(B4)-ABS((BS!B10))) | C8: =IF(ABS(ABS(C4)-ABS((BS!C10)))<=1,"",ABS(C4)-ABS((BS!C10)))
A9: 본표대사 (대손충당금 ↔ 재무상태표) | B9: =ABS(ABS(B4)-ABS((BS!B11)))<=1
A10: ↳ 차이 | B10: =IF(ABS(ABS(B4)-ABS((BS!B11)))<=1,"",ABS(B4)-ABS((BS!B11)))
A11: 본표대사 (임차보증금 ↔ 재무상태표) | B11: =ABS(ABS(B6)-ABS((BS!B20)))<=1 | C11: =ABS(ABS(C6)-ABS((BS!C20)))<=1
A12: ↳ 차이 | B12: =IF(ABS(ABS(B6)-ABS((BS!B20)))<=1,"",ABS(B6)-ABS((BS!B20))) | C12: =IF(ABS(ABS(C6)-ABS((BS!C20)))<=1,"",ABS(C6)-ABS((BS!C20)))

Sheet 주석8
A1: 8. 차입금
A2: (단위: 원)
A3: 구 분 | B3: 당기 | C3: 전기
A4: 단기차입금 | B4: 6409408713 | C4: 58963030842
A5: 장기차입금 | B5: 0 | C5: 240000000
A6: 합 계 | B6: 6409408714 | C6: 59203030842
A7: 합계검증 (합 계 행) | B7: =B6=(SUM(B4:B5)) | C7: =C6=(SUM(C4:C5))
A8: ↳ 차이 | B8: =IF(B6=(SUM(B4:B5)),"",(B6)-((SUM(B4:B5)))) | C8: =IF(C6=(SUM(C4:C5)),"",(C6)-((SUM(C4:C5))))
A9: 본표대사 (단기차입금 ↔ 재무상태표) | B9: =ABS(ABS(B4)-ABS((BS!B27)))<=1 | C9: =ABS(ABS(C4)-ABS((BS!C27)))<=1
A10: ↳ 차이 | B10: =IF(ABS(ABS(B4)-ABS((BS!B27)))<=1,"",ABS(B4)-ABS((BS!B27))) | C10: =IF(ABS(ABS(C4)-ABS((BS!C27)))<=1,"",ABS(C4)-ABS((BS!C27)))

Sheet 주석9
A1: 9. 전환사채
A2: (단위: 원)
A3: 구 분 | B3: 당기 | C3: 전기
A4: 전환사채 | B4: 3773000000 | C4: 0
A5: 상환할증금 | B5: 452760000 | C5: 0
A6: 전환권조정 | B6: 1269096316 | C6: 0
A7: 전환권대가 | B7: 1034621332 | C7: 0
A8: 본표대사 (전환사채 ↔ 재무상태표) | B8: =ABS(ABS(B4)-ABS((BS!B30)))<=1
A9: ↳ 차이 | B9: =IF(ABS(ABS(B4)-ABS((BS!B30)))<=1,"",ABS(B4)-ABS((BS!B30)))
A10: 본표대사 (상환할증금 ↔ 재무상태표) | B10: =ABS(ABS(B5)-ABS((BS!B31)))<=1
A11: ↳ 차이 | B11: =IF(ABS(ABS(B5)-ABS((BS!B31)))<=1,"",ABS(B5)-ABS((BS!B31)))
A12: 본표대사 (전환권조정 ↔ 재무상태표) | B12: =ABS(ABS(B6)-ABS((BS!B32)))<=1
A13: ↳ 차이 | B13: =IF(ABS(ABS(B6)-ABS((BS!B32)))<=1,"",ABS(B6)-ABS((BS!B32)))
A14: 본표대사 (전환권대가 ↔ 재무상태표) | B14: =ABS(ABS(B7)-ABS((BS!B39)))<=1
A15: ↳ 차이 | B15: =IF(ABS(ABS(B7)-ABS((BS!B39)))<=1,"",ABS(B7)-ABS((BS!B39)))

Sheet 주석10
A1: 10. 자본금
A2: (단위: 원)
A3: 구 분 | B3: 당기 | C3: 전기
A4: 보통주자본금 | B4: 100000000 | C4: 100000000
A5: 본표대사 (자 본 금 ↔ 재무상태표) | B5: =ABS(ABS(B4)-ABS((BS!B35)))<=1 | C5: =ABS(ABS(C4)-ABS((BS!C35)))<=1
A6: ↳ 차이 | B6: =IF(ABS(ABS(B4)-ABS((BS!B35)))<=1,"",ABS(B4)-ABS((BS!B35))) | C6: =IF(ABS(ABS(C4)-ABS((BS!C35)))<=1,"",ABS(C4)-ABS((BS!C35)))

Sheet 주석13
A1: 13. 판매비와관리비
A2: (단위: 천원)
A3: 구 분 | B3: 당기 | C3: 전기
A4: 세금과공과 | B4: 213 | C4: 1111
A5: 임차료 | B5: 600 | C5: 600
A6: 지급수수료 | B6: 1067015 | C6: 115962
A7: 도서인쇄비 | B7: 2200 | C7: 0
A8: 합 계 | B8: 1070027 | C8: 117673
A9: 합계검증 (합 계 행) | B9: =B8=(SUM(B4:B7)) | C9: =C8=(SUM(C4:C7))
A10: ↳ 차이 | B10: =IF(B8=(SUM(B4:B7)),"",(B8)-((SUM(B4:B7)))) | C10: =IF(C8=(SUM(C4:C7)),"",(C8)-((SUM(C4:C7))))
A11: 본표대사 (판매비와관리비 ↔ 손익계산서) | B11: =ABS(ABS(B8)-ABS(ROUND((PL!B8)/1000,0)))<=2 | C11: =ABS(ABS(C8)-ABS(ROUND((PL!C8)/1000,0)))<=2
A12: ↳ 차이 | B12: =IF(ABS(ABS(B8)-ABS(ROUND((PL!B8)/1000,0)))<=2,"",ABS(B8)-ABS(ROUND((PL!B8)/1000,0))) | C12: =IF(ABS(ABS(C8)-ABS(ROUND((PL!C8)/1000,0)))<=2,"",ABS(C8)-ABS(ROUND((PL!C8)/1000,0)))
A13: 본표대사 (세금과공과금 ↔ 손익계산서) | B13: =ABS(ABS(B4)-ABS(ROUND((PL!B10)/1000,0)))<=2 | C13: =ABS(ABS(C4)-ABS(ROUND((PL!C10)/1000,0)))<=2
A14: ↳ 차이 | B14: =IF(ABS(ABS(B4)-ABS(ROUND((PL!B10)/1000,0)))<=2,"",ABS(B4)-ABS(ROUND((PL!B10)/1000,0))) | C14: =IF(ABS(ABS(C4)-ABS(ROUND((PL!C10)/1000,0)))<=2,"",ABS(C4)-ABS(ROUND((PL!C10)/1000,0)))
A15: 본표대사 (임차료 ↔ 손익계산서) | B15: =ABS(ABS(B5)-ABS(ROUND((PL!B11)/1000,0)))<=2 | C15: =ABS(ABS(C5)-ABS(ROUND((PL!C11)/1000,0)))<=2
A16: ↳ 차이 | B16: =IF(ABS(ABS(B5)-ABS(ROUND((PL!B11)/1000,0)))<=2,"",ABS(B5)-ABS(ROUND((PL!B11)/1000,0))) | C16: =IF(ABS(ABS(C5)-ABS(ROUND((PL!C11)/1000,0)))<=2,"",ABS(C5)-ABS(ROUND((PL!C11)/1000,0)))

Sheet 주석16
A1: 16. 특수관계자 거래
A2: (단위: 원)
A3: 구 분 | B3: 당기 | C3: 전기
A4: 단기대여금 | B4: 20087231602 | C4: 15977075780
A5: 단기차입금 | B5: 6409408713 | C5: 58963030842
A6: 본표대사 (단기대여금 ↔ 재무상태표) | B6: =ABS(ABS(B4)-ABS((BS!B10)))<=1
A7: ↳ 차이 | B7: =IF(ABS(ABS(B4)-ABS((BS!B10)))<=1,"",ABS(B4)-ABS((BS!B10)))
A8: 본표대사 (대손충당금 ↔ 재무상태표) | B8: =ABS(ABS(B4)-ABS((BS!B11)))<=1
A9: ↳ 차이 | B9: =IF(ABS(ABS(B4)-ABS((BS!B11)))<=1,"",ABS(B4)-ABS((BS!B11)))
A10: 본표대사 (단기차입금 ↔ 재무상태표) | B10: =ABS(ABS(B5)-ABS((BS!B27)))<=1
A11: ↳ 차이 | B11: =IF(ABS(ABS(B5)-ABS((BS!B27)))<=1,"",ABS(B5)-ABS((BS!B27)))

Sheet _dsdf
A1: DSD Footing 검증워크북 지문 — 이 시트는 수정하지 마세요
A2: ver | B2: 1
A3: co | B3: ea055ed41ea8
A4: year | B4: 2025
A5: period | B5: Y
A6: scope | B6: S
A8: BS | B8: 1 | C8: dea7e3dd0f
A9: BS | B9: 2 | C9: 044bf08836
A10: BS | B10: 4 | C10: 0928442a3a
A11: BS | B11: 5 | C11: 40ce1366f1
A12: BS | B12: 6 | C12: cca5db6c03
A13: BS | B13: 7 | C13: 661618e047
A14: BS | B14: 8 | C14: c41df4c63e
A15: BS | B15: 9 | C15: 2c33ef6c76
A16: BS | B16: 10 | C16: 057ed1a314
A17: BS | B17: 11 | C17: ba535bd804
A18: BS | B18: 12 | C18: c1d93463fa
A19: BS | B19: 13 | C19: cdc17a9918
... A192: 주석16 | B192: 11 | C192: 9acf933c3e

Sheet _f_검증요약
B2: • | H2: =IF(0+IF(LEFT(E7,5)="FALSE",1,0)+IF(LEFT(F7,5)="FALSE",1,0)+IF(LEFT(E8,5)="FALSE",1,0)+IF(LEFT(F8,5)="FALSE",1,0)+IF(LEFT(F9,5)="FALSE",1,0)+IF(LEFT(E10,5)="FALSE",1,0)+IF(LEFT(F10,5)="FALSE",1,0)+IF(LEFT(E11,5)="FALSE",1,0)+IF(LEFT(F11,5)="FALSE",1,0)+IF(LEFT(E15,5)="FALSE",1,0)+IF(LEFT(F15,5)="FALSE",1,0)+IF(LEFT(E16,5)="FALSE",1,0)+IF(LEFT(F16,5)="FALSE",1,0)+IF(LEFT(E17,5)="FALSE",1,0)+IF(LEFT(F17,5)="FALSE",1,0)+IF(LEFT(E18,5)="FALSE",1,0)+IF(LEFT(E19,5)="FALSE",1,0)+IF(LEFT(F19,5)="FALSE",1,0)+IF(LEFT(E20,5)="FALSE",1,0)+IF(LEFT(F20,5)="FALSE",1,0)+IF(LEFT(E21,5)="FALSE",1,0)+IF(LEFT(E22,5)="FALSE",1,0)+IF(LEFT(E23,5)="FALSE",1,0)+IF(LEFT(E24,5)="FALSE",1,0)+IF(LEFT(F24,5)="FALSE",1,0)+IF(LEFT(E25,5)="FALSE",1,0)+IF(LEFT(E26,5)="FALSE",1,0)+IF(LEFT(F26,5)="FALSE",1,0)+IF(LEFT(E27,5)="FALSE",1,0)+IF(LEFT(F27,5)="FALSE",1,0)+IF(LEFT(E28,5)="FALSE",1,0)+IF(LEFT(F28,5)="FALSE",1,0)=0,"이상 없음","불일치 "&(0+IF(LEFT(E7,5)="FALSE",1,0)+IF(LEFT(F7,5)="FALSE",1,0)+IF(LEFT(E8,5)="FALSE",1,0)+IF(LEFT(F8,5)="FALSE",1,0)+IF(LEFT(F9,5)="FALSE",1,0)+IF(LEFT(E10,5)="FALSE",1,0)+IF(LEFT(F10,5)="FALSE",1,0)+IF(LEFT(E11,5)="FALSE",1,0)+IF(LEFT(F11,5)="FALSE",1,0)+IF(LEFT(E15,5)="FALSE",1,0)+IF(LEFT(F15,5)="FALSE",1,0)+IF(LEFT(E16,5)="FALSE",1,0)+IF(LEFT(F16,5)="FALSE",1,0)+IF(LEFT(E17,5)="FALSE",1,0)+IF(LEFT(F17,5)="FALSE",1,0)+IF(LEFT(E18,5)="FALSE",1,0)+IF(LEFT(E19,5)="FALSE",1,0)+IF(LEFT(F19,5)="FALSE",1,0)+IF(LEFT(E20,5)="FALSE",1,0)+IF(LEFT(F20,5)="FALSE",1,0)+IF(LEFT(E21,5)="FALSE",1,0)+IF(LEFT(E22,5)="FALSE",1,0)+IF(LEFT(E23,5)="FALSE",1,0)+IF(LEFT(E24,5)="FALSE",1,0)+IF(LEFT(F24,5)="FALSE",1,0)+IF(LEFT(E25,5)="FALSE",1,0)+IF(LEFT(E26,5)="FALSE",1,0)+IF(LEFT(F26,5)="FALSE",1,0)+IF(LEFT(E27,5)="FALSE",1,0)+IF(LEFT(F27,5)="FALSE",1,0)+IF(LEFT(E28,5)="FALSE",1,0)+IF(LEFT(F28,5)="FALSE",1,0))&"건")
B3: •
B5: •
B6: • | C6: • | D6: • | E6: • | F6: •
B7: • | C7: • | D7: • | E7: =IF(ABS((BS!B21)-(BS!B43))<=0,TRUE,"FALSE ("&TEXT((BS!B21)-(BS!B43),"#,##0")&")") | F7: =IF(ABS((BS!C21)-(BS!C43))<=0,TRUE,"FALSE ("&TEXT((BS!C21)-(BS!C43),"#,##0")&")")
B8: • | C8: • | D8: • | E8: =IF(ABS((CF!B19)-(BS!B8))<=0,TRUE,"FALSE ("&TEXT((CF!B19)-(BS!B8),"#,##0")&")") | F8: =IF(ABS((CF!B18)-(BS!C8))<=0,TRUE,"FALSE ("&TEXT((CF!B18)-(BS!C8),"#,##0")&")")
B9: • | C9: • | D9: • | F9: =IF(ABS((CF!C19)-(CF!B18))<=0,TRUE,"FALSE ("&TEXT((CF!C19)-(CF!B18),"#,##0")&")")
B10: • | C10: • | D10: • | E10: =IF(ABS((PL!B29)-(CE!E9))<=0,TRUE,"FALSE ("&TEXT((PL!B29)-(CE!E9),"#,##0")&")") | F10: =IF(ABS((PL!C29)-(CE!E6))<=0,TRUE,"FALSE ("&TEXT((PL!C29)-(CE!E6),"#,##0")&")")
B11: • | C11: • | D11: • | E11: =IF(ABS((CE!E12)-(BS!B42))<=0,TRUE,"FALSE ("&TEXT((CE!E12)-(BS!B42),"#,##0")&")") | F11: =IF(ABS((CE!E8)-(BS!C42))<=0,TRUE,"FALSE ("&TEXT((CE!E8)-(BS!C42),"#,##0")&")")
B13: •
B14: • | C14: • | D14: • | E14: • | F14: •
B15: • | C15: • | D15: • | E15: =IF(ABS(ABS(ROUND((BS!B8)/1000,0))-ABS(주석4!B4))<=2,TRUE,"FALSE ("&TEXT(ABS(ROUND((BS!B8)/1000,0))-ABS(주석4!B4),"#,##0")&")") | F15: =IF(ABS(ABS(ROUND((BS!C8)/1000,0))-ABS(주석4!C4))<=2,TRUE,"FALSE ("&TEXT(ABS(ROUND((BS!C8)/1000,0))-ABS(주석4!C4),"#,##0")&")")
B16: • | C16: • | D16: • | E16: =IF(ABS(ABS((BS!B9))-ABS(주석5!B4))<=1,TRUE,"FALSE ("&TEXT(ABS((BS!B9))-ABS(주석5!B4),"#,##0")&")") | F16: =IF(ABS(ABS((BS!C9))-ABS(주석5!C4))<=1,TRUE,"FALSE ("&TEXT(ABS((BS!C9))-ABS(주석5!C4),"#,##0")&")")
B17: • | C17: • | D17: • | E17: =IF(ABS(ABS((BS!B10))-ABS(주석6!B4))<=1,TRUE,"FALSE ("&TEXT(ABS((BS!B10))-ABS(주석6!B4),"#,##0")&")") | F17: =IF(ABS(ABS((BS!C10))-ABS(주석6!C4))<=1,TRUE,"FALSE ("&TEXT(ABS((BS!C10))-ABS(주석6!C4),"#,##0")&")")
B18: • | C18: • | D18: • | E18: =IF(ABS(ABS((BS!B11))-ABS(주석6!B4))<=1,TRUE,"FALSE ("&TEXT(ABS((BS!B11))-ABS(주석6!B4),"#,##0")&")")
B19: • | C19: • | D19: • | E19: =IF(ABS(ABS((BS!B20))-ABS(주석6!B6))<=1,TRUE,"FALSE ("&TEXT(ABS((BS!B20))-ABS(주석6!B6),"#,##0")&")") | F19: =IF(ABS(ABS((BS!C20))-ABS(주석6!C6))<=1,TRUE,"FALSE ("&TEXT(ABS((BS!C20))-ABS(주석6!C6),"#,##0")&")")
B20: • | C20: • | D20: • | E20: =IF(ABS(ABS((BS!B27))-ABS(주석8!B4))<=1,TRUE,"FALSE ("&TEXT(ABS((BS!B27))-ABS(주석8!B4),"#,##0")&")") | F20: =IF(ABS(ABS((BS!C27))-ABS(주석8!C4))<=1,TRUE,"FALSE ("&TEXT(ABS((BS!C27))-ABS(주석8!C4),"#,##0")&")")
B21: • | C21: • | D21: • | E21: =IF(ABS(ABS((BS!B30))-ABS(주석9!B4))<=1,TRUE,"FALSE ("&TEXT(ABS((BS!B30))-ABS(주석9!B4),"#,##0")&")")
B22: • | C22: • | D22: • | E22: =IF(ABS(ABS((BS!B31))-ABS(주석9!B5))<=1,TRUE,"FALSE ("&TEXT(ABS((BS!B31))-ABS(주석9!B5),"#,##0")&")")
B23: • | C23: • | D23: • | E23: =IF(ABS(ABS((BS!B32))-ABS(주석9!B6))<=1,TRUE,"FALSE ("&TEXT(ABS((BS!B32))-ABS(주석9!B6),"#,##0")&")")
B24: • | C24: • | D24: • | E24: =IF(ABS(ABS((BS!B35))-ABS(주석10!B4))<=1,TRUE,"FALSE ("&TEXT(ABS((BS!B35))-ABS(주석10!B4),"#,##0")&")") | F24: =IF(ABS(ABS((BS!C35))-ABS(주석10!C4))<=1,TRUE,"FALSE ("&TEXT(ABS((BS!C35))-ABS(주석10!C4),"#,##0")&")")
B25: • | C25: • | D25: • | E25: =IF(ABS(ABS((BS!B39))-ABS(주석9!B7))<=1,TRUE,"FALSE ("&TEXT(ABS((BS!B39))-ABS(주석9!B7),"#,##0")&")")
B26: • | C26: • | D26: • | E26: =IF(ABS(ABS(ROUND((PL!B8)/1000,0))-ABS(주석13!B8))<=2,TRUE,"FALSE ("&TEXT(ABS(ROUND((PL!B8)/1000,0))-ABS(주석13!B8),"#,##0")&")") | F26: =IF(ABS(ABS(ROUND((PL!C8)/1000,0))-ABS(주석13!C8))<=2,TRUE,"FALSE ("&TEXT(ABS(ROUND((PL!C8)/1000,0))-ABS(주석13!C8),"#,##0")&")")
B27: • | C27: • | D27: • | E27: =IF(ABS(ABS(ROUND((PL!B10)/1000,0))-ABS(주석13!B4))<=2,TRUE,"FALSE ("&TEXT(ABS(ROUND((PL!B10)/1000,0))-ABS(주석13!B4),"#,##0")&")") | F27: =IF(ABS(ABS(ROUND((PL!C10)/1000,0))-ABS(주석13!C4))<=2,TRUE,"FALSE ("&TEXT(ABS(ROUND((PL!C10)/1000,0))-ABS(주석13!C4),"#,##0")&")")
B28: • | C28: • | D28: • | E28: =IF(ABS(ABS(ROUND((PL!B11)/1000,0))-ABS(주석13!B5))<=2,TRUE,"FALSE ("&TEXT(ABS(ROUND((PL!B11)/1000,0))-ABS(주석13!B5),"#,##0")&")") | F28: =IF(ABS(ABS(ROUND((PL!C11)/1000,0))-ABS(주석13!C5))<=2,TRUE,"FALSE ("&TEXT(ABS(ROUND((PL!C11)/1000,0))-ABS(주석13!C5),"#,##0")&")")
B30: •

Sheet _c_검증요약
A1: =IF(ISBLANK('검증요약'!A1),IF(LEFT('_f_검증요약'!A1,1)="=","M",""),IF(IFERROR(_xlfn.FORMULATEXT('검증요약'!A1),"")<>"",IF(_xlfn.FORMULATEXT('검증요약'!A1)<>'_f_검증요약'!A1,"M",""),IF(OR(LEFT('_f_검증요약'!A1,1)="=",'_f_검증요약'!A1=""),"M",""))) | B1: =IF(ISBLANK('검증요약'!B1),IF(LEFT('_f_검증요약'!B1,1)="=","M",""),IF(IFERROR(_xlfn.FORMULATEXT('검증요약'!B1),"")<>"",IF(_xlfn.FORMULATEXT('검증요약'!B1)<>'_f_검증요약'!B1,"M",""),IF(OR(LEFT('_f_검증요약'!B1,1)="=",'_f_검증요약'!B1=""),"M",""))) | C1: =IF(ISBLANK('검증요약'!C1),IF(LEFT('_f_검증요약'!C1,1)="=","M",""),IF(IFERROR(_xlfn.FORMULATEXT('검증요약'!C1),"")<>"",IF(_xlfn.FORMULATEXT('검증요약'!C1)<>'_f_검증요약'!C1,"M",""),IF(OR(LEFT('_f_검증요약'!C1,1)="=",'_f_검증요약'!C1=""),"M",""))) | D1: =IF(ISBLANK('검증요약'!D1),IF(LEFT('_f_검증요약'!D1,1)="=","M",""),IF(IFERROR(_xlfn.FORMULATEXT('검증요약'!D1),"")<>"",IF(_xlfn.FORMULATEXT('검증요약'!D1)<>'_f_검증요약'!D1,"M",""),IF(OR(LEFT('_f_검증요약'!D1,1)="=",'_f_검증요약'!D1=""),"M",""))) | E1: =IF(ISBLANK('검증요약'!E1),IF(LEFT('_f_검증요약'!E1,1)="=","M",""),IF(IFERROR(_xlfn.FORMULATEXT('검증요약'!E1),"")<>"",IF(_xlfn.FORMULATEXT('검증요약'!E1)<>'_f_검증요약'!E1,"M",""),IF(OR(LEFT('_f_검증요약'!E1,1)="=",'_f_검증요약'!E1=""),"M",""))) | F1: =IF(ISBLANK('검증요약'!F1),IF(LEFT('_f_검증요약'!F1,1)="=","M",""),IF(IFERROR(_xlfn.FORMULATEXT('검증요약'!F1),"")<>"",IF(_xlfn.FORMULATEXT('검증요약'!F1)<>'_f_검증요약'!F1,"M",""),IF(OR(LEFT('_f_검증요약'!F1,1)="=",'_f_검증요약'!F1=""),"M",""))) | G1: =IF(ISBLANK('검증요약'!G1),IF(LEFT('_f_검증요약'!G1,1)="=","M",""),IF(IFERROR(_xlfn.FORMULATEXT('검증요약'!G1),"")<>"",IF(_xlfn.FORMULATEXT('검증요약'!G1)<>'_f_검증요약'!G1,"M",""),IF(OR(LEFT('_f_검증요약'!G1,1)="=",'_f_검증요약'!G1=""),"M",""))) | H1: =IF(ISBLANK('검증요약'!H1),IF(LEFT('_f_검증요약'!H1,1)="=","M",""),IF(IFERROR(_xlfn.FORMULATEXT('검증요약'!H1),"")<>"",IF(_xlfn.FORMULATEXT('검증요약'!H1)<>'_f_검증요약'!H1,"M",""),IF(OR(LEFT('_f_검증요약'!H1,1)="=",'_f_검증요약'!H1=""),"M",""))) | ... P1: =IF(ISBLANK('검증요약'!P1),IF(LEFT('_f_검증요약'!P1,1)="=","M",""),IF(IFERROR(_xlfn.FORMULATEXT('검증요약'!P1),"")<>"",IF(_xlfn.FORMULATEXT('검증요약'!P1)<>'_f_검증요약'!P1,"M",""),IF(OR(LEFT('_f_검증요약'!P1,1)="=",'_f_검증요약'!P1=""),"M","")))
A2: =IF(ISBLANK('검증요약'!A2),IF(LEFT('_f_검증요약'!A2,1)="=","M",""),IF(IFERROR(_xlfn.FORMULATEXT('검증요약'!A2),"")<>"",IF(_xlfn.FORMULATEXT('검증요약'!A2)<>'_f_검증요약'!A2,"M",""),IF(OR(LEFT('_f_검증요약'!A2,1)="=",'_f_검증요약'!A2=""),"M",""))) | B2: =IF(ISBLANK('검증요약'!B2),IF(LEFT('_f_검증요약'!B2,1)="=","M",""),IF(IFERROR(_xlfn.FORMULATEXT('검증요약'!B2),"")<>"",IF(_xlfn.FORMULATEXT('검증요약'!B2)<>'_f_검증요약'!B2,"M",""),IF(OR(LEFT('_f_검증요약'!B2,1)="=",'_f_검증요약'!B2=""),"M",""))) | C2: =IF(ISBLANK('검증요약'!C2),IF(LEFT('_f_검증요약'!C2,1)="=","M",""),IF(IFERROR(_xlfn.FORMULATEXT('검증요약'!C2),"")<>"",IF(_xlfn.FORMULATEXT('검증요약'!C2)<>'_f_검증요약'!C2,"M",""),IF(OR(LEFT('_f_검증요약'!C2,1)="=",'_f_검증요약'!C2=""),"M",""))) | D2: =IF(ISBLANK('검증요약'!D2),IF(LEFT('_f_검증요약'!D2,1)="=","M",""),IF(IFERROR(_xlfn.FORMULATEXT('검증요약'!D2),"")<>"",IF(_xlfn.FORMULATEXT('검증요약'!D2)<>'_f_검증요약'!D2,"M",""),IF(OR(LEFT('_f_검증요약'!D2,1)="=",'_f_검증요약'!D2=""),"M",""))) | E2: =IF(ISBLANK('검증요약'!E2),IF(LEFT('_f_검증요약'!E2,1)="=","M",""),IF(IFERROR(_xlfn.FORMULATEXT('검증요약'!E2),"")<>"",IF(_xlfn.FORMULATEXT('검증요약'!E2)<>'_f_검증요약'!E2,"M",""),IF(OR(LEFT('_f_검증요약'!E2,1)="=",'_f_검증요약'!E2=""),"M",""))) | F2: =IF(ISBLANK('검증요약'!F2),IF(LEFT('_f_검증요약'!F2,1)="=","M",""),IF(IFERROR(_xlfn.FORMULATEXT('검증요약'!F2),"")<>"",IF(_xlfn.FORMULATEXT('검증요약'!F2)<>'_f_검증요약'!F2,"M",""),IF(OR(LEFT('_f_검증요약'!F2,1)="=",'_f_검증요약'!F2=""),"M",""))) | G2: =IF(ISBLANK('검증요약'!G2),IF(LEFT('_f_검증요약'!G2,1)="=","M",""),IF(IFERROR(_xlfn.FORMULATEXT('검증요약'!G2),"")<>"",IF(_xlfn.FORMULATEXT('검증요약'!G2)<>'_f_검증요약'!G2,"M",""),IF(OR(LEFT('_f_검증요약'!G2,1)="=",'_f_검증요약'!G2=""),"M",""))) | H2: =IF(ISBLANK('검증요약'!H2),IF(LEFT('_f_검증요약'!H2,1)="=","M",""),IF(IFERROR(_xlfn.FORMULATEXT('검증요약'!H2),"")<>"",IF(_xlfn.FORMULATEXT('검증요약'!H2)<>'_f_검증요약'!H2,"M",""),IF(OR(LEFT('_f_검증요약'!H2,1)="=",'_f_검증요약'!H2=""),"M",""))) | ... P2: =IF(ISBLANK('검증요약'!P2),IF(LEFT('_f_검증요약'!P2,1)="=","M",""),IF(IFERROR(_xlfn.FORMULATEXT('검증요약'!P2),"")<>"",IF(_xlfn.FORMULATEXT('검증요약'!P2)<>'_f_검증요약'!P2,"M",""),IF(OR(LEFT('_f_검증요약'!P2,1)="=",'_f_검증요약'!P2=""),"M","")))
A3: =IF(ISBLANK('검증요약'!A3),IF(LEFT('_f_검증요약'!A3,1)="=","M",""),IF(IFERROR(_xlfn.FORMULATEXT('검증요약'!A3),"")<>"",IF(_xlfn.FORMULATEXT('검증요약'!A3)<>'_f_검증요약'!A3,"M",""),IF(OR(LEFT('_f_검증요약'!A3,1)="=",'_f_검증요약'!A3=""),"M",""))) | B3: =IF(ISBLANK('검증요약'!B3),IF(LEFT('_f_검증요약'!B3,1)="=","M",""),IF(IFERROR(_xlfn.FORMULATEXT('검증요약'!B3),"")<>"",IF(_xlfn.FORMULATEXT('검증요약'!B3)<>'_f_검증요약'!B3,"M",""),IF(OR(LEFT('_f_검증요약'!B3,1)="=",'_f_검증요약'!B3=""),"M",""))) | C3: =IF(ISBLANK('검증요약'!C3),IF(LEFT('_f_검증요약'!C3,1)="=","M",""),IF(IFERROR(_xlfn.FORMULATEXT('검증요약'!C3),"")<>"",IF(_xlfn.FORMULATEXT('검증요약'!C3)<>'_f_검증요약'!C3,"M",""),IF(OR(LEFT('_f_검증요약'!C3,1)="=",'_f_검증요약'!C3=""),"M",""))) | D3: =IF(ISBLANK('검증요약'!D3),IF(LEFT('_f_검증요약'!D3,1)="=","M",""),IF(IFERROR(_xlfn.FORMULATEXT('검증요약'!D3),"")<>"",IF(_xlfn.FORMULATEXT('검증요약'!D3)<>'_f_검증요약'!D3,"M",""),IF(OR(LEFT('_f_검증요약'!D3,1)="=",'_f_검증요약'!D3=""),"M",""))) | E3: =IF(ISBLANK('검증요약'!E3),IF(LEFT('_f_검증요약'!E3,1)="=","M",""),IF(IFERROR(_xlfn.FORMULATEXT('검증요약'!E3),"")<>"",IF(_xlfn.FORMULATEXT('검증요약'!E3)<>'_f_검증요약'!E3,"M",""),IF(OR(LEFT('_f_검증요약'!E3,1)="=",'_f_검증요약'!E3=""),"M",""))) | F3: =IF(ISBLANK('검증요약'!F3),IF(LEFT('_f_검증요약'!F3,1)="=","M",""),IF(IFERROR(_xlfn.FORMULATEXT('검증요약'!F3),"")<>"",IF(_xlfn.FORMULATEXT('검증요약'!F3)<>'_f_검증요약'!F3,"M",""),IF(OR(LEFT('_f_검증요약'!F3,1)="=",'_f_검증요약'!F3=""),"M",""))) | G3: =IF(ISBLANK('검증요약'!G3),IF(LEFT('_f_검증요약'!G3,1)="=","M",""),IF(IFERROR(_xlfn.FORMULATEXT('검증요약'!G3),"")<>"",IF(_xlfn.FORMULATEXT('검증요약'!G3)<>'_f_검증요약'!G3,"M",""),IF(OR(LEFT('_f_검증요약'!G3,1)="=",'_f_검증요약'!G3=""),"M",""))) | H3: =IF(ISBLANK('검증요약'!H3),IF(LEFT('_f_검증요약'!H3,1)="=","M",""),IF(IFERROR(_xlfn.FORMULATEXT('검증요약'!H3),"")<>"",IF(_xlfn.FORMULATEXT('검증요약'!H3)<>'_f_검증요약'!H3,"M",""),IF(OR(LEFT('_f_검증요약'!H3,1)="=",'_f_검증요약'!H3=""),"M",""))) | ... P3: =IF(ISBLANK('검증요약'!P3),IF(LEFT('_f_검증요약'!P3,1)="=","M",""),IF(IFERROR(_xlfn.FORMULATEXT('검증요약'!P3),"")<>"",IF(_xlfn.FORMULATEXT('검증요약'!P3)<>'_f_검증요약'!P3,"M",""),IF(OR(LEFT('_f_검증요약'!P3,1)="=",'_f_검증요약'!P3=""),"M","")))
A4: =IF(ISBLANK('검증요약'!A4),IF(LEFT('_f_검증요약'!A4,1)="=","M",""),IF(IFERROR(_xlfn.FORMULATEXT('검증요약'!A4),"")<>"",IF(_xlfn.FORMULATEXT('검증요약'!A4)<>'_f_검증요약'!A4,"M",""),IF(OR(LEFT('_f_검증요약'!A4,1)="=",'_f_검증요약'!A4=""),"M",""))) | B4: =IF(ISBLANK('검증요약'!B4),IF(LEFT('_f_검증요약'!B4,1)="=","M",""),IF(IFERROR(_xlfn.FORMULATEXT('검증요약'!B4),"")<>"",IF(_xlfn.FORMULATEXT('검증요약'!B4)<>'_f_검증요약'!B4,"M",""),IF(OR(LEFT('_f_검증요약'!B4,1)="=",'_f_검증요약'!B4=""),"M",""))) | C4: =IF(ISBLANK('검증요약'!C4),IF(LEFT('_f_검증요약'!C4,1)="=","M",""),IF(IFERROR(_xlfn.FORMULATEXT('검증요약'!C4),"")<>"",IF(_xlfn.FORMULATEXT('검증요약'!C4)<>'_f_검증요약'!C4,"M",""),IF(OR(LEFT('_f_검증요약'!C4,1)="=",'_f_검증요약'!C4=""),"M",""))) | D4: =IF(ISBLANK('검증요약'!D4),IF(LEFT('_f_검증요약'!D4,1)="=","M",""),IF(IFERROR(_xlfn.FORMULATEXT('검증요약'!D4),"")<>"",IF(_xlfn.FORMULATEXT('검증요약'!D4)<>'_f_검증요약'!D4,"M",""),IF(OR(LEFT('_f_검증요약'!D4,1)="=",'_f_검증요약'!D4=""),"M",""))) | E4: =IF(ISBLANK('검증요약'!E4),IF(LEFT('_f_검증요약'!E4,1)="=","M",""),IF(IFERROR(_xlfn.FORMULATEXT('검증요약'!E4),"")<>"",IF(_xlfn.FORMULATEXT('검증요약'!E4)<>'_f_검증요약'!E4,"M",""),IF(OR(LEFT('_f_검증요약'!E4,1)="=",'_f_검증요약'!E4=""),"M",""))) | F4: =IF(ISBLANK('검증요약'!F4),IF(LEFT('_f_검증요약'!F4,1)="=","M",""),IF(IFERROR(_xlfn.FORMULATEXT('검증요약'!F4),"")<>"",IF(_xlfn.FORMULATEXT('검증요약'!F4)<>'_f_검증요약'!F4,"M",""),IF(OR(LEFT('_f_검증요약'!F4,1)="=",'_f_검증요약'!F4=""),"M",""))) | G4: =IF(ISBLANK('검증요약'!G4),IF(LEFT('_f_검증요약'!G4,1)="=","M",""),IF(IFERROR(_xlfn.FORMULATEXT('검증요약'!G4),"")<>"",IF(_xlfn.FORMULATEXT('검증요약'!G4)<>'_f_검증요약'!G4,"M",""),IF(OR(LEFT('_f_검증요약'!G4,1)="=",'_f_검증요약'!G4=""),"M",""))) | H4: =IF(ISBLANK('검증요약'!H4),IF(LEFT('_f_검증요약'!H4,1)="=","M",""),IF(IFERROR(_xlfn.FORMULATEXT('검증요약'!H4),"")<>"",IF(_xlfn.FORMULATEXT('검증요약'!H4)<>'_f_검증요약'!H4,"M",""),IF(OR(LEFT('_f_검증요약'!H4,1)="=",'_f_검증요약'!H4=""),"M",""))) | ... P4: =IF(ISBLANK('검증요약'!P4),IF(LEFT('_f_검증요약'!P4,1)="=","M",""),IF(IFERROR(_xlfn.FORMULATEXT('검증요약'!P4),"")<>"",IF(_xlfn.FORMULATEXT('검증요약'!P4)<>'_f_검증요약'!P4,"M",""),IF(OR(LEFT('_f_검증요약'!P4,1)="=",'_f_검증요약'!P4=""),"M","")))
A5: =IF(ISBLANK('검증요약'!A5),IF(LEFT('_f_검증요약'!A5,1)="=","M",""),IF(IFERROR(_xlfn.FORMULATEXT('검증요약'!A5),"")<>"",IF(_xlfn.FORMULATEXT('검증요약'!A5)<>'_f_검증요약'!A5,"M",""),IF(OR(LEFT('_f_검증요약'!A5,1)="=",'_f_검증요약'!A5=""),"M",""))) | B5: =IF(ISBLANK('검증요약'!B5),IF(LEFT('_f_검증요약'!B5,1)="=","M",""),IF(IFERROR(_xlfn.FORMULATEXT('검증요약'!B5),"")<>"",IF(_xlfn.FORMULATEXT('검증요약'!B5)<>'_f_검증요약'!B5,"M",""),IF(OR(LEFT('_f_검증요약'!B5,1)="=",'_f_검증요약'!B5=""),"M",""))) | C5: =IF(ISBLANK('검증요약'!C5),IF(LEFT('_f_검증요약'!C5,1)="=","M",""),IF(IFERROR(_xlfn.FORMULATEXT('검증요약'!C5),"")<>"",IF(_xlfn.FORMULATEXT('검증요약'!C5)<>'_f_검증요약'!C5,"M",""),IF(OR(LEFT('_f_검증요약'!C5,1)="=",'_f_검증요약'!C5=""),"M",""))) | D5: =IF(ISBLANK('검증요약'!D5),IF(LEFT('_f_검증요약'!D5,1)="=","M",""),IF(IFERROR(_xlfn.FORMULATEXT('검증요약'!D5),"")<>"",IF(_xlfn.FORMULATEXT('검증요약'!D5)<>'_f_검증요약'!D5,"M",""),IF(OR(LEFT('_f_검증요약'!D5,1)="=",'_f_검증요약'!D5=""),"M",""))) | E5: =IF(ISBLANK('검증요약'!E5),IF(LEFT('_f_검증요약'!E5,1)="=","M",""),IF(IFERROR(_xlfn.FORMULATEXT('검증요약'!E5),"")<>"",IF(_xlfn.FORMULATEXT('검증요약'!E5)<>'_f_검증요약'!E5,"M",""),IF(OR(LEFT('_f_검증요약'!E5,1)="=",'_f_검증요약'!E5=""),"M",""))) | F5: =IF(ISBLANK('검증요약'!F5),IF(LEFT('_f_검증요약'!F5,1)="=","M",""),IF(IFERROR(_xlfn.FORMULATEXT('검증요약'!F5),"")<>"",IF(_xlfn.FORMULATEXT('검증요약'!F5)<>'_f_검증요약'!F5,"M",""),IF(OR(LEFT('_f_검증요약'!F5,1)="=",'_f_검증요약'!F5=""),"M",""))) | G5: =IF(ISBLANK('검증요약'!G5),IF(LEFT('_f_검증요약'!G5,1)="=","M",""),IF(IFERROR(_xlfn.FORMULATEXT('검증요약'!G5),"")<>"",IF(_xlfn.FORMULATEXT('검증요약'!G5)<>'_f_검증요약'!G5,"M",""),IF(OR(LEFT('_f_검증요약'!G5,1)="=",'_f_검증요약'!G5=""),"M",""))) | H5: =IF(ISBLANK('검증요약'!H5),IF(LEFT('_f_검증요약'!H5,1)="=","M",""),IF(IFERROR(_xlfn.FORMULATEXT('검증요약'!H5),"")<>"",IF(_xlfn.FORMULATEXT('검증요약'!H5)<>'_f_검증요약'!H5,"M",""),IF(OR(LEFT('_f_검증요약'!H5,1)="=",'_f_검증요약'!H5=""),"M",""))) | ... P5: =IF(ISBLANK('검증요약'!P5),IF(LEFT('_f_검증요약'!P5,1)="=","M",""),IF(IFERROR(_xlfn.FORMULATEXT('검증요약'!P5),"")<>"",IF(_xlfn.FORMULATEXT('검증요약'!P5)<>'_f_검증요약'!P5,"M",""),IF(OR(LEFT('_f_검증요약'!P5,1)="=",'_f_검증요약'!P5=""),"M","")))
A6: =IF(ISBLANK('검증요약'!A6),IF(LEFT('_f_검증요약'!A6,1)="=","M",""),IF(IFERROR(_xlfn.FORMULATEXT('검증요약'!A6),"")<>"",IF(_xlfn.FORMULATEXT('검증요약'!A6)<>'_f_검증요약'!A6,"M",""),IF(OR(LEFT('_f_검증요약'!A6,1)="=",'_f_검증요약'!A6=""),"M",""))) | B6: =IF(ISBLANK('검증요약'!B6),IF(LEFT('_f_검증요약'!B6,1)="=","M",""),IF(IFERROR(_xlfn.FORMULATEXT('검증요약'!B6),"")<>"",IF(_xlfn.FORMULATEXT('검증요약'!B6)<>'_f_검증요약'!B6,"M",""),IF(OR(LEFT('_f_검증요약'!B6,1)="=",'_f_검증요약'!B6=""),"M",""))) | C6: =IF(ISBLANK('검증요약'!C6),IF(LEFT('_f_검증요약'!C6,1)="=","M",""),IF(IFERROR(_xlfn.FORMULATEXT('검증요약'!C6),"")<>"",IF(_xlfn.FORMULATEXT('검증요약'!C6)<>'_f_검증요약'!C6,"M",""),IF(OR(LEFT('_f_검증요약'!C6,1)="=",'_f_검증요약'!C6=""),"M",""))) | D6: =IF(ISBLANK('검증요약'!D6),IF(LEFT('_f_검증요약'!D6,1)="=","M",""),IF(IFERROR(_xlfn.FORMULATEXT('검증요약'!D6),"")<>"",IF(_xlfn.FORMULATEXT('검증요약'!D6)<>'_f_검증요약'!D6,"M",""),IF(OR(LEFT('_f_검증요약'!D6,1)="=",'_f_검증요약'!D6=""),"M",""))) | E6: =IF(ISBLANK('검증요약'!E6),IF(LEFT('_f_검증요약'!E6,1)="=","M",""),IF(IFERROR(_xlfn.FORMULATEXT('검증요약'!E6),"")<>"",IF(_xlfn.FORMULATEXT('검증요약'!E6)<>'_f_검증요약'!E6,"M",""),IF(OR(LEFT('_f_검증요약'!E6,1)="=",'_f_검증요약'!E6=""),"M",""))) | F6: =IF(ISBLANK('검증요약'!F6),IF(LEFT('_f_검증요약'!F6,1)="=","M",""),IF(IFERROR(_xlfn.FORMULATEXT('검증요약'!F6),"")<>"",IF(_xlfn.FORMULATEXT('검증요약'!F6)<>'_f_검증요약'!F6,"M",""),IF(OR(LEFT('_f_검증요약'!F6,1)="=",'_f_검증요약'!F6=""),"M",""))) | G6: =IF(ISBLANK('검증요약'!G6),IF(LEFT('_f_검증요약'!G6,1)="=","M",""),IF(IFERROR(_xlfn.FORMULATEXT('검증요약'!G6),"")<>"",IF(_xlfn.FORMULATEXT('검증요약'!G6)<>'_f_검증요약'!G6,"M",""),IF(OR(LEFT('_f_검증요약'!G6,1)="=",'_f_검증요약'!G6=""),"M",""))) | H6: =IF(ISBLANK('검증요약'!H6),IF(LEFT('_f_검증요약'!H6,1)="=","M",""),IF(IFERROR(_xlfn.FORMULATEXT('검증요약'!H6),"")<>"",IF(_xlfn.FORMULATEXT('검증요약'!H6)<>'_f_검증요약'!H6,"M",""),IF(OR(LEFT('_f_검증요약'!H6,1)="=",'_f_검증요약'!H6=""),"M",""))) | ... P6: =IF(ISBLANK('검증요약'!P6),IF(LEFT('_f_검증요약'!P6,1)="=","M",""),IF(IFERROR(_xlfn.FORMULATEXT('검증요약'!P6),"")<>"",IF(_xlfn.FORMULATEXT('검증요약'!P6)<>'_f_검증요약'!P6,"M",""),IF(OR(LEFT('_f_검증요약'!P6,1)="=",'_f_검증요약'!P6=""),"M","")))
A7: =IF(ISBLANK('검증요약'!A7),IF(LEFT('_f_검증요약'!A7,1)="=","M",""),IF(IFERROR(_xlfn.FORMULATEXT('검증요약'!A7),"")<>"",IF(_xlfn.FORMULATEXT('검증요약'!A7)<>'_f_검증요약'!A7,"M",""),IF(OR(LEFT('_f_검증요약'!A7,1)="=",'_f_검증요약'!A7=""),"M",""))) | B7: =IF(ISBLANK('검증요약'!B7),IF(LEFT('_f_검증요약'!B7,1)="=","M",""),IF(IFERROR(_xlfn.FORMULATEXT('검증요약'!B7),"")<>"",IF(_xlfn.FORMULATEXT('검증요약'!B7)<>'_f_검증요약'!B7,"M",""),IF(OR(LEFT('_f_검증요약'!B7,1)="=",'_f_검증요약'!B7=""),"M",""))) | C7: =IF(ISBLANK('검증요약'!C7),IF(LEFT('_f_검증요약'!C7,1)="=","M",""),IF(IFERROR(_xlfn.FORMULATEXT('검증요약'!C7),"")<>"",IF(_xlfn.FORMULATEXT('검증요약'!C7)<>'_f_검증요약'!C7,"M",""),IF(OR(LEFT('_f_검증요약'!C7,1)="=",'_f_검증요약'!C7=""),"M",""))) | D7: =IF(ISBLANK('검증요약'!D7),IF(LEFT('_f_검증요약'!D7,1)="=","M",""),IF(IFERROR(_xlfn.FORMULATEXT('검증요약'!D7),"")<>"",IF(_xlfn.FORMULATEXT('검증요약'!D7)<>'_f_검증요약'!D7,"M",""),IF(OR(LEFT('_f_검증요약'!D7,1)="=",'_f_검증요약'!D7=""),"M",""))) | E7: =IF(ISBLANK('검증요약'!E7),IF(LEFT('_f_검증요약'!E7,1)="=","M",""),IF(IFERROR(_xlfn.FORMULATEXT('검증요약'!E7),"")<>"",IF(_xlfn.FORMULATEXT('검증요약'!E7)<>'_f_검증요약'!E7,"M",""),IF(OR(LEFT('_f_검증요약'!E7,1)="=",'_f_검증요약'!E7=""),"M",""))) | F7: =IF(ISBLANK('검증요약'!F7),IF(LEFT('_f_검증요약'!F7,1)="=","M",""),IF(IFERROR(_xlfn.FORMULATEXT('검증요약'!F7),"")<>"",IF(_xlfn.FORMULATEXT('검증요약'!F7)<>'_f_검증요약'!F7,"M",""),IF(OR(LEFT('_f_검증요약'!F7,1)="=",'_f_검증요약'!F7=""),"M",""))) | G7: =IF(ISBLANK('검증요약'!G7),IF(LEFT('_f_검증요약'!G7,1)="=","M",""),IF(IFERROR(_xlfn.FORMULATEXT('검증요약'!G7),"")<>"",IF(_xlfn.FORMULATEXT('검증요약'!G7)<>'_f_검증요약'!G7,"M",""),IF(OR(LEFT('_f_검증요약'!G7,1)="=",'_f_검증요약'!G7=""),"M",""))) | H7: =IF(ISBLANK('검증요약'!H7),IF(LEFT('_f_검증요약'!H7,1)="=","M",""),IF(IFERROR(_xlfn.FORMULATEXT('검증요약'!H7),"")<>"",IF(_xlfn.FORMULATEXT('검증요약'!H7)<>'_f_검증요약'!H7,"M",""),IF(OR(LEFT('_f_검증요약'!H7,1)="=",'_f_검증요약'!H7=""),"M",""))) | ... P7: =IF(ISBLANK('검증요약'!P7),IF(LEFT('_f_검증요약'!P7,1)="=","M",""),IF(IFERROR(_xlfn.FORMULATEXT('검증요약'!P7),"")<>"",IF(_xlfn.FORMULATEXT('검증요약'!P7)<>'_f_검증요약'!P7,"M",""),IF(OR(LEFT('_f_검증요약'!P7,1)="=",'_f_검증요약'!P7=""),"M","")))
A8: =IF(ISBLANK('검증요약'!A8),IF(LEFT('_f_검증요약'!A8,1)="=","M",""),IF(IFERROR(_xlfn.FORMULATEXT('검증요약'!A8),"")<>"",IF(_xlfn.FORMULATEXT('검증요약'!A8)<>'_f_검증요약'!A8,"M",""),IF(OR(LEFT('_f_검증요약'!A8,1)="=",'_f_검증요약'!A8=""),"M",""))) | B8: =IF(ISBLANK('검증요약'!B8),IF(LEFT('_f_검증요약'!B8,1)="=","M",""),IF(IFERROR(_xlfn.FORMULATEXT('검증요약'!B8),"")<>"",IF(_xlfn.FORMULATEXT('검증요약'!B8)<>'_f_검증요약'!B8,"M",""),IF(OR(LEFT('_f_검증요약'!B8,1)="=",'_f_검증요약'!B8=""),"M",""))) | C8: =IF(ISBLANK('검증요약'!C8),IF(LEFT('_f_검증요약'!C8,1)="=","M",""),IF(IFERROR(_xlfn.FORMULATEXT('검증요약'!C8),"")<>"",IF(_xlfn.FORMULATEXT('검증요약'!C8)<>'_f_검증요약'!C8,"M",""),IF(OR(LEFT('_f_검증요약'!C8,1)="=",'_f_검증요약'!C8=""),"M",""))) | D8: =IF(ISBLANK('검증요약'!D8),IF(LEFT('_f_검증요약'!D8,1)="=","M",""),IF(IFERROR(_xlfn.FORMULATEXT('검증요약'!D8),"")<>"",IF(_xlfn.FORMULATEXT('검증요약'!D8)<>'_f_검증요약'!D8,"M",""),IF(OR(LEFT('_f_검증요약'!D8,1)="=",'_f_검증요약'!D8=""),"M",""))) | E8: =IF(ISBLANK('검증요약'!E8),IF(LEFT('_f_검증요약'!E8,1)="=","M",""),IF(IFERROR(_xlfn.FORMULATEXT('검증요약'!E8),"")<>"",IF(_xlfn.FORMULATEXT('검증요약'!E8)<>'_f_검증요약'!E8,"M",""),IF(OR(LEFT('_f_검증요약'!E8,1)="=",'_f_검증요약'!E8=""),"M",""))) | F8: =IF(ISBLANK('검증요약'!F8),IF(LEFT('_f_검증요약'!F8,1)="=","M",""),IF(IFERROR(_xlfn.FORMULATEXT('검증요약'!F8),"")<>"",IF(_xlfn.FORMULATEXT('검증요약'!F8)<>'_f_검증요약'!F8,"M",""),IF(OR(LEFT('_f_검증요약'!F8,1)="=",'_f_검증요약'!F8=""),"M",""))) | G8: =IF(ISBLANK('검증요약'!G8),IF(LEFT('_f_검증요약'!G8,1)="=","M",""),IF(IFERROR(_xlfn.FORMULATEXT('검증요약'!G8),"")<>"",IF(_xlfn.FORMULATEXT('검증요약'!G8)<>'_f_검증요약'!G8,"M",""),IF(OR(LEFT('_f_검증요약'!G8,1)="=",'_f_검증요약'!G8=""),"M",""))) | H8: =IF(ISBLANK('검증요약'!H8),IF(LEFT('_f_검증요약'!H8,1)="=","M",""),IF(IFERROR(_xlfn.FORMULATEXT('검증요약'!H8),"")<>"",IF(_xlfn.FORMULATEXT('검증요약'!H8)<>'_f_검증요약'!H8,"M",""),IF(OR(LEFT('_f_검증요약'!H8,1)="=",'_f_검증요약'!H8=""),"M",""))) | ... P8: =IF(ISBLANK('검증요약'!P8),IF(LEFT('_f_검증요약'!P8,1)="=","M",""),IF(IFERROR(_xlfn.FORMULATEXT('검증요약'!P8),"")<>"",IF(_xlfn.FORMULATEXT('검증요약'!P8)<>'_f_검증요약'!P8,"M",""),IF(OR(LEFT('_f_검증요약'!P8,1)="=",'_f_검증요약'!P8=""),"M","")))
A9: =IF(ISBLANK('검증요약'!A9),IF(LEFT('_f_검증요약'!A9,1)="=","M",""),IF(IFERROR(_xlfn.FORMULATEXT('검증요약'!A9),"")<>"",IF(_xlfn.FORMULATEXT('검증요약'!A9)<>'_f_검증요약'!A9,"M",""),IF(OR(LEFT('_f_검증요약'!A9,1)="=",'_f_검증요약'!A9=""),"M",""))) | B9: =IF(ISBLANK('검증요약'!B9),IF(LEFT('_f_검증요약'!B9,1)="=","M",""),IF(IFERROR(_xlfn.FORMULATEXT('검증요약'!B9),"")<>"",IF(_xlfn.FORMULATEXT('검증요약'!B9)<>'_f_검증요약'!B9,"M",""),IF(OR(LEFT('_f_검증요약'!B9,1)="=",'_f_검증요약'!B9=""),"M",""))) | C9: =IF(ISBLANK('검증요약'!C9),IF(LEFT('_f_검증요약'!C9,1)="=","M",""),IF(IFERROR(_xlfn.FORMULATEXT('검증요약'!C9),"")<>"",IF(_xlfn.FORMULATEXT('검증요약'!C9)<>'_f_검증요약'!C9,"M",""),IF(OR(LEFT('_f_검증요약'!C9,1)="=",'_f_검증요약'!C9=""),"M",""))) | D9: =IF(ISBLANK('검증요약'!D9),IF(LEFT('_f_검증요약'!D9,1)="=","M",""),IF(IFERROR(_xlfn.FORMULATEXT('검증요약'!D9),"")<>"",IF(_xlfn.FORMULATEXT('검증요약'!D9)<>'_f_검증요약'!D9,"M",""),IF(OR(LEFT('_f_검증요약'!D9,1)="=",'_f_검증요약'!D9=""),"M",""))) | E9: =IF(ISBLANK('검증요약'!E9),IF(LEFT('_f_검증요약'!E9,1)="=","M",""),IF(IFERROR(_xlfn.FORMULATEXT('검증요약'!E9),"")<>"",IF(_xlfn.FORMULATEXT('검증요약'!E9)<>'_f_검증요약'!E9,"M",""),IF(OR(LEFT('_f_검증요약'!E9,1)="=",'_f_검증요약'!E9=""),"M",""))) | F9: =IF(ISBLANK('검증요약'!F9),IF(LEFT('_f_검증요약'!F9,1)="=","M",""),IF(IFERROR(_xlfn.FORMULATEXT('검증요약'!F9),"")<>"",IF(_xlfn.FORMULATEXT('검증요약'!F9)<>'_f_검증요약'!F9,"M",""),IF(OR(LEFT('_f_검증요약'!F9,1)="=",'_f_검증요약'!F9=""),"M",""))) | G9: =IF(ISBLANK('검증요약'!G9),IF(LEFT('_f_검증요약'!G9,1)="=","M",""),IF(IFERROR(_xlfn.FORMULATEXT('검증요약'!G9),"")<>"",IF(_xlfn.FORMULATEXT('검증요약'!G9)<>'_f_검증요약'!G9,"M",""),IF(OR(LEFT('_f_검증요약'!G9,1)="=",'_f_검증요약'!G9=""),"M",""))) | H9: =IF(ISBLANK('검증요약'!H9),IF(LEFT('_f_검증요약'!H9,1)="=","M",""),IF(IFERROR(_xlfn.FORMULATEXT('검증요약'!H9),"")<>"",IF(_xlfn.FORMULATEXT('검증요약'!H9)<>'_f_검증요약'!H9,"M",""),IF(OR(LEFT('_f_검증요약'!H9,1)="=",'_f_검증요약'!H9=""),"M",""))) | ... P9: =IF(ISBLANK('검증요약'!P9),IF(LEFT('_f_검증요약'!P9,1)="=","M",""),IF(IFERROR(_xlfn.FORMULATEXT('검증요약'!P9),"")<>"",IF(_xlfn.FORMULATEXT('검증요약'!P9)<>'_f_검증요약'!P9,"M",""),IF(OR(LEFT('_f_검증요약'!P9,1)="=",'_f_검증요약'!P9=""),"M","")))
A10: =IF(ISBLANK('검증요약'!A10),IF(LEFT('_f_검증요약'!A10,1)="=","M",""),IF(IFERROR(_xlfn.FORMULATEXT('검증요약'!A10),"")<>"",IF(_xlfn.FORMULATEXT('검증요약'!A10)<>'_f_검증요약'!A10,"M",""),IF(OR(LEFT('_f_검증요약'!A10,1)="=",'_f_검증요약'!A10=""),"M",""))) | B10: =IF(ISBLANK('검증요약'!B10),IF(LEFT('_f_검증요약'!B10,1)="=","M",""),IF(IFERROR(_xlfn.FORMULATEXT('검증요약'!B10),"")<>"",IF(_xlfn.FORMULATEXT('검증요약'!B10)<>'_f_검증요약'!B10,"M",""),IF(OR(LEFT('_f_검증요약'!B10,1)="=",'_f_검증요약'!B10=""),"M",""))) | C10: =IF(ISBLANK('검증요약'!C10),IF(LEFT('_f_검증요약'!C10,1)="=","M",""),IF(IFERROR(_xlfn.FORMULATEXT('검증요약'!C10),"")<>"",IF(_xlfn.FORMULATEXT('검증요약'!C10)<>'_f_검증요약'!C10,"M",""),IF(OR(LEFT('_f_검증요약'!C10,1)="=",'_f_검증요약'!C10=""),"M",""))) | D10: =IF(ISBLANK('검증요약'!D10),IF(LEFT('_f_검증요약'!D10,1)="=","M",""),IF(IFERROR(_xlfn.FORMULATEXT('검증요약'!D10),"")<>"",IF(_xlfn.FORMULATEXT('검증요약'!D10)<>'_f_검증요약'!D10,"M",""),IF(OR(LEFT('_f_검증요약'!D10,1)="=",'_f_검증요약'!D10=""),"M",""))) | E10: =IF(ISBLANK('검증요약'!E10),IF(LEFT('_f_검증요약'!E10,1)="=","M",""),IF(IFERROR(_xlfn.FORMULATEXT('검증요약'!E10),"")<>"",IF(_xlfn.FORMULATEXT('검증요약'!E10)<>'_f_검증요약'!E10,"M",""),IF(OR(LEFT('_f_검증요약'!E10,1)="=",'_f_검증요약'!E10=""),"M",""))) | F10: =IF(ISBLANK('검증요약'!F10),IF(LEFT('_f_검증요약'!F10,1)="=","M",""),IF(IFERROR(_xlfn.FORMULATEXT('검증요약'!F10),"")<>"",IF(_xlfn.FORMULATEXT('검증요약'!F10)<>'_f_검증요약'!F10,"M",""),IF(OR(LEFT('_f_검증요약'!F10,1)="=",'_f_검증요약'!F10=""),"M",""))) | G10: =IF(ISBLANK('검증요약'!G10),IF(LEFT('_f_검증요약'!G10,1)="=","M",""),IF(IFERROR(_xlfn.FORMULATEXT('검증요약'!G10),"")<>"",IF(_xlfn.FORMULATEXT('검증요약'!G10)<>'_f_검증요약'!G10,"M",""),IF(OR(LEFT('_f_검증요약'!G10,1)="=",'_f_검증요약'!G10=""),"M",""))) | H10: =IF(ISBLANK('검증요약'!H10),IF(LEFT('_f_검증요약'!H10,1)="=","M",""),IF(IFERROR(_xlfn.FORMULATEXT('검증요약'!H10),"")<>"",IF(_xlfn.FORMULATEXT('검증요약'!H10)<>'_f_검증요약'!H10,"M",""),IF(OR(LEFT('_f_검증요약'!H10,1)="=",'_f_검증요약'!H10=""),"M",""))) | ... P10: =IF(ISBLANK('검증요약'!P10),IF(LEFT('_f_검증요약'!P10,1)="=","M",""),IF(IFERROR(_xlfn.FORMULATEXT('검증요약'!P10),"")<>"",IF(_xlfn.FORMULATEXT('검증요약'!P10)<>'_f_검증요약'!P10,"M",""),IF(OR(LEFT('_f_검증요약'!P10,1)="=",'_f_검증요약'!P10=""),"M","")))
A11: =IF(ISBLANK('검증요약'!A11),IF(LEFT('_f_검증요약'!A11,1)="=","M",""),IF(IFERROR(_xlfn.FORMULATEXT('검증요약'!A11),"")<>"",IF(_xlfn.FORMULATEXT('검증요약'!A11)<>'_f_검증요약'!A11,"M",""),IF(OR(LEFT('_f_검증요약'!A11,1)="=",'_f_검증요약'!A11=""),"M",""))) | B11: =IF(ISBLANK('검증요약'!B11),IF(LEFT('_f_검증요약'!B11,1)="=","M",""),IF(IFERROR(_xlfn.FORMULATEXT('검증요약'!B11),"")<>"",IF(_xlfn.FORMULATEXT('검증요약'!B11)<>'_f_검증요약'!B11,"M",""),IF(OR(LEFT('_f_검증요약'!B11,1)="=",'_f_검증요약'!B11=""),"M",""))) | C11: =IF(ISBLANK('검증요약'!C11),IF(LEFT('_f_검증요약'!C11,1)="=","M",""),IF(IFERROR(_xlfn.FORMULATEXT('검증요약'!C11),"")<>"",IF(_xlfn.FORMULATEXT('검증요약'!C11)<>'_f_검증요약'!C11,"M",""),IF(OR(LEFT('_f_검증요약'!C11,1)="=",'_f_검증요약'!C11=""),"M",""))) | D11: =IF(ISBLANK('검증요약'!D11),IF(LEFT('_f_검증요약'!D11,1)="=","M",""),IF(IFERROR(_xlfn.FORMULATEXT('검증요약'!D11),"")<>"",IF(_xlfn.FORMULATEXT('검증요약'!D11)<>'_f_검증요약'!D11,"M",""),IF(OR(LEFT('_f_검증요약'!D11,1)="=",'_f_검증요약'!D11=""),"M",""))) | E11: =IF(ISBLANK('검증요약'!E11),IF(LEFT('_f_검증요약'!E11,1)="=","M",""),IF(IFERROR(_xlfn.FORMULATEXT('검증요약'!E11),"")<>"",IF(_xlfn.FORMULATEXT('검증요약'!E11)<>'_f_검증요약'!E11,"M",""),IF(OR(LEFT('_f_검증요약'!E11,1)="=",'_f_검증요약'!E11=""),"M",""))) | F11: =IF(ISBLANK('검증요약'!F11),IF(LEFT('_f_검증요약'!F11,1)="=","M",""),IF(IFERROR(_xlfn.FORMULATEXT('검증요약'!F11),"")<>"",IF(_xlfn.FORMULATEXT('검증요약'!F11)<>'_f_검증요약'!F11,"M",""),IF(OR(LEFT('_f_검증요약'!F11,1)="=",'_f_검증요약'!F11=""),"M",""))) | G11: =IF(ISBLANK('검증요약'!G11),IF(LEFT('_f_검증요약'!G11,1)="=","M",""),IF(IFERROR(_xlfn.FORMULATEXT('검증요약'!G11),"")<>"",IF(_xlfn.FORMULATEXT('검증요약'!G11)<>'_f_검증요약'!G11,"M",""),IF(OR(LEFT('_f_검증요약'!G11,1)="=",'_f_검증요약'!G11=""),"M",""))) | H11: =IF(ISBLANK('검증요약'!H11),IF(LEFT('_f_검증요약'!H11,1)="=","M",""),IF(IFERROR(_xlfn.FORMULATEXT('검증요약'!H11),"")<>"",IF(_xlfn.FORMULATEXT('검증요약'!H11)<>'_f_검증요약'!H11,"M",""),IF(OR(LEFT('_f_검증요약'!H11,1)="=",'_f_검증요약'!H11=""),"M",""))) | ... P11: =IF(ISBLANK('검증요약'!P11),IF(LEFT('_f_검증요약'!P11,1)="=","M",""),IF(IFERROR(_xlfn.FORMULATEXT('검증요약'!P11),"")<>"",IF(_xlfn.FORMULATEXT('검증요약'!P11)<>'_f_검증요약'!P11,"M",""),IF(OR(LEFT('_f_검증요약'!P11,1)="=",'_f_검증요약'!P11=""),"M","")))
A12: =IF(ISBLANK('검증요약'!A12),IF(LEFT('_f_검증요약'!A12,1)="=","M",""),IF(IFERROR(_xlfn.FORMULATEXT('검증요약'!A12),"")<>"",IF(_xlfn.FORMULATEXT('검증요약'!A12)<>'_f_검증요약'!A12,"M",""),IF(OR(LEFT('_f_검증요약'!A12,1)="=",'_f_검증요약'!A12=""),"M",""))) | B12: =IF(ISBLANK('검증요약'!B12),IF(LEFT('_f_검증요약'!B12,1)="=","M",""),IF(IFERROR(_xlfn.FORMULATEXT('검증요약'!B12),"")<>"",IF(_xlfn.FORMULATEXT('검증요약'!B12)<>'_f_검증요약'!B12,"M",""),IF(OR(LEFT('_f_검증요약'!B12,1)="=",'_f_검증요약'!B12=""),"M",""))) | C12: =IF(ISBLANK('검증요약'!C12),IF(LEFT('_f_검증요약'!C12,1)="=","M",""),IF(IFERROR(_xlfn.FORMULATEXT('검증요약'!C12),"")<>"",IF(_xlfn.FORMULATEXT('검증요약'!C12)<>'_f_검증요약'!C12,"M",""),IF(OR(LEFT('_f_검증요약'!C12,1)="=",'_f_검증요약'!C12=""),"M",""))) | D12: =IF(ISBLANK('검증요약'!D12),IF(LEFT('_f_검증요약'!D12,1)="=","M",""),IF(IFERROR(_xlfn.FORMULATEXT('검증요약'!D12),"")<>"",IF(_xlfn.FORMULATEXT('검증요약'!D12)<>'_f_검증요약'!D12,"M",""),IF(OR(LEFT('_f_검증요약'!D12,1)="=",'_f_검증요약'!D12=""),"M",""))) | E12: =IF(ISBLANK('검증요약'!E12),IF(LEFT('_f_검증요약'!E12,1)="=","M",""),IF(IFERROR(_xlfn.FORMULATEXT('검증요약'!E12),"")<>"",IF(_xlfn.FORMULATEXT('검증요약'!E12)<>'_f_검증요약'!E12,"M",""),IF(OR(LEFT('_f_검증요약'!E12,1)="=",'_f_검증요약'!E12=""),"M",""))) | F12: =IF(ISBLANK('검증요약'!F12),IF(LEFT('_f_검증요약'!F12,1)="=","M",""),IF(IFERROR(_xlfn.FORMULATEXT('검증요약'!F12),"")<>"",IF(_xlfn.FORMULATEXT('검증요약'!F12)<>'_f_검증요약'!F12,"M",""),IF(OR(LEFT('_f_검증요약'!F12,1)="=",'_f_검증요약'!F12=""),"M",""))) | G12: =IF(ISBLANK('검증요약'!G12),IF(LEFT('_f_검증요약'!G12,1)="=","M",""),IF(IFERROR(_xlfn.FORMULATEXT('검증요약'!G12),"")<>"",IF(_xlfn.FORMULATEXT('검증요약'!G12)<>'_f_검증요약'!G12,"M",""),IF(OR(LEFT('_f_검증요약'!G12,1)="=",'_f_검증요약'!G12=""),"M",""))) | H12: =IF(ISBLANK('검증요약'!H12),IF(LEFT('_f_검증요약'!H12,1)="=","M",""),IF(IFERROR(_xlfn.FORMULATEXT('검증요약'!H12),"")<>"",IF(_xlfn.FORMULATEXT('검증요약'!H12)<>'_f_검증요약'!H12,"M",""),IF(OR(LEFT('_f_검증요약'!H12,1)="=",'_f_검증요약'!H12=""),"M",""))) | ... P12: =IF(ISBLANK('검증요약'!P12),IF(LEFT('_f_검증요약'!P12,1)="=","M",""),IF(IFERROR(_xlfn.FORMULATEXT('검증요약'!P12),"")<>"",IF(_xlfn.FORMULATEXT('검증요약'!P12)<>'_f_검증요약'!P12,"M",""),IF(OR(LEFT('_f_검증요약'!P12,1)="=",'_f_검증요약'!P12=""),"M","")))
... A70: =IF(ISBLANK('검증요약'!A70),IF(LEFT('_f_검증요약'!A70,1)="=","M",""),IF(IFERROR(_xlfn.FORMULATEXT('검증요약'!A70),"")<>"",IF(_xlfn.FORMULATEXT('검증요약'!A70)<>'_f_검증요약'!A70,"M",""),IF(OR(LEFT('_f_검증요약'!A70,1)="=",'_f_검증요약'!A70=""),"M",""))) | B70: =IF(ISBLANK('검증요약'!B70),IF(LEFT('_f_검증요약'!B70,1)="=","M",""),IF(IFERROR(_xlfn.FORMULATEXT('검증요약'!B70),"")<>"",IF(_xlfn.FORMULATEXT('검증요약'!B70)<>'_f_검증요약'!B70,"M",""),IF(OR(LEFT('_f_검증요약'!B70,1)="=",'_f_검증요약'!B70=""),"M",""))) | C70: =IF(ISBLANK('검증요약'!C70),IF(LEFT('_f_검증요약'!C70,1)="=","M",""),IF(IFERROR(_xlfn.FORMULATEXT('검증요약'!C70),"")<>"",IF(_xlfn.FORMULATEXT('검증요약'!C70)<>'_f_검증요약'!C70,"M",""),IF(OR(LEFT('_f_검증요약'!C70,1)="=",'_f_검증요약'!C70=""),"M",""))) | D70: =IF(ISBLANK('검증요약'!D70),IF(LEFT('_f_검증요약'!D70,1)="=","M",""),IF(IFERROR(_xlfn.FORMULATEXT('검증요약'!D70),"")<>"",IF(_xlfn.FORMULATEXT('검증요약'!D70)<>'_f_검증요약'!D70,"M",""),IF(OR(LEFT('_f_검증요약'!D70,1)="=",'_f_검증요약'!D70=""),"M",""))) | E70: =IF(ISBLANK('검증요약'!E70),IF(LEFT('_f_검증요약'!E70,1)="=","M",""),IF(IFERROR(_xlfn.FORMULATEXT('검증요약'!E70),"")<>"",IF(_xlfn.FORMULATEXT('검증요약'!E70)<>'_f_검증요약'!E70,"M",""),IF(OR(LEFT('_f_검증요약'!E70,1)="=",'_f_검증요약'!E70=""),"M",""))) | F70: =IF(ISBLANK('검증요약'!F70),IF(LEFT('_f_검증요약'!F70,1)="=","M",""),IF(IFERROR(_xlfn.FORMULATEXT('검증요약'!F70),"")<>"",IF(_xlfn.FORMULATEXT('검증요약'!F70)<>'_f_검증요약'!F70,"M",""),IF(OR(LEFT('_f_검증요약'!F70,1)="=",'_f_검증요약'!F70=""),"M",""))) | G70: =IF(ISBLANK('검증요약'!G70),IF(LEFT('_f_검증요약'!G70,1)="=","M",""),IF(IFERROR(_xlfn.FORMULATEXT('검증요약'!G70),"")<>"",IF(_xlfn.FORMULATEXT('검증요약'!G70)<>'_f_검증요약'!G70,"M",""),IF(OR(LEFT('_f_검증요약'!G70,1)="=",'_f_검증요약'!G70=""),"M",""))) | H70: =IF(ISBLANK('검증요약'!H70),IF(LEFT('_f_검증요약'!H70,1)="=","M",""),IF(IFERROR(_xlfn.FORMULATEXT('검증요약'!H70),"")<>"",IF(_xlfn.FORMULATEXT('검증요약'!H70)<>'_f_검증요약'!H70,"M",""),IF(OR(LEFT('_f_검증요약'!H70,1)="=",'_f_검증요약'!H70=""),"M",""))) | ... P70: =IF(ISBLANK('검증요약'!P70),IF(LEFT('_f_검증요약'!P70,1)="=","M",""),IF(IFERROR(_xlfn.FORMULATEXT('검증요약'!P70),"")<>"",IF(_xlfn.FORMULATEXT('검증요약'!P70)<>'_f_검증요약'!P70,"M",""),IF(OR(LEFT('_f_검증요약'!P70,1)="=",'_f_검증요약'!P70=""),"M","")))

Sheet _f_BS
A1: •
A2: •
A4: • | B4: • | C4: • | E4: • | F4: • | G4: • | H4: •
A5: •
A6: • | B6: • | C6: • | E6: =B6=B7+B15 | F6: =C6=C7+C15 | G6: =IF(B6=B7+B15,"",(B6)-(B7+B15)) | H6: =IF(C6=C7+C15,"",(C6)-(C7+C15))
A7: • | B7: • | C7: • | E7: =B7=SUM(B8:B14) | F7: =C7=SUM(C8:C14) | G7: =IF(B7=SUM(B8:B14),"",(B7)-(SUM(B8:B14))) | H7: =IF(C7=SUM(C8:C14),"",(C7)-(SUM(C8:C14)))
A8: • | B8: • | C8: •
A9: • | B9: • | C9: •
A10: • | B10: • | C10: •
A11: • | B11: • | C11: •
A12: • | B12: • | C12: •
A13: • | B13: • | C13: •
A14: • | B14: • | C14: •
A15: • | B15: • | C15: •
A16: • | B16: • | C16: • | E16: =B16=B17+B19 | F16: =C16=C17+C19 | G16: =IF(B16=B17+B19,"",(B16)-(B17+B19)) | H16: =IF(C16=C17+C19,"",(C16)-(C17+C19))
A17: • | B17: • | C17: • | E17: =B17=SUM(B18:B18) | F17: =C17=SUM(C18:C18) | G17: =IF(B17=SUM(B18:B18),"",(B17)-(SUM(B18:B18))) | H17: =IF(C17=SUM(C18:C18),"",(C17)-(SUM(C18:C18)))
A18: • | B18: • | C18: •
A19: • | B19: • | C19: • | E19: =B19=SUM(B20:B20) | F19: =C19=SUM(C20:C20) | G19: =IF(B19=SUM(B20:B20),"",(B19)-(SUM(B20:B20))) | H19: =IF(C19=SUM(C20:C20),"",(C19)-(SUM(C20:C20)))
A20: • | B20: • | C20: •
A21: • | B21: • | C21: • | E21: =B21=B6+B16 | F21: =C21=C6+C16 | G21: =IF(B21=B6+B16,"",(B21)-(B6+B16)) | H21: =IF(C21=C6+C16,"",(C21)-(C6+C16))
A22: •
A23: • | B23: • | C23: • | E23: =B23=SUM(B24:B27) | F23: =C23=SUM(C24:C27) | G23: =IF(B23=SUM(B24:B27),"",(B23)-(SUM(B24:B27))) | H23: =IF(C23=SUM(C24:C27),"",(C23)-(SUM(C24:C27)))
A24: • | B24: • | C24: •
A25: • | B25: • | C25: •
A26: • | B26: • | C26: •
A27: • | B27: • | C27: •
A28: • | B28: • | C28: • | E28: =B28=SUM(B29:B32) | F28: =C28=SUM(C29:C32) | G28: =IF(B28=SUM(B29:B32),"",(B28)-(SUM(B29:B32))) | H28: =IF(C28=SUM(C29:C32),"",(C28)-(SUM(C29:C32)))
A29: • | B29: • | C29: •
A30: • | B30: • | C30: •
A31: • | B31: • | C31: •
A32: • | B32: • | C32: •
A33: • | B33: • | C33: • | E33: =B33=B23+B28 | F33: =C33=C23+C28 | G33: =IF(B33=B23+B28,"",(B33)-(B23+B28)) | H33: =IF(C33=C23+C28,"",(C33)-(C23+C28))
A34: •
A35: • | B35: • | C35: • | E35: =B35=SUM(B36:B36) | F35: =C35=SUM(C36:C36) | G35: =IF(B35=SUM(B36:B36),"",(B35)-(SUM(B36:B36))) | H35: =IF(C35=SUM(C36:C36),"",(C35)-(SUM(C36:C36)))
A36: • | B36: • | C36: •
A37: • | B37: • | C37: • | E37: =B37=SUM(B38:B39) | F37: =C37=SUM(C38:C39) | G37: =IF(B37=SUM(B38:B39),"",(B37)-(SUM(B38:B39))) | H37: =IF(C37=SUM(C38:C39),"",(C37)-(SUM(C38:C39)))
A38: • | B38: • | C38: •
A39: • | B39: • | C39: •
A40: • | B40: • | C40: • | E40: =B40=SUM(B41:B41) | F40: =C40=SUM(C41:C41) | G40: =IF(B40=SUM(B41:B41),"",(B40)-(SUM(B41:B41))) | H40: =IF(C40=SUM(C41:C41),"",(C40)-(SUM(C41:C41)))
A41: • | B41: • | C41: •
A42: • | B42: • | C42: • | E42: =B42=B35+B37+B40 | F42: =C42=C35+C37+C40 | G42: =IF(B42=B35+B37+B40,"",(B42)-(B35+B37+B40)) | H42: =IF(C42=C35+C37+C40,"",(C42)-(C35+C37+C40))
A43: • | B43: • | C43: • | E43: =B43=B33+B42 | F43: =C43=C33+C42 | G43: =IF(B43=B33+B42,"",(B43)-(B33+B42)) | H43: =IF(C43=C33+C42,"",(C43)-(C33+C42))

Sheet _c_BS
A1: =IF(ISBLANK('BS'!A1),IF(LEFT('_f_BS'!A1,1)="=","M",""),IF(IFERROR(_xlfn.FORMULATEXT('BS'!A1),"")<>"",IF(_xlfn.FORMULATEXT('BS'!A1)<>'_f_BS'!A1,"M",""),IF(OR(LEFT('_f_BS'!A1,1)="=",'_f_BS'!A1=""),"M",""))) | B1: =IF(ISBLANK('BS'!B1),IF(LEFT('_f_BS'!B1,1)="=","M",""),IF(IFERROR(_xlfn.FORMULATEXT('BS'!B1),"")<>"",IF(_xlfn.FORMULATEXT('BS'!B1)<>'_f_BS'!B1,"M",""),IF(OR(LEFT('_f_BS'!B1,1)="=",'_f_BS'!B1=""),"M",""))) | C1: =IF(ISBLANK('BS'!C1),IF(LEFT('_f_BS'!C1,1)="=","M",""),IF(IFERROR(_xlfn.FORMULATEXT('BS'!C1),"")<>"",IF(_xlfn.FORMULATEXT('BS'!C1)<>'_f_BS'!C1,"M",""),IF(OR(LEFT('_f_BS'!C1,1)="=",'_f_BS'!C1=""),"M",""))) | D1: =IF(ISBLANK('BS'!D1),IF(LEFT('_f_BS'!D1,1)="=","M",""),IF(IFERROR(_xlfn.FORMULATEXT('BS'!D1),"")<>"",IF(_xlfn.FORMULATEXT('BS'!D1)<>'_f_BS'!D1,"M",""),IF(OR(LEFT('_f_BS'!D1,1)="=",'_f_BS'!D1=""),"M",""))) | E1: =IF(ISBLANK('BS'!E1),IF(LEFT('_f_BS'!E1,1)="=","M",""),IF(IFERROR(_xlfn.FORMULATEXT('BS'!E1),"")<>"",IF(_xlfn.FORMULATEXT('BS'!E1)<>'_f_BS'!E1,"M",""),IF(OR(LEFT('_f_BS'!E1,1)="=",'_f_BS'!E1=""),"M",""))) | F1: =IF(ISBLANK('BS'!F1),IF(LEFT('_f_BS'!F1,1)="=","M",""),IF(IFERROR(_xlfn.FORMULATEXT('BS'!F1),"")<>"",IF(_xlfn.FORMULATEXT('BS'!F1)<>'_f_BS'!F1,"M",""),IF(OR(LEFT('_f_BS'!F1,1)="=",'_f_BS'!F1=""),"M",""))) | G1: =IF(ISBLANK('BS'!G1),IF(LEFT('_f_BS'!G1,1)="=","M",""),IF(IFERROR(_xlfn.FORMULATEXT('BS'!G1),"")<>"",IF(_xlfn.FORMULATEXT('BS'!G1)<>'_f_BS'!G1,"M",""),IF(OR(LEFT('_f_BS'!G1,1)="=",'_f_BS'!G1=""),"M",""))) | H1: =IF(ISBLANK('BS'!H1),IF(LEFT('_f_BS'!H1,1)="=","M",""),IF(IFERROR(_xlfn.FORMULATEXT('BS'!H1),"")<>"",IF(_xlfn.FORMULATEXT('BS'!H1)<>'_f_BS'!H1,"M",""),IF(OR(LEFT('_f_BS'!H1,1)="=",'_f_BS'!H1=""),"M",""))) | ... P1: =IF(ISBLANK('BS'!P1),IF(LEFT('_f_BS'!P1,1)="=","M",""),IF(IFERROR(_xlfn.FORMULATEXT('BS'!P1),"")<>"",IF(_xlfn.FORMULATEXT('BS'!P1)<>'_f_BS'!P1,"M",""),IF(OR(LEFT('_f_BS'!P1,1)="=",'_f_BS'!P1=""),"M","")))
A2: =IF(ISBLANK('BS'!A2),IF(LEFT('_f_BS'!A2,1)="=","M",""),IF(IFERROR(_xlfn.FORMULATEXT('BS'!A2),"")<>"",IF(_xlfn.FORMULATEXT('BS'!A2)<>'_f_BS'!A2,"M",""),IF(OR(LEFT('_f_BS'!A2,1)="=",'_f_BS'!A2=""),"M",""))) | B2: =IF(ISBLANK('BS'!B2),IF(LEFT('_f_BS'!B2,1)="=","M",""),IF(IFERROR(_xlfn.FORMULATEXT('BS'!B2),"")<>"",IF(_xlfn.FORMULATEXT('BS'!B2)<>'_f_BS'!B2,"M",""),IF(OR(LEFT('_f_BS'!B2,1)="=",'_f_BS'!B2=""),"M",""))) | C2: =IF(ISBLANK('BS'!C2),IF(LEFT('_f_BS'!C2,1)="=","M",""),IF(IFERROR(_xlfn.FORMULATEXT('BS'!C2),"")<>"",IF(_xlfn.FORMULATEXT('BS'!C2)<>'_f_BS'!C2,"M",""),IF(OR(LEFT('_f_BS'!C2,1)="=",'_f_BS'!C2=""),"M",""))) | D2: =IF(ISBLANK('BS'!D2),IF(LEFT('_f_BS'!D2,1)="=","M",""),IF(IFERROR(_xlfn.FORMULATEXT('BS'!D2),"")<>"",IF(_xlfn.FORMULATEXT('BS'!D2)<>'_f_BS'!D2,"M",""),IF(OR(LEFT('_f_BS'!D2,1)="=",'_f_BS'!D2=""),"M",""))) | E2: =IF(ISBLANK('BS'!E2),IF(LEFT('_f_BS'!E2,1)="=","M",""),IF(IFERROR(_xlfn.FORMULATEXT('BS'!E2),"")<>"",IF(_xlfn.FORMULATEXT('BS'!E2)<>'_f_BS'!E2,"M",""),IF(OR(LEFT('_f_BS'!E2,1)="=",'_f_BS'!E2=""),"M",""))) | F2: =IF(ISBLANK('BS'!F2),IF(LEFT('_f_BS'!F2,1)="=","M",""),IF(IFERROR(_xlfn.FORMULATEXT('BS'!F2),"")<>"",IF(_xlfn.FORMULATEXT('BS'!F2)<>'_f_BS'!F2,"M",""),IF(OR(LEFT('_f_BS'!F2,1)="=",'_f_BS'!F2=""),"M",""))) | G2: =IF(ISBLANK('BS'!G2),IF(LEFT('_f_BS'!G2,1)="=","M",""),IF(IFERROR(_xlfn.FORMULATEXT('BS'!G2),"")<>"",IF(_xlfn.FORMULATEXT('BS'!G2)<>'_f_BS'!G2,"M",""),IF(OR(LEFT('_f_BS'!G2,1)="=",'_f_BS'!G2=""),"M",""))) | H2: =IF(ISBLANK('BS'!H2),IF(LEFT('_f_BS'!H2,1)="=","M",""),IF(IFERROR(_xlfn.FORMULATEXT('BS'!H2),"")<>"",IF(_xlfn.FORMULATEXT('BS'!H2)<>'_f_BS'!H2,"M",""),IF(OR(LEFT('_f_BS'!H2,1)="=",'_f_BS'!H2=""),"M",""))) | ... P2: =IF(ISBLANK('BS'!P2),IF(LEFT('_f_BS'!P2,1)="=","M",""),IF(IFERROR(_xlfn.FORMULATEXT('BS'!P2),"")<>"",IF(_xlfn.FORMULATEXT('BS'!P2)<>'_f_BS'!P2,"M",""),IF(OR(LEFT('_f_BS'!P2,1)="=",'_f_BS'!P2=""),"M","")))
A3: =IF(ISBLANK('BS'!A3),IF(LEFT('_f_BS'!A3,1)="=","M",""),IF(IFERROR(_xlfn.FORMULATEXT('BS'!A3),"")<>"",IF(_xlfn.FORMULATEXT('BS'!A3)<>'_f_BS'!A3,"M",""),IF(OR(LEFT('_f_BS'!A3,1)="=",'_f_BS'!A3=""),"M",""))) | B3: =IF(ISBLANK('BS'!B3),IF(LEFT('_f_BS'!B3,1)="=","M",""),IF(IFERROR(_xlfn.FORMULATEXT('BS'!B3),"")<>"",IF(_xlfn.FORMULATEXT('BS'!B3)<>'_f_BS'!B3,"M",""),IF(OR(LEFT('_f_BS'!B3,1)="=",'_f_BS'!B3=""),"M",""))) | C3: =IF(ISBLANK('BS'!C3),IF(LEFT('_f_BS'!C3,1)="=","M",""),IF(IFERROR(_xlfn.FORMULATEXT('BS'!C3),"")<>"",IF(_xlfn.FORMULATEXT('BS'!C3)<>'_f_BS'!C3,"M",""),IF(OR(LEFT('_f_BS'!C3,1)="=",'_f_BS'!C3=""),"M",""))) | D3: =IF(ISBLANK('BS'!D3),IF(LEFT('_f_BS'!D3,1)="=","M",""),IF(IFERROR(_xlfn.FORMULATEXT('BS'!D3),"")<>"",IF(_xlfn.FORMULATEXT('BS'!D3)<>'_f_BS'!D3,"M",""),IF(OR(LEFT('_f_BS'!D3,1)="=",'_f_BS'!D3=""),"M",""))) | E3: =IF(ISBLANK('BS'!E3),IF(LEFT('_f_BS'!E3,1)="=","M",""),IF(IFERROR(_xlfn.FORMULATEXT('BS'!E3),"")<>"",IF(_xlfn.FORMULATEXT('BS'!E3)<>'_f_BS'!E3,"M",""),IF(OR(LEFT('_f_BS'!E3,1)="=",'_f_BS'!E3=""),"M",""))) | F3: =IF(ISBLANK('BS'!F3),IF(LEFT('_f_BS'!F3,1)="=","M",""),IF(IFERROR(_xlfn.FORMULATEXT('BS'!F3),"")<>"",IF(_xlfn.FORMULATEXT('BS'!F3)<>'_f_BS'!F3,"M",""),IF(OR(LEFT('_f_BS'!F3,1)="=",'_f_BS'!F3=""),"M",""))) | G3: =IF(ISBLANK('BS'!G3),IF(LEFT('_f_BS'!G3,1)="=","M",""),IF(IFERROR(_xlfn.FORMULATEXT('BS'!G3),"")<>"",IF(_xlfn.FORMULATEXT('BS'!G3)<>'_f_BS'!G3,"M",""),IF(OR(LEFT('_f_BS'!G3,1)="=",'_f_BS'!G3=""),"M",""))) | H3: =IF(ISBLANK('BS'!H3),IF(LEFT('_f_BS'!H3,1)="=","M",""),IF(IFERROR(_xlfn.FORMULATEXT('BS'!H3),"")<>"",IF(_xlfn.FORMULATEXT('BS'!H3)<>'_f_BS'!H3,"M",""),IF(OR(LEFT('_f_BS'!H3,1)="=",'_f_BS'!H3=""),"M",""))) | ... P3: =IF(ISBLANK('BS'!P3),IF(LEFT('_f_BS'!P3,1)="=","M",""),IF(IFERROR(_xlfn.FORMULATEXT('BS'!P3),"")<>"",IF(_xlfn.FORMULATEXT('BS'!P3)<>'_f_BS'!P3,"M",""),IF(OR(LEFT('_f_BS'!P3,1)="=",'_f_BS'!P3=""),"M","")))
A4: =IF(ISBLANK('BS'!A4),IF(LEFT('_f_BS'!A4,1)="=","M",""),IF(IFERROR(_xlfn.FORMULATEXT('BS'!A4),"")<>"",IF(_xlfn.FORMULATEXT('BS'!A4)<>'_f_BS'!A4,"M",""),IF(OR(LEFT('_f_BS'!A4,1)="=",'_f_BS'!A4=""),"M",""))) | B4: =IF(ISBLANK('BS'!B4),IF(LEFT('_f_BS'!B4,1)="=","M",""),IF(IFERROR(_xlfn.FORMULATEXT('BS'!B4),"")<>"",IF(_xlfn.FORMULATEXT('BS'!B4)<>'_f_BS'!B4,"M",""),IF(OR(LEFT('_f_BS'!B4,1)="=",'_f_BS'!B4=""),"M",""))) | C4: =IF(ISBLANK('BS'!C4),IF(LEFT('_f_BS'!C4,1)="=","M",""),IF(IFERROR(_xlfn.FORMULATEXT('BS'!C4),"")<>"",IF(_xlfn.FORMULATEXT('BS'!C4)<>'_f_BS'!C4,"M",""),IF(OR(LEFT('_f_BS'!C4,1)="=",'_f_BS'!C4=""),"M",""))) | D4: =IF(ISBLANK('BS'!D4),IF(LEFT('_f_BS'!D4,1)="=","M",""),IF(IFERROR(_xlfn.FORMULATEXT('BS'!D4),"")<>"",IF(_xlfn.FORMULATEXT('BS'!D4)<>'_f_BS'!D4,"M",""),IF(OR(LEFT('_f_BS'!D4,1)="=",'_f_BS'!D4=""),"M",""))) | E4: =IF(ISBLANK('BS'!E4),IF(LEFT('_f_BS'!E4,1)="=","M",""),IF(IFERROR(_xlfn.FORMULATEXT('BS'!E4),"")<>"",IF(_xlfn.FORMULATEXT('BS'!E4)<>'_f_BS'!E4,"M",""),IF(OR(LEFT('_f_BS'!E4,1)="=",'_f_BS'!E4=""),"M",""))) | F4: =IF(ISBLANK('BS'!F4),IF(LEFT('_f_BS'!F4,1)="=","M",""),IF(IFERROR(_xlfn.FORMULATEXT('BS'!F4),"")<>"",IF(_xlfn.FORMULATEXT('BS'!F4)<>'_f_BS'!F4,"M",""),IF(OR(LEFT('_f_BS'!F4,1)="=",'_f_BS'!F4=""),"M",""))) | G4: =IF(ISBLANK('BS'!G4),IF(LEFT('_f_BS'!G4,1)="=","M",""),IF(IFERROR(_xlfn.FORMULATEXT('BS'!G4),"")<>"",IF(_xlfn.FORMULATEXT('BS'!G4)<>'_f_BS'!G4,"M",""),IF(OR(LEFT('_f_BS'!G4,1)="=",'_f_BS'!G4=""),"M",""))) | H4: =IF(ISBLANK('BS'!H4),IF(LEFT('_f_BS'!H4,1)="=","M",""),IF(IFERROR(_xlfn.FORMULATEXT('BS'!H4),"")<>"",IF(_xlfn.FORMULATEXT('BS'!H4)<>'_f_BS'!H4,"M",""),IF(OR(LEFT('_f_BS'!H4,1)="=",'_f_BS'!H4=""),"M",""))) | ... P4: =IF(ISBLANK('BS'!P4),IF(LEFT('_f_BS'!P4,1)="=","M",""),IF(IFERROR(_xlfn.FORMULATEXT('BS'!P4),"")<>"",IF(_xlfn.FORMULATEXT('BS'!P4)<>'_f_BS'!P4,"M",""),IF(OR(LEFT('_f_BS'!P4,1)="=",'_f_BS'!P4=""),"M","")))
A5: =IF(ISBLANK('BS'!A5),IF(LEFT('_f_BS'!A5,1)="=","M",""),IF(IFERROR(_xlfn.FORMULATEXT('BS'!A5),"")<>"",IF(_xlfn.FORMULATEXT('BS'!A5)<>'_f_BS'!A5,"M",""),IF(OR(LEFT('_f_BS'!A5,1)="=",'_f_BS'!A5=""),"M",""))) | B5: =IF(ISBLANK('BS'!B5),IF(LEFT('_f_BS'!B5,1)="=","M",""),IF(IFERROR(_xlfn.FORMULATEXT('BS'!B5),"")<>"",IF(_xlfn.FORMULATEXT('BS'!B5)<>'_f_BS'!B5,"M",""),IF(OR(LEFT('_f_BS'!B5,1)="=",'_f_BS'!B5=""),"M",""))) | C5: =IF(ISBLANK('BS'!C5),IF(LEFT('_f_BS'!C5,1)="=","M",""),IF(IFERROR(_xlfn.FORMULATEXT('BS'!C5),"")<>"",IF(_xlfn.FORMULATEXT('BS'!C5)<>'_f_BS'!C5,"M",""),IF(OR(LEFT('_f_BS'!C5,1)="=",'_f_BS'!C5=""),"M",""))) | D5: =IF(ISBLANK('BS'!D5),IF(LEFT('_f_BS'!D5,1)="=","M",""),IF(IFERROR(_xlfn.FORMULATEXT('BS'!D5),"")<>"",IF(_xlfn.FORMULATEXT('BS'!D5)<>'_f_BS'!D5,"M",""),IF(OR(LEFT('_f_BS'!D5,1)="=",'_f_BS'!D5=""),"M",""))) | E5: =IF(ISBLANK('BS'!E5),IF(LEFT('_f_BS'!E5,1)="=","M",""),IF(IFERROR(_xlfn.FORMULATEXT('BS'!E5),"")<>"",IF(_xlfn.FORMULATEXT('BS'!E5)<>'_f_BS'!E5,"M",""),IF(OR(LEFT('_f_BS'!E5,1)="=",'_f_BS'!E5=""),"M",""))) | F5: =IF(ISBLANK('BS'!F5),IF(LEFT('_f_BS'!F5,1)="=","M",""),IF(IFERROR(_xlfn.FORMULATEXT('BS'!F5),"")<>"",IF(_xlfn.FORMULATEXT('BS'!F5)<>'_f_BS'!F5,"M",""),IF(OR(LEFT('_f_BS'!F5,1)="=",'_f_BS'!F5=""),"M",""))) | G5: =IF(ISBLANK('BS'!G5),IF(LEFT('_f_BS'!G5,1)="=","M",""),IF(IFERROR(_xlfn.FORMULATEXT('BS'!G5),"")<>"",IF(_xlfn.FORMULATEXT('BS'!G5)<>'_f_BS'!G5,"M",""),IF(OR(LEFT('_f_BS'!G5,1)="=",'_f_BS'!G5=""),"M",""))) | H5: =IF(ISBLANK('BS'!H5),IF(LEFT('_f_BS'!H5,1)="=","M",""),IF(IFERROR(_xlfn.FORMULATEXT('BS'!H5),"")<>"",IF(_xlfn.FORMULATEXT('BS'!H5)<>'_f_BS'!H5,"M",""),IF(OR(LEFT('_f_BS'!H5,1)="=",'_f_BS'!H5=""),"M",""))) | ... P5: =IF(ISBLANK('BS'!P5),IF(LEFT('_f_BS'!P5,1)="=","M",""),IF(IFERROR(_xlfn.FORMULATEXT('BS'!P5),"")<>"",IF(_xlfn.FORMULATEXT('BS'!P5)<>'_f_BS'!P5,"M",""),IF(OR(LEFT('_f_BS'!P5,1)="=",'_f_BS'!P5=""),"M","")))
A6: =IF(ISBLANK('BS'!A6),IF(LEFT('_f_BS'!A6,1)="=","M",""),IF(IFERROR(_xlfn.FORMULATEXT('BS'!A6),"")<>"",IF(_xlfn.FORMULATEXT('BS'!A6)<>'_f_BS'!A6,"M",""),IF(OR(LEFT('_f_BS'!A6,1)="=",'_f_BS'!A6=""),"M",""))) | B6: =IF(ISBLANK('BS'!B6),IF(LEFT('_f_BS'!B6,1)="=","M",""),IF(IFERROR(_xlfn.FORMULATEXT('BS'!B6),"")<>"",IF(_xlfn.FORMULATEXT('BS'!B6)<>'_f_BS'!B6,"M",""),IF(OR(LEFT('_f_BS'!B6,1)="=",'_f_BS'!B6=""),"M",""))) | C6: =IF(ISBLANK('BS'!C6),IF(LEFT('_f_BS'!C6,1)="=","M",""),IF(IFERROR(_xlfn.FORMULATEXT('BS'!C6),"")<>"",IF(_xlfn.FORMULATEXT('BS'!C6)<>'_f_BS'!C6,"M",""),IF(OR(LEFT('_f_BS'!C6,1)="=",'_f_BS'!C6=""),"M",""))) | D6: =IF(ISBLANK('BS'!D6),IF(LEFT('_f_BS'!D6,1)="=","M",""),IF(IFERROR(_xlfn.FORMULATEXT('BS'!D6),"")<>"",IF(_xlfn.FORMULATEXT('BS'!D6)<>'_f_BS'!D6,"M",""),IF(OR(LEFT('_f_BS'!D6,1)="=",'_f_BS'!D6=""),"M",""))) | E6: =IF(ISBLANK('BS'!E6),IF(LEFT('_f_BS'!E6,1)="=","M",""),IF(IFERROR(_xlfn.FORMULATEXT('BS'!E6),"")<>"",IF(_xlfn.FORMULATEXT('BS'!E6)<>'_f_BS'!E6,"M",""),IF(OR(LEFT('_f_BS'!E6,1)="=",'_f_BS'!E6=""),"M",""))) | F6: =IF(ISBLANK('BS'!F6),IF(LEFT('_f_BS'!F6,1)="=","M",""),IF(IFERROR(_xlfn.FORMULATEXT('BS'!F6),"")<>"",IF(_xlfn.FORMULATEXT('BS'!F6)<>'_f_BS'!F6,"M",""),IF(OR(LEFT('_f_BS'!F6,1)="=",'_f_BS'!F6=""),"M",""))) | G6: =IF(ISBLANK('BS'!G6),IF(LEFT('_f_BS'!G6,1)="=","M",""),IF(IFERROR(_xlfn.FORMULATEXT('BS'!G6),"")<>"",IF(_xlfn.FORMULATEXT('BS'!G6)<>'_f_BS'!G6,"M",""),IF(OR(LEFT('_f_BS'!G6,1)="=",'_f_BS'!G6=""),"M",""))) | H6: =IF(ISBLANK('BS'!H6),IF(LEFT('_f_BS'!H6,1)="=","M",""),IF(IFERROR(_xlfn.FORMULATEXT('BS'!H6),"")<>"",IF(_xlfn.FORMULATEXT('BS'!H6)<>'_f_BS'!H6,"M",""),IF(OR(LEFT('_f_BS'!H6,1)="=",'_f_BS'!H6=""),"M",""))) | ... P6: =IF(ISBLANK('BS'!P6),IF(LEFT('_f_BS'!P6,1)="=","M",""),IF(IFERROR(_xlfn.FORMULATEXT('BS'!P6),"")<>"",IF(_xlfn.FORMULATEXT('BS'!P6)<>'_f_BS'!P6,"M",""),IF(OR(LEFT('_f_BS'!P6,1)="=",'_f_BS'!P6=""),"M","")))
A7: =IF(ISBLANK('BS'!A7),IF(LEFT('_f_BS'!A7,1)="=","M",""),IF(IFERROR(_xlfn.FORMULATEXT('BS'!A7),"")<>"",IF(_xlfn.FORMULATEXT('BS'!A7)<>'_f_BS'!A7,"M",""),IF(OR(LEFT('_f_BS'!A7,1)="=",'_f_BS'!A7=""),"M",""))) | B7: =IF(ISBLANK('BS'!B7),IF(LEFT('_f_BS'!B7,1)="=","M",""),IF(IFERROR(_xlfn.FORMULATEXT('BS'!B7),"")<>"",IF(_xlfn.FORMULATEXT('BS'!B7)<>'_f_BS'!B7,"M",""),IF(OR(LEFT('_f_BS'!B7,1)="=",'_f_BS'!B7=""),"M",""))) | C7: =IF(ISBLANK('BS'!C7),IF(LEFT('_f_BS'!C7,1)="=","M",""),IF(IFERROR(_xlfn.FORMULATEXT('BS'!C7),"")<>"",IF(_xlfn.FORMULATEXT('BS'!C7)<>'_f_BS'!C7,"M",""),IF(OR(LEFT('_f_BS'!C7,1)="=",'_f_BS'!C7=""),"M",""))) | D7: =IF(ISBLANK('BS'!D7),IF(LEFT('_f_BS'!D7,1)="=","M",""),IF(IFERROR(_xlfn.FORMULATEXT('BS'!D7),"")<>"",IF(_xlfn.FORMULATEXT('BS'!D7)<>'_f_BS'!D7,"M",""),IF(OR(LEFT('_f_BS'!D7,1)="=",'_f_BS'!D7=""),"M",""))) | E7: =IF(ISBLANK('BS'!E7),IF(LEFT('_f_BS'!E7,1)="=","M",""),IF(IFERROR(_xlfn.FORMULATEXT('BS'!E7),"")<>"",IF(_xlfn.FORMULATEXT('BS'!E7)<>'_f_BS'!E7,"M",""),IF(OR(LEFT('_f_BS'!E7,1)="=",'_f_BS'!E7=""),"M",""))) | F7: =IF(ISBLANK('BS'!F7),IF(LEFT('_f_BS'!F7,1)="=","M",""),IF(IFERROR(_xlfn.FORMULATEXT('BS'!F7),"")<>"",IF(_xlfn.FORMULATEXT('BS'!F7)<>'_f_BS'!F7,"M",""),IF(OR(LEFT('_f_BS'!F7,1)="=",'_f_BS'!F7=""),"M",""))) | G7: =IF(ISBLANK('BS'!G7),IF(LEFT('_f_BS'!G7,1)="=","M",""),IF(IFERROR(_xlfn.FORMULATEXT('BS'!G7),"")<>"",IF(_xlfn.FORMULATEXT('BS'!G7)<>'_f_BS'!G7,"M",""),IF(OR(LEFT('_f_BS'!G7,1)="=",'_f_BS'!G7=""),"M",""))) | H7: =IF(ISBLANK('BS'!H7),IF(LEFT('_f_BS'!H7,1)="=","M",""),IF(IFERROR(_xlfn.FORMULATEXT('BS'!H7),"")<>"",IF(_xlfn.FORMULATEXT('BS'!H7)<>'_f_BS'!H7,"M",""),IF(OR(LEFT('_f_BS'!H7,1)="=",'_f_BS'!H7=""),"M",""))) | ... P7: =IF(ISBLANK('BS'!P7),IF(LEFT('_f_BS'!P7,1)="=","M",""),IF(IFERROR(_xlfn.FORMULATEXT('BS'!P7),"")<>"",IF(_xlfn.FORMULATEXT('BS'!P7)<>'_f_BS'!P7,"M",""),IF(OR(LEFT('_f_BS'!P7,1)="=",'_f_BS'!P7=""),"M","")))
A8: =IF(ISBLANK('BS'!A8),IF(LEFT('_f_BS'!A8,1)="=","M",""),IF(IFERROR(_xlfn.FORMULATEXT('BS'!A8),"")<>"",IF(_xlfn.FORMULATEXT('BS'!A8)<>'_f_BS'!A8,"M",""),IF(OR(LEFT('_f_BS'!A8,1)="=",'_f_BS'!A8=""),"M",""))) | B8: =IF(ISBLANK('BS'!B8),IF(LEFT('_f_BS'!B8,1)="=","M",""),IF(IFERROR(_xlfn.FORMULATEXT('BS'!B8),"")<>"",IF(_xlfn.FORMULATEXT('BS'!B8)<>'_f_BS'!B8,"M",""),IF(OR(LEFT('_f_BS'!B8,1)="=",'_f_BS'!B8=""),"M",""))) | C8: =IF(ISBLANK('BS'!C8),IF(LEFT('_f_BS'!C8,1)="=","M",""),IF(IFERROR(_xlfn.FORMULATEXT('BS'!C8),"")<>"",IF(_xlfn.FORMULATEXT('BS'!C8)<>'_f_BS'!C8,"M",""),IF(OR(LEFT('_f_BS'!C8,1)="=",'_f_BS'!C8=""),"M",""))) | D8: =IF(ISBLANK('BS'!D8),IF(LEFT('_f_BS'!D8,1)="=","M",""),IF(IFERROR(_xlfn.FORMULATEXT('BS'!D8),"")<>"",IF(_xlfn.FORMULATEXT('BS'!D8)<>'_f_BS'!D8,"M",""),IF(OR(LEFT('_f_BS'!D8,1)="=",'_f_BS'!D8=""),"M",""))) | E8: =IF(ISBLANK('BS'!E8),IF(LEFT('_f_BS'!E8,1)="=","M",""),IF(IFERROR(_xlfn.FORMULATEXT('BS'!E8),"")<>"",IF(_xlfn.FORMULATEXT('BS'!E8)<>'_f_BS'!E8,"M",""),IF(OR(LEFT('_f_BS'!E8,1)="=",'_f_BS'!E8=""),"M",""))) | F8: =IF(ISBLANK('BS'!F8),IF(LEFT('_f_BS'!F8,1)="=","M",""),IF(IFERROR(_xlfn.FORMULATEXT('BS'!F8),"")<>"",IF(_xlfn.FORMULATEXT('BS'!F8)<>'_f_BS'!F8,"M",""),IF(OR(LEFT('_f_BS'!F8,1)="=",'_f_BS'!F8=""),"M",""))) | G8: =IF(ISBLANK('BS'!G8),IF(LEFT('_f_BS'!G8,1)="=","M",""),IF(IFERROR(_xlfn.FORMULATEXT('BS'!G8),"")<>"",IF(_xlfn.FORMULATEXT('BS'!G8)<>'_f_BS'!G8,"M",""),IF(OR(LEFT('_f_BS'!G8,1)="=",'_f_BS'!G8=""),"M",""))) | H8: =IF(ISBLANK('BS'!H8),IF(LEFT('_f_BS'!H8,1)="=","M",""),IF(IFERROR(_xlfn.FORMULATEXT('BS'!H8),"")<>"",IF(_xlfn.FORMULATEXT('BS'!H8)<>'_f_BS'!H8,"M",""),IF(OR(LEFT('_f_BS'!H8,1)="=",'_f_BS'!H8=""),"M",""))) | ... P8: =IF(ISBLANK('BS'!P8),IF(LEFT('_f_BS'!P8,1)="=","M",""),IF(IFERROR(_xlfn.FORMULATEXT('BS'!P8),"")<>"",IF(_xlfn.FORMULATEXT('BS'!P8)<>'_f_BS'!P8,"M",""),IF(OR(LEFT('_f_BS'!P8,1)="=",'_f_BS'!P8=""),"M","")))
A9: =IF(ISBLANK('BS'!A9),IF(LEFT('_f_BS'!A9,1)="=","M",""),IF(IFERROR(_xlfn.FORMULATEXT('BS'!A9),"")<>"",IF(_xlfn.FORMULATEXT('BS'!A9)<>'_f_BS'!A9,"M",""),IF(OR(LEFT('_f_BS'!A9,1)="=",'_f_BS'!A9=""),"M",""))) | B9: =IF(ISBLANK('BS'!B9),IF(LEFT('_f_BS'!B9,1)="=","M",""),IF(IFERROR(_xlfn.FORMULATEXT('BS'!B9),"")<>"",IF(_xlfn.FORMULATEXT('BS'!B9)<>'_f_BS'!B9,"M",""),IF(OR(LEFT('_f_BS'!B9,1)="=",'_f_BS'!B9=""),"M",""))) | C9: =IF(ISBLANK('BS'!C9),IF(LEFT('_f_BS'!C9,1)="=","M",""),IF(IFERROR(_xlfn.FORMULATEXT('BS'!C9),"")<>"",IF(_xlfn.FORMULATEXT('BS'!C9)<>'_f_BS'!C9,"M",""),IF(OR(LEFT('_f_BS'!C9,1)="=",'_f_BS'!C9=""),"M",""))) | D9: =IF(ISBLANK('BS'!D9),IF(LEFT('_f_BS'!D9,1)="=","M",""),IF(IFERROR(_xlfn.FORMULATEXT('BS'!D9),"")<>"",IF(_xlfn.FORMULATEXT('BS'!D9)<>'_f_BS'!D9,"M",""),IF(OR(LEFT('_f_BS'!D9,1)="=",'_f_BS'!D9=""),"M",""))) | E9: =IF(ISBLANK('BS'!E9),IF(LEFT('_f_BS'!E9,1)="=","M",""),IF(IFERROR(_xlfn.FORMULATEXT('BS'!E9),"")<>"",IF(_xlfn.FORMULATEXT('BS'!E9)<>'_f_BS'!E9,"M",""),IF(OR(LEFT('_f_BS'!E9,1)="=",'_f_BS'!E9=""),"M",""))) | F9: =IF(ISBLANK('BS'!F9),IF(LEFT('_f_BS'!F9,1)="=","M",""),IF(IFERROR(_xlfn.FORMULATEXT('BS'!F9),"")<>"",IF(_xlfn.FORMULATEXT('BS'!F9)<>'_f_BS'!F9,"M",""),IF(OR(LEFT('_f_BS'!F9,1)="=",'_f_BS'!F9=""),"M",""))) | G9: =IF(ISBLANK('BS'!G9),IF(LEFT('_f_BS'!G9,1)="=","M",""),IF(IFERROR(_xlfn.FORMULATEXT('BS'!G9),"")<>"",IF(_xlfn.FORMULATEXT('BS'!G9)<>'_f_BS'!G9,"M",""),IF(OR(LEFT('_f_BS'!G9,1)="=",'_f_BS'!G9=""),"M",""))) | H9: =IF(ISBLANK('BS'!H9),IF(LEFT('_f_BS'!H9,1)="=","M",""),IF(IFERROR(_xlfn.FORMULATEXT('BS'!H9),"")<>"",IF(_xlfn.FORMULATEXT('BS'!H9)<>'_f_BS'!H9,"M",""),IF(OR(LEFT('_f_BS'!H9,1)="=",'_f_BS'!H9=""),"M",""))) | ... P9: =IF(ISBLANK('BS'!P9),IF(LEFT('_f_BS'!P9,1)="=","M",""),IF(IFERROR(_xlfn.FORMULATEXT('BS'!P9),"")<>"",IF(_xlfn.FORMULATEXT('BS'!P9)<>'_f_BS'!P9,"M",""),IF(OR(LEFT('_f_BS'!P9,1)="=",'_f_BS'!P9=""),"M","")))
A10: =IF(ISBLANK('BS'!A10),IF(LEFT('_f_BS'!A10,1)="=","M",""),IF(IFERROR(_xlfn.FORMULATEXT('BS'!A10),"")<>"",IF(_xlfn.FORMULATEXT('BS'!A10)<>'_f_BS'!A10,"M",""),IF(OR(LEFT('_f_BS'!A10,1)="=",'_f_BS'!A10=""),"M",""))) | B10: =IF(ISBLANK('BS'!B10),IF(LEFT('_f_BS'!B10,1)="=","M",""),IF(IFERROR(_xlfn.FORMULATEXT('BS'!B10),"")<>"",IF(_xlfn.FORMULATEXT('BS'!B10)<>'_f_BS'!B10,"M",""),IF(OR(LEFT('_f_BS'!B10,1)="=",'_f_BS'!B10=""),"M",""))) | C10: =IF(ISBLANK('BS'!C10),IF(LEFT('_f_BS'!C10,1)="=","M",""),IF(IFERROR(_xlfn.FORMULATEXT('BS'!C10),"")<>"",IF(_xlfn.FORMULATEXT('BS'!C10)<>'_f_BS'!C10,"M",""),IF(OR(LEFT('_f_BS'!C10,1)="=",'_f_BS'!C10=""),"M",""))) | D10: =IF(ISBLANK('BS'!D10),IF(LEFT('_f_BS'!D10,1)="=","M",""),IF(IFERROR(_xlfn.FORMULATEXT('BS'!D10),"")<>"",IF(_xlfn.FORMULATEXT('BS'!D10)<>'_f_BS'!D10,"M",""),IF(OR(LEFT('_f_BS'!D10,1)="=",'_f_BS'!D10=""),"M",""))) | E10: =IF(ISBLANK('BS'!E10),IF(LEFT('_f_BS'!E10,1)="=","M",""),IF(IFERROR(_xlfn.FORMULATEXT('BS'!E10),"")<>"",IF(_xlfn.FORMULATEXT('BS'!E10)<>'_f_BS'!E10,"M",""),IF(OR(LEFT('_f_BS'!E10,1)="=",'_f_BS'!E10=""),"M",""))) | F10: =IF(ISBLANK('BS'!F10),IF(LEFT('_f_BS'!F10,1)="=","M",""),IF(IFERROR(_xlfn.FORMULATEXT('BS'!F10),"")<>"",IF(_xlfn.FORMULATEXT('BS'!F10)<>'_f_BS'!F10,"M",""),IF(OR(LEFT('_f_BS'!F10,1)="=",'_f_BS'!F10=""),"M",""))) | G10: =IF(ISBLANK('BS'!G10),IF(LEFT('_f_BS'!G10,1)="=","M",""),IF(IFERROR(_xlfn.FORMULATEXT('BS'!G10),"")<>"",IF(_xlfn.FORMULATEXT('BS'!G10)<>'_f_BS'!G10,"M",""),IF(OR(LEFT('_f_BS'!G10,1)="=",'_f_BS'!G10=""),"M",""))) | H10: =IF(ISBLANK('BS'!H10),IF(LEFT('_f_BS'!H10,1)="=","M",""),IF(IFERROR(_xlfn.FORMULATEXT('BS'!H10),"")<>"",IF(_xlfn.FORMULATEXT('BS'!H10)<>'_f_BS'!H10,"M",""),IF(OR(LEFT('_f_BS'!H10,1)="=",'_f_BS'!H10=""),"M",""))) | ... P10: =IF(ISBLANK('BS'!P10),IF(LEFT('_f_BS'!P10,1)="=","M",""),IF(IFERROR(_xlfn.FORMULATEXT('BS'!P10),"")<>"",IF(_xlfn.FORMULATEXT('BS'!P10)<>'_f_BS'!P10,"M",""),IF(OR(LEFT('_f_BS'!P10,1)="=",'_f_BS'!P10=""),"M","")))
A11: =IF(ISBLANK('BS'!A11),IF(LEFT('_f_BS'!A11,1)="=","M",""),IF(IFERROR(_xlfn.FORMULATEXT('BS'!A11),"")<>"",IF(_xlfn.FORMULATEXT('BS'!A11)<>'_f_BS'!A11,"M",""),IF(OR(LEFT('_f_BS'!A11,1)="=",'_f_BS'!A11=""),"M",""))) | B11: =IF(ISBLANK('BS'!B11),IF(LEFT('_f_BS'!B11,1)="=","M",""),IF(IFERROR(_xlfn.FORMULATEXT('BS'!B11),"")<>"",IF(_xlfn.FORMULATEXT('BS'!B11)<>'_f_BS'!B11,"M",""),IF(OR(LEFT('_f_BS'!B11,1)="=",'_f_BS'!B11=""),"M",""))) | C11: =IF(ISBLANK('BS'!C11),IF(LEFT('_f_BS'!C11,1)="=","M",""),IF(IFERROR(_xlfn.FORMULATEXT('BS'!C11),"")<>"",IF(_xlfn.FORMULATEXT('BS'!C11)<>'_f_BS'!C11,"M",""),IF(OR(LEFT('_f_BS'!C11,1)="=",'_f_BS'!C11=""),"M",""))) | D11: =IF(ISBLANK('BS'!D11),IF(LEFT('_f_BS'!D11,1)="=","M",""),IF(IFERROR(_xlfn.FORMULATEXT('BS'!D11),"")<>"",IF(_xlfn.FORMULATEXT('BS'!D11)<>'_f_BS'!D11,"M",""),IF(OR(LEFT('_f_BS'!D11,1)="=",'_f_BS'!D11=""),"M",""))) | E11: =IF(ISBLANK('BS'!E11),IF(LEFT('_f_BS'!E11,1)="=","M",""),IF(IFERROR(_xlfn.FORMULATEXT('BS'!E11),"")<>"",IF(_xlfn.FORMULATEXT('BS'!E11)<>'_f_BS'!E11,"M",""),IF(OR(LEFT('_f_BS'!E11,1)="=",'_f_BS'!E11=""),"M",""))) | F11: =IF(ISBLANK('BS'!F11),IF(LEFT('_f_BS'!F11,1)="=","M",""),IF(IFERROR(_xlfn.FORMULATEXT('BS'!F11),"")<>"",IF(_xlfn.FORMULATEXT('BS'!F11)<>'_f_BS'!F11,"M",""),IF(OR(LEFT('_f_BS'!F11,1)="=",'_f_BS'!F11=""),"M",""))) | G11: =IF(ISBLANK('BS'!G11),IF(LEFT('_f_BS'!G11,1)="=","M",""),IF(IFERROR(_xlfn.FORMULATEXT('BS'!G11),"")<>"",IF(_xlfn.FORMULATEXT('BS'!G11)<>'_f_BS'!G11,"M",""),IF(OR(LEFT('_f_BS'!G11,1)="=",'_f_BS'!G11=""),"M",""))) | H11: =IF(ISBLANK('BS'!H11),IF(LEFT('_f_BS'!H11,1)="=","M",""),IF(IFERROR(_xlfn.FORMULATEXT('BS'!H11),"")<>"",IF(_xlfn.FORMULATEXT('BS'!H11)<>'_f_BS'!H11,"M",""),IF(OR(LEFT('_f_BS'!H11,1)="=",'_f_BS'!H11=""),"M",""))) | ... P11: =IF(ISBLANK('BS'!P11),IF(LEFT('_f_BS'!P11,1)="=","M",""),IF(IFERROR(_xlfn.FORMULATEXT('BS'!P11),"")<>"",IF(_xlfn.FORMULATEXT('BS'!P11)<>'_f_BS'!P11,"M",""),IF(OR(LEFT('_f_BS'!P11,1)="=",'_f_BS'!P11=""),"M","")))
A12: =IF(ISBLANK('BS'!A12),IF(LEFT('_f_BS'!A12,1)="=","M",""),IF(IFERROR(_xlfn.FORMULATEXT('BS'!A12),"")<>"",IF(_xlfn.FORMULATEXT('BS'!A12)<>'_f_BS'!A12,"M",""),IF(OR(LEFT('_f_BS'!A12,1)="=",'_f_BS'!A12=""),"M",""))) | B12: =IF(ISBLANK('BS'!B12),IF(LEFT('_f_BS'!B12,1)="=","M",""),IF(IFERROR(_xlfn.FORMULATEXT('BS'!B12),"")<>"",IF(_xlfn.FORMULATEXT('BS'!B12)<>'_f_BS'!B12,"M",""),IF(OR(LEFT('_f_BS'!B12,1)="=",'_f_BS'!B12=""),"M",""))) | C12: =IF(ISBLANK('BS'!C12),IF(LEFT('_f_BS'!C12,1)="=","M",""),IF(IFERROR(_xlfn.FORMULATEXT('BS'!C12),"")<>"",IF(_xlfn.FORMULATEXT('BS'!C12)<>'_f_BS'!C12,"M",""),IF(OR(LEFT('_f_BS'!C12,1)="=",'_f_BS'!C12=""),"M",""))) | D12: =IF(ISBLANK('BS'!D12),IF(LEFT('_f_BS'!D12,1)="=","M",""),IF(IFERROR(_xlfn.FORMULATEXT('BS'!D12),"")<>"",IF(_xlfn.FORMULATEXT('BS'!D12)<>'_f_BS'!D12,"M",""),IF(OR(LEFT('_f_BS'!D12,1)="=",'_f_BS'!D12=""),"M",""))) | E12: =IF(ISBLANK('BS'!E12),IF(LEFT('_f_BS'!E12,1)="=","M",""),IF(IFERROR(_xlfn.FORMULATEXT('BS'!E12),"")<>"",IF(_xlfn.FORMULATEXT('BS'!E12)<>'_f_BS'!E12,"M",""),IF(OR(LEFT('_f_BS'!E12,1)="=",'_f_BS'!E12=""),"M",""))) | F12: =IF(ISBLANK('BS'!F12),IF(LEFT('_f_BS'!F12,1)="=","M",""),IF(IFERROR(_xlfn.FORMULATEXT('BS'!F12),"")<>"",IF(_xlfn.FORMULATEXT('BS'!F12)<>'_f_BS'!F12,"M",""),IF(OR(LEFT('_f_BS'!F12,1)="=",'_f_BS'!F12=""),"M",""))) | G12: =IF(ISBLANK('BS'!G12),IF(LEFT('_f_BS'!G12,1)="=","M",""),IF(IFERROR(_xlfn.FORMULATEXT('BS'!G12),"")<>"",IF(_xlfn.FORMULATEXT('BS'!G12)<>'_f_BS'!G12,"M",""),IF(OR(LEFT('_f_BS'!G12,1)="=",'_f_BS'!G12=""),"M",""))) | H12: =IF(ISBLANK('BS'!H12),IF(LEFT('_f_BS'!H12,1)="=","M",""),IF(IFERROR(_xlfn.FORMULATEXT('BS'!H12),"")<>"",IF(_xlfn.FORMULATEXT('BS'!H12)<>'_f_BS'!H12,"M",""),IF(OR(LEFT('_f_BS'!H12,1)="=",'_f_BS'!H12=""),"M",""))) | ... P12: =IF(ISBLANK('BS'!P12),IF(LEFT('_f_BS'!P12,1)="=","M",""),IF(IFERROR(_xlfn.FORMULATEXT('BS'!P12),"")<>"",IF(_xlfn.FORMULATEXT('BS'!P12)<>'_f_BS'!P12,"M",""),IF(OR(LEFT('_f_BS'!P12,1)="=",'_f_BS'!P12=""),"M","")))
... A83: =IF(ISBLANK('BS'!A83),IF(LEFT('_f_BS'!A83,1)="=","M",""),IF(IFERROR(_xlfn.FORMULATEXT('BS'!A83),"")<>"",IF(_xlfn.FORMULATEXT('BS'!A83)<>'_f_BS'!A83,"M",""),IF(OR(LEFT('_f_BS'!A83,1)="=",'_f_BS'!A83=""),"M",""))) | B83: =IF(ISBLANK('BS'!B83),IF(LEFT('_f_BS'!B83,1)="=","M",""),IF(IFERROR(_xlfn.FORMULATEXT('BS'!B83),"")<>"",IF(_xlfn.FORMULATEXT('BS'!B83)<>'_f_BS'!B83,"M",""),IF(OR(LEFT('_f_BS'!B83,1)="=",'_f_BS'!B83=""),"M",""))) | C83: =IF(ISBLANK('BS'!C83),IF(LEFT('_f_BS'!C83,1)="=","M",""),IF(IFERROR(_xlfn.FORMULATEXT('BS'!C83),"")<>"",IF(_xlfn.FORMULATEXT('BS'!C83)<>'_f_BS'!C83,"M",""),IF(OR(LEFT('_f_BS'!C83,1)="=",'_f_BS'!C83=""),"M",""))) | D83: =IF(ISBLANK('BS'!D83),IF(LEFT('_f_BS'!D83,1)="=","M",""),IF(IFERROR(_xlfn.FORMULATEXT('BS'!D83),"")<>"",IF(_xlfn.FORMULATEXT('BS'!D83)<>'_f_BS'!D83,"M",""),IF(OR(LEFT('_f_BS'!D83,1)="=",'_f_BS'!D83=""),"M",""))) | E83: =IF(ISBLANK('BS'!E83),IF(LEFT('_f_BS'!E83,1)="=","M",""),IF(IFERROR(_xlfn.FORMULATEXT('BS'!E83),"")<>"",IF(_xlfn.FORMULATEXT('BS'!E83)<>'_f_BS'!E83,"M",""),IF(OR(LEFT('_f_BS'!E83,1)="=",'_f_BS'!E83=""),"M",""))) | F83: =IF(ISBLANK('BS'!F83),IF(LEFT('_f_BS'!F83,1)="=","M",""),IF(IFERROR(_xlfn.FORMULATEXT('BS'!F83),"")<>"",IF(_xlfn.FORMULATEXT('BS'!F83)<>'_f_BS'!F83,"M",""),IF(OR(LEFT('_f_BS'!F83,1)="=",'_f_BS'!F83=""),"M",""))) | G83: =IF(ISBLANK('BS'!G83),IF(LEFT('_f_BS'!G83,1)="=","M",""),IF(IFERROR(_xlfn.FORMULATEXT('BS'!G83),"")<>"",IF(_xlfn.FORMULATEXT('BS'!G83)<>'_f_BS'!G83,"M",""),IF(OR(LEFT('_f_BS'!G83,1)="=",'_f_BS'!G83=""),"M",""))) | H83: =IF(ISBLANK('BS'!H83),IF(LEFT('_f_BS'!H83,1)="=","M",""),IF(IFERROR(_xlfn.FORMULATEXT('BS'!H83),"")<>"",IF(_xlfn.FORMULATEXT('BS'!H83)<>'_f_BS'!H83,"M",""),IF(OR(LEFT('_f_BS'!H83,1)="=",'_f_BS'!H83=""),"M",""))) | ... P83: =IF(ISBLANK('BS'!P83),IF(LEFT('_f_BS'!P83,1)="=","M",""),IF(IFERROR(_xlfn.FORMULATEXT('BS'!P83),"")<>"",IF(_xlfn.FORMULATEXT('BS'!P83)<>'_f_BS'!P83,"M",""),IF(OR(LEFT('_f_BS'!P83,1)="=",'_f_BS'!P83=""),"M","")))

Sheet _f_PL
A1: •
A2: •
A4: • | B4: • | C4: • | E4: • | F4: • | G4: • | H4: •
A5: • | B5: • | C5: •
A6: • | B6: • | C6: •
A7: • | B7: • | C7: • | E7: =B7=B5-B6 | F7: =C7=C5-C6 | G7: =IF(B7=B5-B6,"",(B7)-(B5-B6)) | H7: =IF(C7=C5-C6,"",(C7)-(C5-C6))
A8: • | B8: • | C8: • | E8: =B8=SUM(B9:B13) | F8: =C8=SUM(C9:C13) | G8: =IF(B8=SUM(B9:B13),"",(B8)-(SUM(B9:B13))) | H8: =IF(C8=SUM(C9:C13),"",(C8)-(SUM(C9:C13)))
A9: • | B9: • | C9: •
A10: • | B10: • | C10: •
A11: • | B11: • | C11: •
A12: • | B12: • | C12: •
A13: • | B13: • | C13: •
A14: • | B14: • | C14: •
A15: • | B15: • | C15: • | E15: =B15=SUM(B16:B19) | F15: =C15=SUM(C16:C19) | G15: =IF(B15=SUM(B16:B19),"",(B15)-(SUM(B16:B19))) | H15: =IF(C15=SUM(C16:C19),"",(C15)-(SUM(C16:C19)))
A16: • | B16: • | C16: •
A17: • | B17: • | C17: •
A18: • | B18: • | C18: •
A19: • | B19: • | C19: •
A20: • | B20: • | C20: • | E20: =B20=SUM(B21:B26) | F20: =C20=SUM(C21:C26) | G20: =IF(B20=SUM(B21:B26),"",(B20)-(SUM(B21:B26))) | H20: =IF(C20=SUM(C21:C26),"",(C20)-(SUM(C21:C26)))
A21: • | B21: • | C21: •
A22: • | B22: • | C22: •
A23: • | B23: • | C23: •
A24: • | B24: • | C24: •
A25: • | B25: • | C25: •
A26: • | B26: • | C26: •
A27: • | B27: • | C27: • | E27: =B27=B14+B15-B20 | F27: =C27=C14+C15-C20 | G27: =IF(B27=B14+B15-B20,"",(B27)-(B14+B15-B20)) | H27: =IF(C27=C14+C15-C20,"",(C27)-(C14+C15-C20))
A28: • | B28: • | C28: •
A29: • | B29: • | C29: • | E29: =B29=B27-B28 | F29: =C29=C27-C28 | G29: =IF(B29=B27-B28,"",(B29)-(B27-B28)) | H29: =IF(C29=C27-C28,"",(C29)-(C27-C28))

Sheet _c_PL
A1: =IF(ISBLANK('PL'!A1),IF(LEFT('_f_PL'!A1,1)="=","M",""),IF(IFERROR(_xlfn.FORMULATEXT('PL'!A1),"")<>"",IF(_xlfn.FORMULATEXT('PL'!A1)<>'_f_PL'!A1,"M",""),IF(OR(LEFT('_f_PL'!A1,1)="=",'_f_PL'!A1=""),"M",""))) | B1: =IF(ISBLANK('PL'!B1),IF(LEFT('_f_PL'!B1,1)="=","M",""),IF(IFERROR(_xlfn.FORMULATEXT('PL'!B1),"")<>"",IF(_xlfn.FORMULATEXT('PL'!B1)<>'_f_PL'!B1,"M",""),IF(OR(LEFT('_f_PL'!B1,1)="=",'_f_PL'!B1=""),"M",""))) | C1: =IF(ISBLANK('PL'!C1),IF(LEFT('_f_PL'!C1,1)="=","M",""),IF(IFERROR(_xlfn.FORMULATEXT('PL'!C1),"")<>"",IF(_xlfn.FORMULATEXT('PL'!C1)<>'_f_PL'!C1,"M",""),IF(OR(LEFT('_f_PL'!C1,1)="=",'_f_PL'!C1=""),"M",""))) | D1: =IF(ISBLANK('PL'!D1),IF(LEFT('_f_PL'!D1,1)="=","M",""),IF(IFERROR(_xlfn.FORMULATEXT('PL'!D1),"")<>"",IF(_xlfn.FORMULATEXT('PL'!D1)<>'_f_PL'!D1,"M",""),IF(OR(LEFT('_f_PL'!D1,1)="=",'_f_PL'!D1=""),"M",""))) | E1: =IF(ISBLANK('PL'!E1),IF(LEFT('_f_PL'!E1,1)="=","M",""),IF(IFERROR(_xlfn.FORMULATEXT('PL'!E1),"")<>"",IF(_xlfn.FORMULATEXT('PL'!E1)<>'_f_PL'!E1,"M",""),IF(OR(LEFT('_f_PL'!E1,1)="=",'_f_PL'!E1=""),"M",""))) | F1: =IF(ISBLANK('PL'!F1),IF(LEFT('_f_PL'!F1,1)="=","M",""),IF(IFERROR(_xlfn.FORMULATEXT('PL'!F1),"")<>"",IF(_xlfn.FORMULATEXT('PL'!F1)<>'_f_PL'!F1,"M",""),IF(OR(LEFT('_f_PL'!F1,1)="=",'_f_PL'!F1=""),"M",""))) | G1: =IF(ISBLANK('PL'!G1),IF(LEFT('_f_PL'!G1,1)="=","M",""),IF(IFERROR(_xlfn.FORMULATEXT('PL'!G1),"")<>"",IF(_xlfn.FORMULATEXT('PL'!G1)<>'_f_PL'!G1,"M",""),IF(OR(LEFT('_f_PL'!G1,1)="=",'_f_PL'!G1=""),"M",""))) | H1: =IF(ISBLANK('PL'!H1),IF(LEFT('_f_PL'!H1,1)="=","M",""),IF(IFERROR(_xlfn.FORMULATEXT('PL'!H1),"")<>"",IF(_xlfn.FORMULATEXT('PL'!H1)<>'_f_PL'!H1,"M",""),IF(OR(LEFT('_f_PL'!H1,1)="=",'_f_PL'!H1=""),"M",""))) | ... P1: =IF(ISBLANK('PL'!P1),IF(LEFT('_f_PL'!P1,1)="=","M",""),IF(IFERROR(_xlfn.FORMULATEXT('PL'!P1),"")<>"",IF(_xlfn.FORMULATEXT('PL'!P1)<>'_f_PL'!P1,"M",""),IF(OR(LEFT('_f_PL'!P1,1)="=",'_f_PL'!P1=""),"M","")))
A2: =IF(ISBLANK('PL'!A2),IF(LEFT('_f_PL'!A2,1)="=","M",""),IF(IFERROR(_xlfn.FORMULATEXT('PL'!A2),"")<>"",IF(_xlfn.FORMULATEXT('PL'!A2)<>'_f_PL'!A2,"M",""),IF(OR(LEFT('_f_PL'!A2,1)="=",'_f_PL'!A2=""),"M",""))) | B2: =IF(ISBLANK('PL'!B2),IF(LEFT('_f_PL'!B2,1)="=","M",""),IF(IFERROR(_xlfn.FORMULATEXT('PL'!B2),"")<>"",IF(_xlfn.FORMULATEXT('PL'!B2)<>'_f_PL'!B2,"M",""),IF(OR(LEFT('_f_PL'!B2,1)="=",'_f_PL'!B2=""),"M",""))) | C2: =IF(ISBLANK('PL'!C2),IF(LEFT('_f_PL'!C2,1)="=","M",""),IF(IFERROR(_xlfn.FORMULATEXT('PL'!C2),"")<>"",IF(_xlfn.FORMULATEXT('PL'!C2)<>'_f_PL'!C2,"M",""),IF(OR(LEFT('_f_PL'!C2,1)="=",'_f_PL'!C2=""),"M",""))) | D2: =IF(ISBLANK('PL'!D2),IF(LEFT('_f_PL'!D2,1)="=","M",""),IF(IFERROR(_xlfn.FORMULATEXT('PL'!D2),"")<>"",IF(_xlfn.FORMULATEXT('PL'!D2)<>'_f_PL'!D2,"M",""),IF(OR(LEFT('_f_PL'!D2,1)="=",'_f_PL'!D2=""),"M",""))) | E2: =IF(ISBLANK('PL'!E2),IF(LEFT('_f_PL'!E2,1)="=","M",""),IF(IFERROR(_xlfn.FORMULATEXT('PL'!E2),"")<>"",IF(_xlfn.FORMULATEXT('PL'!E2)<>'_f_PL'!E2,"M",""),IF(OR(LEFT('_f_PL'!E2,1)="=",'_f_PL'!E2=""),"M",""))) | F2: =IF(ISBLANK('PL'!F2),IF(LEFT('_f_PL'!F2,1)="=","M",""),IF(IFERROR(_xlfn.FORMULATEXT('PL'!F2),"")<>"",IF(_xlfn.FORMULATEXT('PL'!F2)<>'_f_PL'!F2,"M",""),IF(OR(LEFT('_f_PL'!F2,1)="=",'_f_PL'!F2=""),"M",""))) | G2: =IF(ISBLANK('PL'!G2),IF(LEFT('_f_PL'!G2,1)="=","M",""),IF(IFERROR(_xlfn.FORMULATEXT('PL'!G2),"")<>"",IF(_xlfn.FORMULATEXT('PL'!G2)<>'_f_PL'!G2,"M",""),IF(OR(LEFT('_f_PL'!G2,1)="=",'_f_PL'!G2=""),"M",""))) | H2: =IF(ISBLANK('PL'!H2),IF(LEFT('_f_PL'!H2,1)="=","M",""),IF(IFERROR(_xlfn.FORMULATEXT('PL'!H2),"")<>"",IF(_xlfn.FORMULATEXT('PL'!H2)<>'_f_PL'!H2,"M",""),IF(OR(LEFT('_f_PL'!H2,1)="=",'_f_PL'!H2=""),"M",""))) | ... P2: =IF(ISBLANK('PL'!P2),IF(LEFT('_f_PL'!P2,1)="=","M",""),IF(IFERROR(_xlfn.FORMULATEXT('PL'!P2),"")<>"",IF(_xlfn.FORMULATEXT('PL'!P2)<>'_f_PL'!P2,"M",""),IF(OR(LEFT('_f_PL'!P2,1)="=",'_f_PL'!P2=""),"M","")))
A3: =IF(ISBLANK('PL'!A3),IF(LEFT('_f_PL'!A3,1)="=","M",""),IF(IFERROR(_xlfn.FORMULATEXT('PL'!A3),"")<>"",IF(_xlfn.FORMULATEXT('PL'!A3)<>'_f_PL'!A3,"M",""),IF(OR(LEFT('_f_PL'!A3,1)="=",'_f_PL'!A3=""),"M",""))) | B3: =IF(ISBLANK('PL'!B3),IF(LEFT('_f_PL'!B3,1)="=","M",""),IF(IFERROR(_xlfn.FORMULATEXT('PL'!B3),"")<>"",IF(_xlfn.FORMULATEXT('PL'!B3)<>'_f_PL'!B3,"M",""),IF(OR(LEFT('_f_PL'!B3,1)="=",'_f_PL'!B3=""),"M",""))) | C3: =IF(ISBLANK('PL'!C3),IF(LEFT('_f_PL'!C3,1)="=","M",""),IF(IFERROR(_xlfn.FORMULATEXT('PL'!C3),"")<>"",IF(_xlfn.FORMULATEXT('PL'!C3)<>'_f_PL'!C3,"M",""),IF(OR(LEFT('_f_PL'!C3,1)="=",'_f_PL'!C3=""),"M",""))) | D3: =IF(ISBLANK('PL'!D3),IF(LEFT('_f_PL'!D3,1)="=","M",""),IF(IFERROR(_xlfn.FORMULATEXT('PL'!D3),"")<>"",IF(_xlfn.FORMULATEXT('PL'!D3)<>'_f_PL'!D3,"M",""),IF(OR(LEFT('_f_PL'!D3,1)="=",'_f_PL'!D3=""),"M",""))) | E3: =IF(ISBLANK('PL'!E3),IF(LEFT('_f_PL'!E3,1)="=","M",""),IF(IFERROR(_xlfn.FORMULATEXT('PL'!E3),"")<>"",IF(_xlfn.FORMULATEXT('PL'!E3)<>'_f_PL'!E3,"M",""),IF(OR(LEFT('_f_PL'!E3,1)="=",'_f_PL'!E3=""),"M",""))) | F3: =IF(ISBLANK('PL'!F3),IF(LEFT('_f_PL'!F3,1)="=","M",""),IF(IFERROR(_xlfn.FORMULATEXT('PL'!F3),"")<>"",IF(_xlfn.FORMULATEXT('PL'!F3)<>'_f_PL'!F3,"M",""),IF(OR(LEFT('_f_PL'!F3,1)="=",'_f_PL'!F3=""),"M",""))) | G3: =IF(ISBLANK('PL'!G3),IF(LEFT('_f_PL'!G3,1)="=","M",""),IF(IFERROR(_xlfn.FORMULATEXT('PL'!G3),"")<>"",IF(_xlfn.FORMULATEXT('PL'!G3)<>'_f_PL'!G3,"M",""),IF(OR(LEFT('_f_PL'!G3,1)="=",'_f_PL'!G3=""),"M",""))) | H3: =IF(ISBLANK('PL'!H3),IF(LEFT('_f_PL'!H3,1)="=","M",""),IF(IFERROR(_xlfn.FORMULATEXT('PL'!H3),"")<>"",IF(_xlfn.FORMULATEXT('PL'!H3)<>'_f_PL'!H3,"M",""),IF(OR(LEFT('_f_PL'!H3,1)="=",'_f_PL'!H3=""),"M",""))) | ... P3: =IF(ISBLANK('PL'!P3),IF(LEFT('_f_PL'!P3,1)="=","M",""),IF(IFERROR(_xlfn.FORMULATEXT('PL'!P3),"")<>"",IF(_xlfn.FORMULATEXT('PL'!P3)<>'_f_PL'!P3,"M",""),IF(OR(LEFT('_f_PL'!P3,1)="=",'_f_PL'!P3=""),"M","")))
A4: =IF(ISBLANK('PL'!A4),IF(LEFT('_f_PL'!A4,1)="=","M",""),IF(IFERROR(_xlfn.FORMULATEXT('PL'!A4),"")<>"",IF(_xlfn.FORMULATEXT('PL'!A4)<>'_f_PL'!A4,"M",""),IF(OR(LEFT('_f_PL'!A4,1)="=",'_f_PL'!A4=""),"M",""))) | B4: =IF(ISBLANK('PL'!B4),IF(LEFT('_f_PL'!B4,1)="=","M",""),IF(IFERROR(_xlfn.FORMULATEXT('PL'!B4),"")<>"",IF(_xlfn.FORMULATEXT('PL'!B4)<>'_f_PL'!B4,"M",""),IF(OR(LEFT('_f_PL'!B4,1)="=",'_f_PL'!B4=""),"M",""))) | C4: =IF(ISBLANK('PL'!C4),IF(LEFT('_f_PL'!C4,1)="=","M",""),IF(IFERROR(_xlfn.FORMULATEXT('PL'!C4),"")<>"",IF(_xlfn.FORMULATEXT('PL'!C4)<>'_f_PL'!C4,"M",""),IF(OR(LEFT('_f_PL'!C4,1)="=",'_f_PL'!C4=""),"M",""))) | D4: =IF(ISBLANK('PL'!D4),IF(LEFT('_f_PL'!D4,1)="=","M",""),IF(IFERROR(_xlfn.FORMULATEXT('PL'!D4),"")<>"",IF(_xlfn.FORMULATEXT('PL'!D4)<>'_f_PL'!D4,"M",""),IF(OR(LEFT('_f_PL'!D4,1)="=",'_f_PL'!D4=""),"M",""))) | E4: =IF(ISBLANK('PL'!E4),IF(LEFT('_f_PL'!E4,1)="=","M",""),IF(IFERROR(_xlfn.FORMULATEXT('PL'!E4),"")<>"",IF(_xlfn.FORMULATEXT('PL'!E4)<>'_f_PL'!E4,"M",""),IF(OR(LEFT('_f_PL'!E4,1)="=",'_f_PL'!E4=""),"M",""))) | F4: =IF(ISBLANK('PL'!F4),IF(LEFT('_f_PL'!F4,1)="=","M",""),IF(IFERROR(_xlfn.FORMULATEXT('PL'!F4),"")<>"",IF(_xlfn.FORMULATEXT('PL'!F4)<>'_f_PL'!F4,"M",""),IF(OR(LEFT('_f_PL'!F4,1)="=",'_f_PL'!F4=""),"M",""))) | G4: =IF(ISBLANK('PL'!G4),IF(LEFT('_f_PL'!G4,1)="=","M",""),IF(IFERROR(_xlfn.FORMULATEXT('PL'!G4),"")<>"",IF(_xlfn.FORMULATEXT('PL'!G4)<>'_f_PL'!G4,"M",""),IF(OR(LEFT('_f_PL'!G4,1)="=",'_f_PL'!G4=""),"M",""))) | H4: =IF(ISBLANK('PL'!H4),IF(LEFT('_f_PL'!H4,1)="=","M",""),IF(IFERROR(_xlfn.FORMULATEXT('PL'!H4),"")<>"",IF(_xlfn.FORMULATEXT('PL'!H4)<>'_f_PL'!H4,"M",""),IF(OR(LEFT('_f_PL'!H4,1)="=",'_f_PL'!H4=""),"M",""))) | ... P4: =IF(ISBLANK('PL'!P4),IF(LEFT('_f_PL'!P4,1)="=","M",""),IF(IFERROR(_xlfn.FORMULATEXT('PL'!P4),"")<>"",IF(_xlfn.FORMULATEXT('PL'!P4)<>'_f_PL'!P4,"M",""),IF(OR(LEFT('_f_PL'!P4,1)="=",'_f_PL'!P4=""),"M","")))
A5: =IF(ISBLANK('PL'!A5),IF(LEFT('_f_PL'!A5,1)="=","M",""),IF(IFERROR(_xlfn.FORMULATEXT('PL'!A5),"")<>"",IF(_xlfn.FORMULATEXT('PL'!A5)<>'_f_PL'!A5,"M",""),IF(OR(LEFT('_f_PL'!A5,1)="=",'_f_PL'!A5=""),"M",""))) | B5: =IF(ISBLANK('PL'!B5),IF(LEFT('_f_PL'!B5,1)="=","M",""),IF(IFERROR(_xlfn.FORMULATEXT('PL'!B5),"")<>"",IF(_xlfn.FORMULATEXT('PL'!B5)<>'_f_PL'!B5,"M",""),IF(OR(LEFT('_f_PL'!B5,1)="=",'_f_PL'!B5=""),"M",""))) | C5: =IF(ISBLANK('PL'!C5),IF(LEFT('_f_PL'!C5,1)="=","M",""),IF(IFERROR(_xlfn.FORMULATEXT('PL'!C5),"")<>"",IF(_xlfn.FORMULATEXT('PL'!C5)<>'_f_PL'!C5,"M",""),IF(OR(LEFT('_f_PL'!C5,1)="=",'_f_PL'!C5=""),"M",""))) | D5: =IF(ISBLANK('PL'!D5),IF(LEFT('_f_PL'!D5,1)="=","M",""),IF(IFERROR(_xlfn.FORMULATEXT('PL'!D5),"")<>"",IF(_xlfn.FORMULATEXT('PL'!D5)<>'_f_PL'!D5,"M",""),IF(OR(LEFT('_f_PL'!D5,1)="=",'_f_PL'!D5=""),"M",""))) | E5: =IF(ISBLANK('PL'!E5),IF(LEFT('_f_PL'!E5,1)="=","M",""),IF(IFERROR(_xlfn.FORMULATEXT('PL'!E5),"")<>"",IF(_xlfn.FORMULATEXT('PL'!E5)<>'_f_PL'!E5,"M",""),IF(OR(LEFT('_f_PL'!E5,1)="=",'_f_PL'!E5=""),"M",""))) | F5: =IF(ISBLANK('PL'!F5),IF(LEFT('_f_PL'!F5,1)="=","M",""),IF(IFERROR(_xlfn.FORMULATEXT('PL'!F5),"")<>"",IF(_xlfn.FORMULATEXT('PL'!F5)<>'_f_PL'!F5,"M",""),IF(OR(LEFT('_f_PL'!F5,1)="=",'_f_PL'!F5=""),"M",""))) | G5: =IF(ISBLANK('PL'!G5),IF(LEFT('_f_PL'!G5,1)="=","M",""),IF(IFERROR(_xlfn.FORMULATEXT('PL'!G5),"")<>"",IF(_xlfn.FORMULATEXT('PL'!G5)<>'_f_PL'!G5,"M",""),IF(OR(LEFT('_f_PL'!G5,1)="=",'_f_PL'!G5=""),"M",""))) | H5: =IF(ISBLANK('PL'!H5),IF(LEFT('_f_PL'!H5,1)="=","M",""),IF(IFERROR(_xlfn.FORMULATEXT('PL'!H5),"")<>"",IF(_xlfn.FORMULATEXT('PL'!H5)<>'_f_PL'!H5,"M",""),IF(OR(LEFT('_f_PL'!H5,1)="=",'_f_PL'!H5=""),"M",""))) | ... P5: =IF(ISBLANK('PL'!P5),IF(LEFT('_f_PL'!P5,1)="=","M",""),IF(IFERROR(_xlfn.FORMULATEXT('PL'!P5),"")<>"",IF(_xlfn.FORMULATEXT('PL'!P5)<>'_f_PL'!P5,"M",""),IF(OR(LEFT('_f_PL'!P5,1)="=",'_f_PL'!P5=""),"M","")))
A6: =IF(ISBLANK('PL'!A6),IF(LEFT('_f_PL'!A6,1)="=","M",""),IF(IFERROR(_xlfn.FORMULATEXT('PL'!A6),"")<>"",IF(_xlfn.FORMULATEXT('PL'!A6)<>'_f_PL'!A6,"M",""),IF(OR(LEFT('_f_PL'!A6,1)="=",'_f_PL'!A6=""),"M",""))) | B6: =IF(ISBLANK('PL'!B6),IF(LEFT('_f_PL'!B6,1)="=","M",""),IF(IFERROR(_xlfn.FORMULATEXT('PL'!B6),"")<>"",IF(_xlfn.FORMULATEXT('PL'!B6)<>'_f_PL'!B6,"M",""),IF(OR(LEFT('_f_PL'!B6,1)="=",'_f_PL'!B6=""),"M",""))) | C6: =IF(ISBLANK('PL'!C6),IF(LEFT('_f_PL'!C6,1)="=","M",""),IF(IFERROR(_xlfn.FORMULATEXT('PL'!C6),"")<>"",IF(_xlfn.FORMULATEXT('PL'!C6)<>'_f_PL'!C6,"M",""),IF(OR(LEFT('_f_PL'!C6,1)="=",'_f_PL'!C6=""),"M",""))) | D6: =IF(ISBLANK('PL'!D6),IF(LEFT('_f_PL'!D6,1)="=","M",""),IF(IFERROR(_xlfn.FORMULATEXT('PL'!D6),"")<>"",IF(_xlfn.FORMULATEXT('PL'!D6)<>'_f_PL'!D6,"M",""),IF(OR(LEFT('_f_PL'!D6,1)="=",'_f_PL'!D6=""),"M",""))) | E6: =IF(ISBLANK('PL'!E6),IF(LEFT('_f_PL'!E6,1)="=","M",""),IF(IFERROR(_xlfn.FORMULATEXT('PL'!E6),"")<>"",IF(_xlfn.FORMULATEXT('PL'!E6)<>'_f_PL'!E6,"M",""),IF(OR(LEFT('_f_PL'!E6,1)="=",'_f_PL'!E6=""),"M",""))) | F6: =IF(ISBLANK('PL'!F6),IF(LEFT('_f_PL'!F6,1)="=","M",""),IF(IFERROR(_xlfn.FORMULATEXT('PL'!F6),"")<>"",IF(_xlfn.FORMULATEXT('PL'!F6)<>'_f_PL'!F6,"M",""),IF(OR(LEFT('_f_PL'!F6,1)="=",'_f_PL'!F6=""),"M",""))) | G6: =IF(ISBLANK('PL'!G6),IF(LEFT('_f_PL'!G6,1)="=","M",""),IF(IFERROR(_xlfn.FORMULATEXT('PL'!G6),"")<>"",IF(_xlfn.FORMULATEXT('PL'!G6)<>'_f_PL'!G6,"M",""),IF(OR(LEFT('_f_PL'!G6,1)="=",'_f_PL'!G6=""),"M",""))) | H6: =IF(ISBLANK('PL'!H6),IF(LEFT('_f_PL'!H6,1)="=","M",""),IF(IFERROR(_xlfn.FORMULATEXT('PL'!H6),"")<>"",IF(_xlfn.FORMULATEXT('PL'!H6)<>'_f_PL'!H6,"M",""),IF(OR(LEFT('_f_PL'!H6,1)="=",'_f_PL'!H6=""),"M",""))) | ... P6: =IF(ISBLANK('PL'!P6),IF(LEFT('_f_PL'!P6,1)="=","M",""),IF(IFERROR(_xlfn.FORMULATEXT('PL'!P6),"")<>"",IF(_xlfn.FORMULATEXT('PL'!P6)<>'_f_PL'!P6,"M",""),IF(OR(LEFT('_f_PL'!P6,1)="=",'_f_PL'!P6=""),"M","")))
A7: =IF(ISBLANK('PL'!A7),IF(LEFT('_f_PL'!A7,1)="=","M",""),IF(IFERROR(_xlfn.FORMULATEXT('PL'!A7),"")<>"",IF(_xlfn.FORMULATEXT('PL'!A7)<>'_f_PL'!A7,"M",""),IF(OR(LEFT('_f_PL'!A7,1)="=",'_f_PL'!A7=""),"M",""))) | B7: =IF(ISBLANK('PL'!B7),IF(LEFT('_f_PL'!B7,1)="=","M",""),IF(IFERROR(_xlfn.FORMULATEXT('PL'!B7),"")<>"",IF(_xlfn.FORMULATEXT('PL'!B7)<>'_f_PL'!B7,"M",""),IF(OR(LEFT('_f_PL'!B7,1)="=",'_f_PL'!B7=""),"M",""))) | C7: =IF(ISBLANK('PL'!C7),IF(LEFT('_f_PL'!C7,1)="=","M",""),IF(IFERROR(_xlfn.FORMULATEXT('PL'!C7),"")<>"",IF(_xlfn.FORMULATEXT('PL'!C7)<>'_f_PL'!C7,"M",""),IF(OR(LEFT('_f_PL'!C7,1)="=",'_f_PL'!C7=""),"M",""))) | D7: =IF(ISBLANK('PL'!D7),IF(LEFT('_f_PL'!D7,1)="=","M",""),IF(IFERROR(_xlfn.FORMULATEXT('PL'!D7),"")<>"",IF(_xlfn.FORMULATEXT('PL'!D7)<>'_f_PL'!D7,"M",""),IF(OR(LEFT('_f_PL'!D7,1)="=",'_f_PL'!D7=""),"M",""))) | E7: =IF(ISBLANK('PL'!E7),IF(LEFT('_f_PL'!E7,1)="=","M",""),IF(IFERROR(_xlfn.FORMULATEXT('PL'!E7),"")<>"",IF(_xlfn.FORMULATEXT('PL'!E7)<>'_f_PL'!E7,"M",""),IF(OR(LEFT('_f_PL'!E7,1)="=",'_f_PL'!E7=""),"M",""))) | F7: =IF(ISBLANK('PL'!F7),IF(LEFT('_f_PL'!F7,1)="=","M",""),IF(IFERROR(_xlfn.FORMULATEXT('PL'!F7),"")<>"",IF(_xlfn.FORMULATEXT('PL'!F7)<>'_f_PL'!F7,"M",""),IF(OR(LEFT('_f_PL'!F7,1)="=",'_f_PL'!F7=""),"M",""))) | G7: =IF(ISBLANK('PL'!G7),IF(LEFT('_f_PL'!G7,1)="=","M",""),IF(IFERROR(_xlfn.FORMULATEXT('PL'!G7),"")<>"",IF(_xlfn.FORMULATEXT('PL'!G7)<>'_f_PL'!G7,"M",""),IF(OR(LEFT('_f_PL'!G7,1)="=",'_f_PL'!G7=""),"M",""))) | H7: =IF(ISBLANK('PL'!H7),IF(LEFT('_f_PL'!H7,1)="=","M",""),IF(IFERROR(_xlfn.FORMULATEXT('PL'!H7),"")<>"",IF(_xlfn.FORMULATEXT('PL'!H7)<>'_f_PL'!H7,"M",""),IF(OR(LEFT('_f_PL'!H7,1)="=",'_f_PL'!H7=""),"M",""))) | ... P7: =IF(ISBLANK('PL'!P7),IF(LEFT('_f_PL'!P7,1)="=","M",""),IF(IFERROR(_xlfn.FORMULATEXT('PL'!P7),"")<>"",IF(_xlfn.FORMULATEXT('PL'!P7)<>'_f_PL'!P7,"M",""),IF(OR(LEFT('_f_PL'!P7,1)="=",'_f_PL'!P7=""),"M","")))
A8: =IF(ISBLANK('PL'!A8),IF(LEFT('_f_PL'!A8,1)="=","M",""),IF(IFERROR(_xlfn.FORMULATEXT('PL'!A8),"")<>"",IF(_xlfn.FORMULATEXT('PL'!A8)<>'_f_PL'!A8,"M",""),IF(OR(LEFT('_f_PL'!A8,1)="=",'_f_PL'!A8=""),"M",""))) | B8: =IF(ISBLANK('PL'!B8),IF(LEFT('_f_PL'!B8,1)="=","M",""),IF(IFERROR(_xlfn.FORMULATEXT('PL'!B8),"")<>"",IF(_xlfn.FORMULATEXT('PL'!B8)<>'_f_PL'!B8,"M",""),IF(OR(LEFT('_f_PL'!B8,1)="=",'_f_PL'!B8=""),"M",""))) | C8: =IF(ISBLANK('PL'!C8),IF(LEFT('_f_PL'!C8,1)="=","M",""),IF(IFERROR(_xlfn.FORMULATEXT('PL'!C8),"")<>"",IF(_xlfn.FORMULATEXT('PL'!C8)<>'_f_PL'!C8,"M",""),IF(OR(LEFT('_f_PL'!C8,1)="=",'_f_PL'!C8=""),"M",""))) | D8: =IF(ISBLANK('PL'!D8),IF(LEFT('_f_PL'!D8,1)="=","M",""),IF(IFERROR(_xlfn.FORMULATEXT('PL'!D8),"")<>"",IF(_xlfn.FORMULATEXT('PL'!D8)<>'_f_PL'!D8,"M",""),IF(OR(LEFT('_f_PL'!D8,1)="=",'_f_PL'!D8=""),"M",""))) | E8: =IF(ISBLANK('PL'!E8),IF(LEFT('_f_PL'!E8,1)="=","M",""),IF(IFERROR(_xlfn.FORMULATEXT('PL'!E8),"")<>"",IF(_xlfn.FORMULATEXT('PL'!E8)<>'_f_PL'!E8,"M",""),IF(OR(LEFT('_f_PL'!E8,1)="=",'_f_PL'!E8=""),"M",""))) | F8: =IF(ISBLANK('PL'!F8),IF(LEFT('_f_PL'!F8,1)="=","M",""),IF(IFERROR(_xlfn.FORMULATEXT('PL'!F8),"")<>"",IF(_xlfn.FORMULATEXT('PL'!F8)<>'_f_PL'!F8,"M",""),IF(OR(LEFT('_f_PL'!F8,1)="=",'_f_PL'!F8=""),"M",""))) | G8: =IF(ISBLANK('PL'!G8),IF(LEFT('_f_PL'!G8,1)="=","M",""),IF(IFERROR(_xlfn.FORMULATEXT('PL'!G8),"")<>"",IF(_xlfn.FORMULATEXT('PL'!G8)<>'_f_PL'!G8,"M",""),IF(OR(LEFT('_f_PL'!G8,1)="=",'_f_PL'!G8=""),"M",""))) | H8: =IF(ISBLANK('PL'!H8),IF(LEFT('_f_PL'!H8,1)="=","M",""),IF(IFERROR(_xlfn.FORMULATEXT('PL'!H8),"")<>"",IF(_xlfn.FORMULATEXT('PL'!H8)<>'_f_PL'!H8,"M",""),IF(OR(LEFT('_f_PL'!H8,1)="=",'_f_PL'!H8=""),"M",""))) | ... P8: =IF(ISBLANK('PL'!P8),IF(LEFT('_f_PL'!P8,1)="=","M",""),IF(IFERROR(_xlfn.FORMULATEXT('PL'!P8),"")<>"",IF(_xlfn.FORMULATEXT('PL'!P8)<>'_f_PL'!P8,"M",""),IF(OR(LEFT('_f_PL'!P8,1)="=",'_f_PL'!P8=""),"M","")))
A9: =IF(ISBLANK('PL'!A9),IF(LEFT('_f_PL'!A9,1)="=","M",""),IF(IFERROR(_xlfn.FORMULATEXT('PL'!A9),"")<>"",IF(_xlfn.FORMULATEXT('PL'!A9)<>'_f_PL'!A9,"M",""),IF(OR(LEFT('_f_PL'!A9,1)="=",'_f_PL'!A9=""),"M",""))) | B9: =IF(ISBLANK('PL'!B9),IF(LEFT('_f_PL'!B9,1)="=","M",""),IF(IFERROR(_xlfn.FORMULATEXT('PL'!B9),"")<>"",IF(_xlfn.FORMULATEXT('PL'!B9)<>'_f_PL'!B9,"M",""),IF(OR(LEFT('_f_PL'!B9,1)="=",'_f_PL'!B9=""),"M",""))) | C9: =IF(ISBLANK('PL'!C9),IF(LEFT('_f_PL'!C9,1)="=","M",""),IF(IFERROR(_xlfn.FORMULATEXT('PL'!C9),"")<>"",IF(_xlfn.FORMULATEXT('PL'!C9)<>'_f_PL'!C9,"M",""),IF(OR(LEFT('_f_PL'!C9,1)="=",'_f_PL'!C9=""),"M",""))) | D9: =IF(ISBLANK('PL'!D9),IF(LEFT('_f_PL'!D9,1)="=","M",""),IF(IFERROR(_xlfn.FORMULATEXT('PL'!D9),"")<>"",IF(_xlfn.FORMULATEXT('PL'!D9)<>'_f_PL'!D9,"M",""),IF(OR(LEFT('_f_PL'!D9,1)="=",'_f_PL'!D9=""),"M",""))) | E9: =IF(ISBLANK('PL'!E9),IF(LEFT('_f_PL'!E9,1)="=","M",""),IF(IFERROR(_xlfn.FORMULATEXT('PL'!E9),"")<>"",IF(_xlfn.FORMULATEXT('PL'!E9)<>'_f_PL'!E9,"M",""),IF(OR(LEFT('_f_PL'!E9,1)="=",'_f_PL'!E9=""),"M",""))) | F9: =IF(ISBLANK('PL'!F9),IF(LEFT('_f_PL'!F9,1)="=","M",""),IF(IFERROR(_xlfn.FORMULATEXT('PL'!F9),"")<>"",IF(_xlfn.FORMULATEXT('PL'!F9)<>'_f_PL'!F9,"M",""),IF(OR(LEFT('_f_PL'!F9,1)="=",'_f_PL'!F9=""),"M",""))) | G9: =IF(ISBLANK('PL'!G9),IF(LEFT('_f_PL'!G9,1)="=","M",""),IF(IFERROR(_xlfn.FORMULATEXT('PL'!G9),"")<>"",IF(_xlfn.FORMULATEXT('PL'!G9)<>'_f_PL'!G9,"M",""),IF(OR(LEFT('_f_PL'!G9,1)="=",'_f_PL'!G9=""),"M",""))) | H9: =IF(ISBLANK('PL'!H9),IF(LEFT('_f_PL'!H9,1)="=","M",""),IF(IFERROR(_xlfn.FORMULATEXT('PL'!H9),"")<>"",IF(_xlfn.FORMULATEXT('PL'!H9)<>'_f_PL'!H9,"M",""),IF(OR(LEFT('_f_PL'!H9,1)="=",'_f_PL'!H9=""),"M",""))) | ... P9: =IF(ISBLANK('PL'!P9),IF(LEFT('_f_PL'!P9,1)="=","M",""),IF(IFERROR(_xlfn.FORMULATEXT('PL'!P9),"")<>"",IF(_xlfn.FORMULATEXT('PL'!P9)<>'_f_PL'!P9,"M",""),IF(OR(LEFT('_f_PL'!P9,1)="=",'_f_PL'!P9=""),"M","")))
A10: =IF(ISBLANK('PL'!A10),IF(LEFT('_f_PL'!A10,1)="=","M",""),IF(IFERROR(_xlfn.FORMULATEXT('PL'!A10),"")<>"",IF(_xlfn.FORMULATEXT('PL'!A10)<>'_f_PL'!A10,"M",""),IF(OR(LEFT('_f_PL'!A10,1)="=",'_f_PL'!A10=""),"M",""))) | B10: =IF(ISBLANK('PL'!B10),IF(LEFT('_f_PL'!B10,1)="=","M",""),IF(IFERROR(_xlfn.FORMULATEXT('PL'!B10),"")<>"",IF(_xlfn.FORMULATEXT('PL'!B10)<>'_f_PL'!B10,"M",""),IF(OR(LEFT('_f_PL'!B10,1)="=",'_f_PL'!B10=""),"M",""))) | C10: =IF(ISBLANK('PL'!C10),IF(LEFT('_f_PL'!C10,1)="=","M",""),IF(IFERROR(_xlfn.FORMULATEXT('PL'!C10),"")<>"",IF(_xlfn.FORMULATEXT('PL'!C10)<>'_f_PL'!C10,"M",""),IF(OR(LEFT('_f_PL'!C10,1)="=",'_f_PL'!C10=""),"M",""))) | D10: =IF(ISBLANK('PL'!D10),IF(LEFT('_f_PL'!D10,1)="=","M",""),IF(IFERROR(_xlfn.FORMULATEXT('PL'!D10),"")<>"",IF(_xlfn.FORMULATEXT('PL'!D10)<>'_f_PL'!D10,"M",""),IF(OR(LEFT('_f_PL'!D10,1)="=",'_f_PL'!D10=""),"M",""))) | E10: =IF(ISBLANK('PL'!E10),IF(LEFT('_f_PL'!E10,1)="=","M",""),IF(IFERROR(_xlfn.FORMULATEXT('PL'!E10),"")<>"",IF(_xlfn.FORMULATEXT('PL'!E10)<>'_f_PL'!E10,"M",""),IF(OR(LEFT('_f_PL'!E10,1)="=",'_f_PL'!E10=""),"M",""))) | F10: =IF(ISBLANK('PL'!F10),IF(LEFT('_f_PL'!F10,1)="=","M",""),IF(IFERROR(_xlfn.FORMULATEXT('PL'!F10),"")<>"",IF(_xlfn.FORMULATEXT('PL'!F10)<>'_f_PL'!F10,"M",""),IF(OR(LEFT('_f_PL'!F10,1)="=",'_f_PL'!F10=""),"M",""))) | G10: =IF(ISBLANK('PL'!G10),IF(LEFT('_f_PL'!G10,1)="=","M",""),IF(IFERROR(_xlfn.FORMULATEXT('PL'!G10),"")<>"",IF(_xlfn.FORMULATEXT('PL'!G10)<>'_f_PL'!G10,"M",""),IF(OR(LEFT('_f_PL'!G10,1)="=",'_f_PL'!G10=""),"M",""))) | H10: =IF(ISBLANK('PL'!H10),IF(LEFT('_f_PL'!H10,1)="=","M",""),IF(IFERROR(_xlfn.FORMULATEXT('PL'!H10),"")<>"",IF(_xlfn.FORMULATEXT('PL'!H10)<>'_f_PL'!H10,"M",""),IF(OR(LEFT('_f_PL'!H10,1)="=",'_f_PL'!H10=""),"M",""))) | ... P10: =IF(ISBLANK('PL'!P10),IF(LEFT('_f_PL'!P10,1)="=","M",""),IF(IFERROR(_xlfn.FORMULATEXT('PL'!P10),"")<>"",IF(_xlfn.FORMULATEXT('PL'!P10)<>'_f_PL'!P10,"M",""),IF(OR(LEFT('_f_PL'!P10,1)="=",'_f_PL'!P10=""),"M","")))
A11: =IF(ISBLANK('PL'!A11),IF(LEFT('_f_PL'!A11,1)="=","M",""),IF(IFERROR(_xlfn.FORMULATEXT('PL'!A11),"")<>"",IF(_xlfn.FORMULATEXT('PL'!A11)<>'_f_PL'!A11,"M",""),IF(OR(LEFT('_f_PL'!A11,1)="=",'_f_PL'!A11=""),"M",""))) | B11: =IF(ISBLANK('PL'!B11),IF(LEFT('_f_PL'!B11,1)="=","M",""),IF(IFERROR(_xlfn.FORMULATEXT('PL'!B11),"")<>"",IF(_xlfn.FORMULATEXT('PL'!B11)<>'_f_PL'!B11,"M",""),IF(OR(LEFT('_f_PL'!B11,1)="=",'_f_PL'!B11=""),"M",""))) | C11: =IF(ISBLANK('PL'!C11),IF(LEFT('_f_PL'!C11,1)="=","M",""),IF(IFERROR(_xlfn.FORMULATEXT('PL'!C11),"")<>"",IF(_xlfn.FORMULATEXT('PL'!C11)<>'_f_PL'!C11,"M",""),IF(OR(LEFT('_f_PL'!C11,1)="=",'_f_PL'!C11=""),"M",""))) | D11: =IF(ISBLANK('PL'!D11),IF(LEFT('_f_PL'!D11,1)="=","M",""),IF(IFERROR(_xlfn.FORMULATEXT('PL'!D11),"")<>"",IF(_xlfn.FORMULATEXT('PL'!D11)<>'_f_PL'!D11,"M",""),IF(OR(LEFT('_f_PL'!D11,1)="=",'_f_PL'!D11=""),"M",""))) | E11: =IF(ISBLANK('PL'!E11),IF(LEFT('_f_PL'!E11,1)="=","M",""),IF(IFERROR(_xlfn.FORMULATEXT('PL'!E11),"")<>"",IF(_xlfn.FORMULATEXT('PL'!E11)<>'_f_PL'!E11,"M",""),IF(OR(LEFT('_f_PL'!E11,1)="=",'_f_PL'!E11=""),"M",""))) | F11: =IF(ISBLANK('PL'!F11),IF(LEFT('_f_PL'!F11,1)="=","M",""),IF(IFERROR(_xlfn.FORMULATEXT('PL'!F11),"")<>"",IF(_xlfn.FORMULATEXT('PL'!F11)<>'_f_PL'!F11,"M",""),IF(OR(LEFT('_f_PL'!F11,1)="=",'_f_PL'!F11=""),"M",""))) | G11: =IF(ISBLANK('PL'!G11),IF(LEFT('_f_PL'!G11,1)="=","M",""),IF(IFERROR(_xlfn.FORMULATEXT('PL'!G11),"")<>"",IF(_xlfn.FORMULATEXT('PL'!G11)<>'_f_PL'!G11,"M",""),IF(OR(LEFT('_f_PL'!G11,1)="=",'_f_PL'!G11=""),"M",""))) | H11: =IF(ISBLANK('PL'!H11),IF(LEFT('_f_PL'!H11,1)="=","M",""),IF(IFERROR(_xlfn.FORMULATEXT('PL'!H11),"")<>"",IF(_xlfn.FORMULATEXT('PL'!H11)<>'_f_PL'!H11,"M",""),IF(OR(LEFT('_f_PL'!H11,1)="=",'_f_PL'!H11=""),"M",""))) | ... P11: =IF(ISBLANK('PL'!P11),IF(LEFT('_f_PL'!P11,1)="=","M",""),IF(IFERROR(_xlfn.FORMULATEXT('PL'!P11),"")<>"",IF(_xlfn.FORMULATEXT('PL'!P11)<>'_f_PL'!P11,"M",""),IF(OR(LEFT('_f_PL'!P11,1)="=",'_f_PL'!P11=""),"M","")))
A12: =IF(ISBLANK('PL'!A12),IF(LEFT('_f_PL'!A12,1)="=","M",""),IF(IFERROR(_xlfn.FORMULATEXT('PL'!A12),"")<>"",IF(_xlfn.FORMULATEXT('PL'!A12)<>'_f_PL'!A12,"M",""),IF(OR(LEFT('_f_PL'!A12,1)="=",'_f_PL'!A12=""),"M",""))) | B12: =IF(ISBLANK('PL'!B12),IF(LEFT('_f_PL'!B12,1)="=","M",""),IF(IFERROR(_xlfn.FORMULATEXT('PL'!B12),"")<>"",IF(_xlfn.FORMULATEXT('PL'!B12)<>'_f_PL'!B12,"M",""),IF(OR(LEFT('_f_PL'!B12,1)="=",'_f_PL'!B12=""),"M",""))) | C12: =IF(ISBLANK('PL'!C12),IF(LEFT('_f_PL'!C12,1)="=","M",""),IF(IFERROR(_xlfn.FORMULATEXT('PL'!C12),"")<>"",IF(_xlfn.FORMULATEXT('PL'!C12)<>'_f_PL'!C12,"M",""),IF(OR(LEFT('_f_PL'!C12,1)="=",'_f_PL'!C12=""),"M",""))) | D12: =IF(ISBLANK('PL'!D12),IF(LEFT('_f_PL'!D12,1)="=","M",""),IF(IFERROR(_xlfn.FORMULATEXT('PL'!D12),"")<>"",IF(_xlfn.FORMULATEXT('PL'!D12)<>'_f_PL'!D12,"M",""),IF(OR(LEFT('_f_PL'!D12,1)="=",'_f_PL'!D12=""),"M",""))) | E12: =IF(ISBLANK('PL'!E12),IF(LEFT('_f_PL'!E12,1)="=","M",""),IF(IFERROR(_xlfn.FORMULATEXT('PL'!E12),"")<>"",IF(_xlfn.FORMULATEXT('PL'!E12)<>'_f_PL'!E12,"M",""),IF(OR(LEFT('_f_PL'!E12,1)="=",'_f_PL'!E12=""),"M",""))) | F12: =IF(ISBLANK('PL'!F12),IF(LEFT('_f_PL'!F12,1)="=","M",""),IF(IFERROR(_xlfn.FORMULATEXT('PL'!F12),"")<>"",IF(_xlfn.FORMULATEXT('PL'!F12)<>'_f_PL'!F12,"M",""),IF(OR(LEFT('_f_PL'!F12,1)="=",'_f_PL'!F12=""),"M",""))) | G12: =IF(ISBLANK('PL'!G12),IF(LEFT('_f_PL'!G12,1)="=","M",""),IF(IFERROR(_xlfn.FORMULATEXT('PL'!G12),"")<>"",IF(_xlfn.FORMULATEXT('PL'!G12)<>'_f_PL'!G12,"M",""),IF(OR(LEFT('_f_PL'!G12,1)="=",'_f_PL'!G12=""),"M",""))) | H12: =IF(ISBLANK('PL'!H12),IF(LEFT('_f_PL'!H12,1)="=","M",""),IF(IFERROR(_xlfn.FORMULATEXT('PL'!H12),"")<>"",IF(_xlfn.FORMULATEXT('PL'!H12)<>'_f_PL'!H12,"M",""),IF(OR(LEFT('_f_PL'!H12,1)="=",'_f_PL'!H12=""),"M",""))) | ... P12: =IF(ISBLANK('PL'!P12),IF(LEFT('_f_PL'!P12,1)="=","M",""),IF(IFERROR(_xlfn.FORMULATEXT('PL'!P12),"")<>"",IF(_xlfn.FORMULATEXT('PL'!P12)<>'_f_PL'!P12,"M",""),IF(OR(LEFT('_f_PL'!P12,1)="=",'_f_PL'!P12=""),"M","")))
... A69: =IF(ISBLANK('PL'!A69),IF(LEFT('_f_PL'!A69,1)="=","M",""),IF(IFERROR(_xlfn.FORMULATEXT('PL'!A69),"")<>"",IF(_xlfn.FORMULATEXT('PL'!A69)<>'_f_PL'!A69,"M",""),IF(OR(LEFT('_f_PL'!A69,1)="=",'_f_PL'!A69=""),"M",""))) | B69: =IF(ISBLANK('PL'!B69),IF(LEFT('_f_PL'!B69,1)="=","M",""),IF(IFERROR(_xlfn.FORMULATEXT('PL'!B69),"")<>"",IF(_xlfn.FORMULATEXT('PL'!B69)<>'_f_PL'!B69,"M",""),IF(OR(LEFT('_f_PL'!B69,1)="=",'_f_PL'!B69=""),"M",""))) | C69: =IF(ISBLANK('PL'!C69),IF(LEFT('_f_PL'!C69,1)="=","M",""),IF(IFERROR(_xlfn.FORMULATEXT('PL'!C69),"")<>"",IF(_xlfn.FORMULATEXT('PL'!C69)<>'_f_PL'!C69,"M",""),IF(OR(LEFT('_f_PL'!C69,1)="=",'_f_PL'!C69=""),"M",""))) | D69: =IF(ISBLANK('PL'!D69),IF(LEFT('_f_PL'!D69,1)="=","M",""),IF(IFERROR(_xlfn.FORMULATEXT('PL'!D69),"")<>"",IF(_xlfn.FORMULATEXT('PL'!D69)<>'_f_PL'!D69,"M",""),IF(OR(LEFT('_f_PL'!D69,1)="=",'_f_PL'!D69=""),"M",""))) | E69: =IF(ISBLANK('PL'!E69),IF(LEFT('_f_PL'!E69,1)="=","M",""),IF(IFERROR(_xlfn.FORMULATEXT('PL'!E69),"")<>"",IF(_xlfn.FORMULATEXT('PL'!E69)<>'_f_PL'!E69,"M",""),IF(OR(LEFT('_f_PL'!E69,1)="=",'_f_PL'!E69=""),"M",""))) | F69: =IF(ISBLANK('PL'!F69),IF(LEFT('_f_PL'!F69,1)="=","M",""),IF(IFERROR(_xlfn.FORMULATEXT('PL'!F69),"")<>"",IF(_xlfn.FORMULATEXT('PL'!F69)<>'_f_PL'!F69,"M",""),IF(OR(LEFT('_f_PL'!F69,1)="=",'_f_PL'!F69=""),"M",""))) | G69: =IF(ISBLANK('PL'!G69),IF(LEFT('_f_PL'!G69,1)="=","M",""),IF(IFERROR(_xlfn.FORMULATEXT('PL'!G69),"")<>"",IF(_xlfn.FORMULATEXT('PL'!G69)<>'_f_PL'!G69,"M",""),IF(OR(LEFT('_f_PL'!G69,1)="=",'_f_PL'!G69=""),"M",""))) | H69: =IF(ISBLANK('PL'!H69),IF(LEFT('_f_PL'!H69,1)="=","M",""),IF(IFERROR(_xlfn.FORMULATEXT('PL'!H69),"")<>"",IF(_xlfn.FORMULATEXT('PL'!H69)<>'_f_PL'!H69,"M",""),IF(OR(LEFT('_f_PL'!H69,1)="=",'_f_PL'!H69=""),"M",""))) | ... P69: =IF(ISBLANK('PL'!P69),IF(LEFT('_f_PL'!P69,1)="=","M",""),IF(IFERROR(_xlfn.FORMULATEXT('PL'!P69),"")<>"",IF(_xlfn.FORMULATEXT('PL'!P69)<>'_f_PL'!P69,"M",""),IF(OR(LEFT('_f_PL'!P69,1)="=",'_f_PL'!P69=""),"M","")))

Sheet _f_CE
A1: •
A2: •
A4: • | B4: • | C4: • | D4: • | E4: • | G4: • | H4: •
A5: • | B5: • | C5: • | D5: • | E5: • | G5: =E5=SUM(B5:D5) | H5: =IF(E5=SUM(B5:D5),"",(E5)-(SUM(B5:D5)))
A6: • | B6: • | C6: • | D6: • | E6: • | G6: =E6=SUM(B6:D6) | H6: =IF(E6=SUM(B6:D6),"",(E6)-(SUM(B6:D6)))
A7: • | B7: • | C7: • | D7: • | E7: • | G7: =E7=SUM(B7:D7) | H7: =IF(E7=SUM(B7:D7),"",(E7)-(SUM(B7:D7)))
A8: • | B8: • | C8: • | D8: • | E8: • | G8: =E8=SUM(B8:D8) | H8: =IF(E8=SUM(B8:D8),"",(E8)-(SUM(B8:D8)))
A9: • | B9: • | C9: • | D9: • | E9: • | G9: =E9=SUM(B9:D9) | H9: =IF(E9=SUM(B9:D9),"",(E9)-(SUM(B9:D9)))
A10: • | B10: • | C10: • | D10: • | E10: • | G10: =E10=SUM(B10:D10) | H10: =IF(E10=SUM(B10:D10),"",(E10)-(SUM(B10:D10)))
A11: • | B11: • | C11: • | D11: • | E11: • | G11: =E11=SUM(B11:D11) | H11: =IF(E11=SUM(B11:D11),"",(E11)-(SUM(B11:D11)))
A12: • | B12: • | C12: • | D12: • | E12: • | G12: =E12=SUM(B12:D12) | H12: =IF(E12=SUM(B12:D12),"",(E12)-(SUM(B12:D12)))
A14: • | B14: =B7=B5+SUM(B6:B6) | C14: =C7=C5+SUM(C6:C6) | D14: =D7=D5+SUM(D6:D6) | E14: =E7=E5+SUM(E6:E6)
A15: • | B15: =IF(B7=B5+SUM(B6:B6),"",(B7)-(B5+SUM(B6:B6))) | C15: =IF(C7=C5+SUM(C6:C6),"",(C7)-(C5+SUM(C6:C6))) | D15: =IF(D7=D5+SUM(D6:D6),"",(D7)-(D5+SUM(D6:D6))) | E15: =IF(E7=E5+SUM(E6:E6),"",(E7)-(E5+SUM(E6:E6)))
A16: • | B16: =B12=B8+SUM(B9:B11) | C16: =C12=C8+SUM(C9:C11) | D16: =D12=D8+SUM(D9:D11) | E16: =E12=E8+SUM(E9:E11)
A17: • | B17: =IF(B12=B8+SUM(B9:B11),"",(B12)-(B8+SUM(B9:B11))) | C17: =IF(C12=C8+SUM(C9:C11),"",(C12)-(C8+SUM(C9:C11))) | D17: =IF(D12=D8+SUM(D9:D11),"",(D12)-(D8+SUM(D9:D11))) | E17: =IF(E12=E8+SUM(E9:E11),"",(E12)-(E8+SUM(E9:E11)))

Sheet _c_CE
A1: =IF(ISBLANK('CE'!A1),IF(LEFT('_f_CE'!A1,1)="=","M",""),IF(IFERROR(_xlfn.FORMULATEXT('CE'!A1),"")<>"",IF(_xlfn.FORMULATEXT('CE'!A1)<>'_f_CE'!A1,"M",""),IF(OR(LEFT('_f_CE'!A1,1)="=",'_f_CE'!A1=""),"M",""))) | B1: =IF(ISBLANK('CE'!B1),IF(LEFT('_f_CE'!B1,1)="=","M",""),IF(IFERROR(_xlfn.FORMULATEXT('CE'!B1),"")<>"",IF(_xlfn.FORMULATEXT('CE'!B1)<>'_f_CE'!B1,"M",""),IF(OR(LEFT('_f_CE'!B1,1)="=",'_f_CE'!B1=""),"M",""))) | C1: =IF(ISBLANK('CE'!C1),IF(LEFT('_f_CE'!C1,1)="=","M",""),IF(IFERROR(_xlfn.FORMULATEXT('CE'!C1),"")<>"",IF(_xlfn.FORMULATEXT('CE'!C1)<>'_f_CE'!C1,"M",""),IF(OR(LEFT('_f_CE'!C1,1)="=",'_f_CE'!C1=""),"M",""))) | D1: =IF(ISBLANK('CE'!D1),IF(LEFT('_f_CE'!D1,1)="=","M",""),IF(IFERROR(_xlfn.FORMULATEXT('CE'!D1),"")<>"",IF(_xlfn.FORMULATEXT('CE'!D1)<>'_f_CE'!D1,"M",""),IF(OR(LEFT('_f_CE'!D1,1)="=",'_f_CE'!D1=""),"M",""))) | E1: =IF(ISBLANK('CE'!E1),IF(LEFT('_f_CE'!E1,1)="=","M",""),IF(IFERROR(_xlfn.FORMULATEXT('CE'!E1),"")<>"",IF(_xlfn.FORMULATEXT('CE'!E1)<>'_f_CE'!E1,"M",""),IF(OR(LEFT('_f_CE'!E1,1)="=",'_f_CE'!E1=""),"M",""))) | F1: =IF(ISBLANK('CE'!F1),IF(LEFT('_f_CE'!F1,1)="=","M",""),IF(IFERROR(_xlfn.FORMULATEXT('CE'!F1),"")<>"",IF(_xlfn.FORMULATEXT('CE'!F1)<>'_f_CE'!F1,"M",""),IF(OR(LEFT('_f_CE'!F1,1)="=",'_f_CE'!F1=""),"M",""))) | G1: =IF(ISBLANK('CE'!G1),IF(LEFT('_f_CE'!G1,1)="=","M",""),IF(IFERROR(_xlfn.FORMULATEXT('CE'!G1),"")<>"",IF(_xlfn.FORMULATEXT('CE'!G1)<>'_f_CE'!G1,"M",""),IF(OR(LEFT('_f_CE'!G1,1)="=",'_f_CE'!G1=""),"M",""))) | H1: =IF(ISBLANK('CE'!H1),IF(LEFT('_f_CE'!H1,1)="=","M",""),IF(IFERROR(_xlfn.FORMULATEXT('CE'!H1),"")<>"",IF(_xlfn.FORMULATEXT('CE'!H1)<>'_f_CE'!H1,"M",""),IF(OR(LEFT('_f_CE'!H1,1)="=",'_f_CE'!H1=""),"M",""))) | ... P1: =IF(ISBLANK('CE'!P1),IF(LEFT('_f_CE'!P1,1)="=","M",""),IF(IFERROR(_xlfn.FORMULATEXT('CE'!P1),"")<>"",IF(_xlfn.FORMULATEXT('CE'!P1)<>'_f_CE'!P1,"M",""),IF(OR(LEFT('_f_CE'!P1,1)="=",'_f_CE'!P1=""),"M","")))
A2: =IF(ISBLANK('CE'!A2),IF(LEFT('_f_CE'!A2,1)="=","M",""),IF(IFERROR(_xlfn.FORMULATEXT('CE'!A2),"")<>"",IF(_xlfn.FORMULATEXT('CE'!A2)<>'_f_CE'!A2,"M",""),IF(OR(LEFT('_f_CE'!A2,1)="=",'_f_CE'!A2=""),"M",""))) | B2: =IF(ISBLANK('CE'!B2),IF(LEFT('_f_CE'!B2,1)="=","M",""),IF(IFERROR(_xlfn.FORMULATEXT('CE'!B2),"")<>"",IF(_xlfn.FORMULATEXT('CE'!B2)<>'_f_CE'!B2,"M",""),IF(OR(LEFT('_f_CE'!B2,1)="=",'_f_CE'!B2=""),"M",""))) | C2: =IF(ISBLANK('CE'!C2),IF(LEFT('_f_CE'!C2,1)="=","M",""),IF(IFERROR(_xlfn.FORMULATEXT('CE'!C2),"")<>"",IF(_xlfn.FORMULATEXT('CE'!C2)<>'_f_CE'!C2,"M",""),IF(OR(LEFT('_f_CE'!C2,1)="=",'_f_CE'!C2=""),"M",""))) | D2: =IF(ISBLANK('CE'!D2),IF(LEFT('_f_CE'!D2,1)="=","M",""),IF(IFERROR(_xlfn.FORMULATEXT('CE'!D2),"")<>"",IF(_xlfn.FORMULATEXT('CE'!D2)<>'_f_CE'!D2,"M",""),IF(OR(LEFT('_f_CE'!D2,1)="=",'_f_CE'!D2=""),"M",""))) | E2: =IF(ISBLANK('CE'!E2),IF(LEFT('_f_CE'!E2,1)="=","M",""),IF(IFERROR(_xlfn.FORMULATEXT('CE'!E2),"")<>"",IF(_xlfn.FORMULATEXT('CE'!E2)<>'_f_CE'!E2,"M",""),IF(OR(LEFT('_f_CE'!E2,1)="=",'_f_CE'!E2=""),"M",""))) | F2: =IF(ISBLANK('CE'!F2),IF(LEFT('_f_CE'!F2,1)="=","M",""),IF(IFERROR(_xlfn.FORMULATEXT('CE'!F2),"")<>"",IF(_xlfn.FORMULATEXT('CE'!F2)<>'_f_CE'!F2,"M",""),IF(OR(LEFT('_f_CE'!F2,1)="=",'_f_CE'!F2=""),"M",""))) | G2: =IF(ISBLANK('CE'!G2),IF(LEFT('_f_CE'!G2,1)="=","M",""),IF(IFERROR(_xlfn.FORMULATEXT('CE'!G2),"")<>"",IF(_xlfn.FORMULATEXT('CE'!G2)<>'_f_CE'!G2,"M",""),IF(OR(LEFT('_f_CE'!G2,1)="=",'_f_CE'!G2=""),"M",""))) | H2: =IF(ISBLANK('CE'!H2),IF(LEFT('_f_CE'!H2,1)="=","M",""),IF(IFERROR(_xlfn.FORMULATEXT('CE'!H2),"")<>"",IF(_xlfn.FORMULATEXT('CE'!H2)<>'_f_CE'!H2,"M",""),IF(OR(LEFT('_f_CE'!H2,1)="=",'_f_CE'!H2=""),"M",""))) | ... P2: =IF(ISBLANK('CE'!P2),IF(LEFT('_f_CE'!P2,1)="=","M",""),IF(IFERROR(_xlfn.FORMULATEXT('CE'!P2),"")<>"",IF(_xlfn.FORMULATEXT('CE'!P2)<>'_f_CE'!P2,"M",""),IF(OR(LEFT('_f_CE'!P2,1)="=",'_f_CE'!P2=""),"M","")))
A3: =IF(ISBLANK('CE'!A3),IF(LEFT('_f_CE'!A3,1)="=","M",""),IF(IFERROR(_xlfn.FORMULATEXT('CE'!A3),"")<>"",IF(_xlfn.FORMULATEXT('CE'!A3)<>'_f_CE'!A3,"M",""),IF(OR(LEFT('_f_CE'!A3,1)="=",'_f_CE'!A3=""),"M",""))) | B3: =IF(ISBLANK('CE'!B3),IF(LEFT('_f_CE'!B3,1)="=","M",""),IF(IFERROR(_xlfn.FORMULATEXT('CE'!B3),"")<>"",IF(_xlfn.FORMULATEXT('CE'!B3)<>'_f_CE'!B3,"M",""),IF(OR(LEFT('_f_CE'!B3,1)="=",'_f_CE'!B3=""),"M",""))) | C3: =IF(ISBLANK('CE'!C3),IF(LEFT('_f_CE'!C3,1)="=","M",""),IF(IFERROR(_xlfn.FORMULATEXT('CE'!C3),"")<>"",IF(_xlfn.FORMULATEXT('CE'!C3)<>'_f_CE'!C3,"M",""),IF(OR(LEFT('_f_CE'!C3,1)="=",'_f_CE'!C3=""),"M",""))) | D3: =IF(ISBLANK('CE'!D3),IF(LEFT('_f_CE'!D3,1)="=","M",""),IF(IFERROR(_xlfn.FORMULATEXT('CE'!D3),"")<>"",IF(_xlfn.FORMULATEXT('CE'!D3)<>'_f_CE'!D3,"M",""),IF(OR(LEFT('_f_CE'!D3,1)="=",'_f_CE'!D3=""),"M",""))) | E3: =IF(ISBLANK('CE'!E3),IF(LEFT('_f_CE'!E3,1)="=","M",""),IF(IFERROR(_xlfn.FORMULATEXT('CE'!E3),"")<>"",IF(_xlfn.FORMULATEXT('CE'!E3)<>'_f_CE'!E3,"M",""),IF(OR(LEFT('_f_CE'!E3,1)="=",'_f_CE'!E3=""),"M",""))) | F3: =IF(ISBLANK('CE'!F3),IF(LEFT('_f_CE'!F3,1)="=","M",""),IF(IFERROR(_xlfn.FORMULATEXT('CE'!F3),"")<>"",IF(_xlfn.FORMULATEXT('CE'!F3)<>'_f_CE'!F3,"M",""),IF(OR(LEFT('_f_CE'!F3,1)="=",'_f_CE'!F3=""),"M",""))) | G3: =IF(ISBLANK('CE'!G3),IF(LEFT('_f_CE'!G3,1)="=","M",""),IF(IFERROR(_xlfn.FORMULATEXT('CE'!G3),"")<>"",IF(_xlfn.FORMULATEXT('CE'!G3)<>'_f_CE'!G3,"M",""),IF(OR(LEFT('_f_CE'!G3,1)="=",'_f_CE'!G3=""),"M",""))) | H3: =IF(ISBLANK('CE'!H3),IF(LEFT('_f_CE'!H3,1)="=","M",""),IF(IFERROR(_xlfn.FORMULATEXT('CE'!H3),"")<>"",IF(_xlfn.FORMULATEXT('CE'!H3)<>'_f_CE'!H3,"M",""),IF(OR(LEFT('_f_CE'!H3,1)="=",'_f_CE'!H3=""),"M",""))) | ... P3: =IF(ISBLANK('CE'!P3),IF(LEFT('_f_CE'!P3,1)="=","M",""),IF(IFERROR(_xlfn.FORMULATEXT('CE'!P3),"")<>"",IF(_xlfn.FORMULATEXT('CE'!P3)<>'_f_CE'!P3,"M",""),IF(OR(LEFT('_f_CE'!P3,1)="=",'_f_CE'!P3=""),"M","")))
A4: =IF(ISBLANK('CE'!A4),IF(LEFT('_f_CE'!A4,1)="=","M",""),IF(IFERROR(_xlfn.FORMULATEXT('CE'!A4),"")<>"",IF(_xlfn.FORMULATEXT('CE'!A4)<>'_f_CE'!A4,"M",""),IF(OR(LEFT('_f_CE'!A4,1)="=",'_f_CE'!A4=""),"M",""))) | B4: =IF(ISBLANK('CE'!B4),IF(LEFT('_f_CE'!B4,1)="=","M",""),IF(IFERROR(_xlfn.FORMULATEXT('CE'!B4),"")<>"",IF(_xlfn.FORMULATEXT('CE'!B4)<>'_f_CE'!B4,"M",""),IF(OR(LEFT('_f_CE'!B4,1)="=",'_f_CE'!B4=""),"M",""))) | C4: =IF(ISBLANK('CE'!C4),IF(LEFT('_f_CE'!C4,1)="=","M",""),IF(IFERROR(_xlfn.FORMULATEXT('CE'!C4),"")<>"",IF(_xlfn.FORMULATEXT('CE'!C4)<>'_f_CE'!C4,"M",""),IF(OR(LEFT('_f_CE'!C4,1)="=",'_f_CE'!C4=""),"M",""))) | D4: =IF(ISBLANK('CE'!D4),IF(LEFT('_f_CE'!D4,1)="=","M",""),IF(IFERROR(_xlfn.FORMULATEXT('CE'!D4),"")<>"",IF(_xlfn.FORMULATEXT('CE'!D4)<>'_f_CE'!D4,"M",""),IF(OR(LEFT('_f_CE'!D4,1)="=",'_f_CE'!D4=""),"M",""))) | E4: =IF(ISBLANK('CE'!E4),IF(LEFT('_f_CE'!E4,1)="=","M",""),IF(IFERROR(_xlfn.FORMULATEXT('CE'!E4),"")<>"",IF(_xlfn.FORMULATEXT('CE'!E4)<>'_f_CE'!E4,"M",""),IF(OR(LEFT('_f_CE'!E4,1)="=",'_f_CE'!E4=""),"M",""))) | F4: =IF(ISBLANK('CE'!F4),IF(LEFT('_f_CE'!F4,1)="=","M",""),IF(IFERROR(_xlfn.FORMULATEXT('CE'!F4),"")<>"",IF(_xlfn.FORMULATEXT('CE'!F4)<>'_f_CE'!F4,"M",""),IF(OR(LEFT('_f_CE'!F4,1)="=",'_f_CE'!F4=""),"M",""))) | G4: =IF(ISBLANK('CE'!G4),IF(LEFT('_f_CE'!G4,1)="=","M",""),IF(IFERROR(_xlfn.FORMULATEXT('CE'!G4),"")<>"",IF(_xlfn.FORMULATEXT('CE'!G4)<>'_f_CE'!G4,"M",""),IF(OR(LEFT('_f_CE'!G4,1)="=",'_f_CE'!G4=""),"M",""))) | H4: =IF(ISBLANK('CE'!H4),IF(LEFT('_f_CE'!H4,1)="=","M",""),IF(IFERROR(_xlfn.FORMULATEXT('CE'!H4),"")<>"",IF(_xlfn.FORMULATEXT('CE'!H4)<>'_f_CE'!H4,"M",""),IF(OR(LEFT('_f_CE'!H4,1)="=",'_f_CE'!H4=""),"M",""))) | ... P4: =IF(ISBLANK('CE'!P4),IF(LEFT('_f_CE'!P4,1)="=","M",""),IF(IFERROR(_xlfn.FORMULATEXT('CE'!P4),"")<>"",IF(_xlfn.FORMULATEXT('CE'!P4)<>'_f_CE'!P4,"M",""),IF(OR(LEFT('_f_CE'!P4,1)="=",'_f_CE'!P4=""),"M","")))
A5: =IF(ISBLANK('CE'!A5),IF(LEFT('_f_CE'!A5,1)="=","M",""),IF(IFERROR(_xlfn.FORMULATEXT('CE'!A5),"")<>"",IF(_xlfn.FORMULATEXT('CE'!A5)<>'_f_CE'!A5,"M",""),IF(OR(LEFT('_f_CE'!A5,1)="=",'_f_CE'!A5=""),"M",""))) | B5: =IF(ISBLANK('CE'!B5),IF(LEFT('_f_CE'!B5,1)="=","M",""),IF(IFERROR(_xlfn.FORMULATEXT('CE'!B5),"")<>"",IF(_xlfn.FORMULATEXT('CE'!B5)<>'_f_CE'!B5,"M",""),IF(OR(LEFT('_f_CE'!B5,1)="=",'_f_CE'!B5=""),"M",""))) | C5: =IF(ISBLANK('CE'!C5),IF(LEFT('_f_CE'!C5,1)="=","M",""),IF(IFERROR(_xlfn.FORMULATEXT('CE'!C5),"")<>"",IF(_xlfn.FORMULATEXT('CE'!C5)<>'_f_CE'!C5,"M",""),IF(OR(LEFT('_f_CE'!C5,1)="=",'_f_CE'!C5=""),"M",""))) | D5: =IF(ISBLANK('CE'!D5),IF(LEFT('_f_CE'!D5,1)="=","M",""),IF(IFERROR(_xlfn.FORMULATEXT('CE'!D5),"")<>"",IF(_xlfn.FORMULATEXT('CE'!D5)<>'_f_CE'!D5,"M",""),IF(OR(LEFT('_f_CE'!D5,1)="=",'_f_CE'!D5=""),"M",""))) | E5: =IF(ISBLANK('CE'!E5),IF(LEFT('_f_CE'!E5,1)="=","M",""),IF(IFERROR(_xlfn.FORMULATEXT('CE'!E5),"")<>"",IF(_xlfn.FORMULATEXT('CE'!E5)<>'_f_CE'!E5,"M",""),IF(OR(LEFT('_f_CE'!E5,1)="=",'_f_CE'!E5=""),"M",""))) | F5: =IF(ISBLANK('CE'!F5),IF(LEFT('_f_CE'!F5,1)="=","M",""),IF(IFERROR(_xlfn.FORMULATEXT('CE'!F5),"")<>"",IF(_xlfn.FORMULATEXT('CE'!F5)<>'_f_CE'!F5,"M",""),IF(OR(LEFT('_f_CE'!F5,1)="=",'_f_CE'!F5=""),"M",""))) | G5: =IF(ISBLANK('CE'!G5),IF(LEFT('_f_CE'!G5,1)="=","M",""),IF(IFERROR(_xlfn.FORMULATEXT('CE'!G5),"")<>"",IF(_xlfn.FORMULATEXT('CE'!G5)<>'_f_CE'!G5,"M",""),IF(OR(LEFT('_f_CE'!G5,1)="=",'_f_CE'!G5=""),"M",""))) | H5: =IF(ISBLANK('CE'!H5),IF(LEFT('_f_CE'!H5,1)="=","M",""),IF(IFERROR(_xlfn.FORMULATEXT('CE'!H5),"")<>"",IF(_xlfn.FORMULATEXT('CE'!H5)<>'_f_CE'!H5,"M",""),IF(OR(LEFT('_f_CE'!H5,1)="=",'_f_CE'!H5=""),"M",""))) | ... P5: =IF(ISBLANK('CE'!P5),IF(LEFT('_f_CE'!P5,1)="=","M",""),IF(IFERROR(_xlfn.FORMULATEXT('CE'!P5),"")<>"",IF(_xlfn.FORMULATEXT('CE'!P5)<>'_f_CE'!P5,"M",""),IF(OR(LEFT('_f_CE'!P5,1)="=",'_f_CE'!P5=""),"M","")))
A6: =IF(ISBLANK('CE'!A6),IF(LEFT('_f_CE'!A6,1)="=","M",""),IF(IFERROR(_xlfn.FORMULATEXT('CE'!A6),"")<>"",IF(_xlfn.FORMULATEXT('CE'!A6)<>'_f_CE'!A6,"M",""),IF(OR(LEFT('_f_CE'!A6,1)="=",'_f_CE'!A6=""),"M",""))) | B6: =IF(ISBLANK('CE'!B6),IF(LEFT('_f_CE'!B6,1)="=","M",""),IF(IFERROR(_xlfn.FORMULATEXT('CE'!B6),"")<>"",IF(_xlfn.FORMULATEXT('CE'!B6)<>'_f_CE'!B6,"M",""),IF(OR(LEFT('_f_CE'!B6,1)="=",'_f_CE'!B6=""),"M",""))) | C6: =IF(ISBLANK('CE'!C6),IF(LEFT('_f_CE'!C6,1)="=","M",""),IF(IFERROR(_xlfn.FORMULATEXT('CE'!C6),"")<>"",IF(_xlfn.FORMULATEXT('CE'!C6)<>'_f_CE'!C6,"M",""),IF(OR(LEFT('_f_CE'!C6,1)="=",'_f_CE'!C6=""),"M",""))) | D6: =IF(ISBLANK('CE'!D6),IF(LEFT('_f_CE'!D6,1)="=","M",""),IF(IFERROR(_xlfn.FORMULATEXT('CE'!D6),"")<>"",IF(_xlfn.FORMULATEXT('CE'!D6)<>'_f_CE'!D6,"M",""),IF(OR(LEFT('_f_CE'!D6,1)="=",'_f_CE'!D6=""),"M",""))) | E6: =IF(ISBLANK('CE'!E6),IF(LEFT('_f_CE'!E6,1)="=","M",""),IF(IFERROR(_xlfn.FORMULATEXT('CE'!E6),"")<>"",IF(_xlfn.FORMULATEXT('CE'!E6)<>'_f_CE'!E6,"M",""),IF(OR(LEFT('_f_CE'!E6,1)="=",'_f_CE'!E6=""),"M",""))) | F6: =IF(ISBLANK('CE'!F6),IF(LEFT('_f_CE'!F6,1)="=","M",""),IF(IFERROR(_xlfn.FORMULATEXT('CE'!F6),"")<>"",IF(_xlfn.FORMULATEXT('CE'!F6)<>'_f_CE'!F6,"M",""),IF(OR(LEFT('_f_CE'!F6,1)="=",'_f_CE'!F6=""),"M",""))) | G6: =IF(ISBLANK('CE'!G6),IF(LEFT('_f_CE'!G6,1)="=","M",""),IF(IFERROR(_xlfn.FORMULATEXT('CE'!G6),"")<>"",IF(_xlfn.FORMULATEXT('CE'!G6)<>'_f_CE'!G6,"M",""),IF(OR(LEFT('_f_CE'!G6,1)="=",'_f_CE'!G6=""),"M",""))) | H6: =IF(ISBLANK('CE'!H6),IF(LEFT('_f_CE'!H6,1)="=","M",""),IF(IFERROR(_xlfn.FORMULATEXT('CE'!H6),"")<>"",IF(_xlfn.FORMULATEXT('CE'!H6)<>'_f_CE'!H6,"M",""),IF(OR(LEFT('_f_CE'!H6,1)="=",'_f_CE'!H6=""),"M",""))) | ... P6: =IF(ISBLANK('CE'!P6),IF(LEFT('_f_CE'!P6,1)="=","M",""),IF(IFERROR(_xlfn.FORMULATEXT('CE'!P6),"")<>"",IF(_xlfn.FORMULATEXT('CE'!P6)<>'_f_CE'!P6,"M",""),IF(OR(LEFT('_f_CE'!P6,1)="=",'_f_CE'!P6=""),"M","")))
A7: =IF(ISBLANK('CE'!A7),IF(LEFT('_f_CE'!A7,1)="=","M",""),IF(IFERROR(_xlfn.FORMULATEXT('CE'!A7),"")<>"",IF(_xlfn.FORMULATEXT('CE'!A7)<>'_f_CE'!A7,"M",""),IF(OR(LEFT('_f_CE'!A7,1)="=",'_f_CE'!A7=""),"M",""))) | B7: =IF(ISBLANK('CE'!B7),IF(LEFT('_f_CE'!B7,1)="=","M",""),IF(IFERROR(_xlfn.FORMULATEXT('CE'!B7),"")<>"",IF(_xlfn.FORMULATEXT('CE'!B7)<>'_f_CE'!B7,"M",""),IF(OR(LEFT('_f_CE'!B7,1)="=",'_f_CE'!B7=""),"M",""))) | C7: =IF(ISBLANK('CE'!C7),IF(LEFT('_f_CE'!C7,1)="=","M",""),IF(IFERROR(_xlfn.FORMULATEXT('CE'!C7),"")<>"",IF(_xlfn.FORMULATEXT('CE'!C7)<>'_f_CE'!C7,"M",""),IF(OR(LEFT('_f_CE'!C7,1)="=",'_f_CE'!C7=""),"M",""))) | D7: =IF(ISBLANK('CE'!D7),IF(LEFT('_f_CE'!D7,1)="=","M",""),IF(IFERROR(_xlfn.FORMULATEXT('CE'!D7),"")<>"",IF(_xlfn.FORMULATEXT('CE'!D7)<>'_f_CE'!D7,"M",""),IF(OR(LEFT('_f_CE'!D7,1)="=",'_f_CE'!D7=""),"M",""))) | E7: =IF(ISBLANK('CE'!E7),IF(LEFT('_f_CE'!E7,1)="=","M",""),IF(IFERROR(_xlfn.FORMULATEXT('CE'!E7),"")<>"",IF(_xlfn.FORMULATEXT('CE'!E7)<>'_f_CE'!E7,"M",""),IF(OR(LEFT('_f_CE'!E7,1)="=",'_f_CE'!E7=""),"M",""))) | F7: =IF(ISBLANK('CE'!F7),IF(LEFT('_f_CE'!F7,1)="=","M",""),IF(IFERROR(_xlfn.FORMULATEXT('CE'!F7),"")<>"",IF(_xlfn.FORMULATEXT('CE'!F7)<>'_f_CE'!F7,"M",""),IF(OR(LEFT('_f_CE'!F7,1)="=",'_f_CE'!F7=""),"M",""))) | G7: =IF(ISBLANK('CE'!G7),IF(LEFT('_f_CE'!G7,1)="=","M",""),IF(IFERROR(_xlfn.FORMULATEXT('CE'!G7),"")<>"",IF(_xlfn.FORMULATEXT('CE'!G7)<>'_f_CE'!G7,"M",""),IF(OR(LEFT('_f_CE'!G7,1)="=",'_f_CE'!G7=""),"M",""))) | H7: =IF(ISBLANK('CE'!H7),IF(LEFT('_f_CE'!H7,1)="=","M",""),IF(IFERROR(_xlfn.FORMULATEXT('CE'!H7),"")<>"",IF(_xlfn.FORMULATEXT('CE'!H7)<>'_f_CE'!H7,"M",""),IF(OR(LEFT('_f_CE'!H7,1)="=",'_f_CE'!H7=""),"M",""))) | ... P7: =IF(ISBLANK('CE'!P7),IF(LEFT('_f_CE'!P7,1)="=","M",""),IF(IFERROR(_xlfn.FORMULATEXT('CE'!P7),"")<>"",IF(_xlfn.FORMULATEXT('CE'!P7)<>'_f_CE'!P7,"M",""),IF(OR(LEFT('_f_CE'!P7,1)="=",'_f_CE'!P7=""),"M","")))
A8: =IF(ISBLANK('CE'!A8),IF(LEFT('_f_CE'!A8,1)="=","M",""),IF(IFERROR(_xlfn.FORMULATEXT('CE'!A8),"")<>"",IF(_xlfn.FORMULATEXT('CE'!A8)<>'_f_CE'!A8,"M",""),IF(OR(LEFT('_f_CE'!A8,1)="=",'_f_CE'!A8=""),"M",""))) | B8: =IF(ISBLANK('CE'!B8),IF(LEFT('_f_CE'!B8,1)="=","M",""),IF(IFERROR(_xlfn.FORMULATEXT('CE'!B8),"")<>"",IF(_xlfn.FORMULATEXT('CE'!B8)<>'_f_CE'!B8,"M",""),IF(OR(LEFT('_f_CE'!B8,1)="=",'_f_CE'!B8=""),"M",""))) | C8: =IF(ISBLANK('CE'!C8),IF(LEFT('_f_CE'!C8,1)="=","M",""),IF(IFERROR(_xlfn.FORMULATEXT('CE'!C8),"")<>"",IF(_xlfn.FORMULATEXT('CE'!C8)<>'_f_CE'!C8,"M",""),IF(OR(LEFT('_f_CE'!C8,1)="=",'_f_CE'!C8=""),"M",""))) | D8: =IF(ISBLANK('CE'!D8),IF(LEFT('_f_CE'!D8,1)="=","M",""),IF(IFERROR(_xlfn.FORMULATEXT('CE'!D8),"")<>"",IF(_xlfn.FORMULATEXT('CE'!D8)<>'_f_CE'!D8,"M",""),IF(OR(LEFT('_f_CE'!D8,1)="=",'_f_CE'!D8=""),"M",""))) | E8: =IF(ISBLANK('CE'!E8),IF(LEFT('_f_CE'!E8,1)="=","M",""),IF(IFERROR(_xlfn.FORMULATEXT('CE'!E8),"")<>"",IF(_xlfn.FORMULATEXT('CE'!E8)<>'_f_CE'!E8,"M",""),IF(OR(LEFT('_f_CE'!E8,1)="=",'_f_CE'!E8=""),"M",""))) | F8: =IF(ISBLANK('CE'!F8),IF(LEFT('_f_CE'!F8,1)="=","M",""),IF(IFERROR(_xlfn.FORMULATEXT('CE'!F8),"")<>"",IF(_xlfn.FORMULATEXT('CE'!F8)<>'_f_CE'!F8,"M",""),IF(OR(LEFT('_f_CE'!F8,1)="=",'_f_CE'!F8=""),"M",""))) | G8: =IF(ISBLANK('CE'!G8),IF(LEFT('_f_CE'!G8,1)="=","M",""),IF(IFERROR(_xlfn.FORMULATEXT('CE'!G8),"")<>"",IF(_xlfn.FORMULATEXT('CE'!G8)<>'_f_CE'!G8,"M",""),IF(OR(LEFT('_f_CE'!G8,1)="=",'_f_CE'!G8=""),"M",""))) | H8: =IF(ISBLANK('CE'!H8),IF(LEFT('_f_CE'!H8,1)="=","M",""),IF(IFERROR(_xlfn.FORMULATEXT('CE'!H8),"")<>"",IF(_xlfn.FORMULATEXT('CE'!H8)<>'_f_CE'!H8,"M",""),IF(OR(LEFT('_f_CE'!H8,1)="=",'_f_CE'!H8=""),"M",""))) | ... P8: =IF(ISBLANK('CE'!P8),IF(LEFT('_f_CE'!P8,1)="=","M",""),IF(IFERROR(_xlfn.FORMULATEXT('CE'!P8),"")<>"",IF(_xlfn.FORMULATEXT('CE'!P8)<>'_f_CE'!P8,"M",""),IF(OR(LEFT('_f_CE'!P8,1)="=",'_f_CE'!P8=""),"M","")))
A9: =IF(ISBLANK('CE'!A9),IF(LEFT('_f_CE'!A9,1)="=","M",""),IF(IFERROR(_xlfn.FORMULATEXT('CE'!A9),"")<>"",IF(_xlfn.FORMULATEXT('CE'!A9)<>'_f_CE'!A9,"M",""),IF(OR(LEFT('_f_CE'!A9,1)="=",'_f_CE'!A9=""),"M",""))) | B9: =IF(ISBLANK('CE'!B9),IF(LEFT('_f_CE'!B9,1)="=","M",""),IF(IFERROR(_xlfn.FORMULATEXT('CE'!B9),"")<>"",IF(_xlfn.FORMULATEXT('CE'!B9)<>'_f_CE'!B9,"M",""),IF(OR(LEFT('_f_CE'!B9,1)="=",'_f_CE'!B9=""),"M",""))) | C9: =IF(ISBLANK('CE'!C9),IF(LEFT('_f_CE'!C9,1)="=","M",""),IF(IFERROR(_xlfn.FORMULATEXT('CE'!C9),"")<>"",IF(_xlfn.FORMULATEXT('CE'!C9)<>'_f_CE'!C9,"M",""),IF(OR(LEFT('_f_CE'!C9,1)="=",'_f_CE'!C9=""),"M",""))) | D9: =IF(ISBLANK('CE'!D9),IF(LEFT('_f_CE'!D9,1)="=","M",""),IF(IFERROR(_xlfn.FORMULATEXT('CE'!D9),"")<>"",IF(_xlfn.FORMULATEXT('CE'!D9)<>'_f_CE'!D9,"M",""),IF(OR(LEFT('_f_CE'!D9,1)="=",'_f_CE'!D9=""),"M",""))) | E9: =IF(ISBLANK('CE'!E9),IF(LEFT('_f_CE'!E9,1)="=","M",""),IF(IFERROR(_xlfn.FORMULATEXT('CE'!E9),"")<>"",IF(_xlfn.FORMULATEXT('CE'!E9)<>'_f_CE'!E9,"M",""),IF(OR(LEFT('_f_CE'!E9,1)="=",'_f_CE'!E9=""),"M",""))) | F9: =IF(ISBLANK('CE'!F9),IF(LEFT('_f_CE'!F9,1)="=","M",""),IF(IFERROR(_xlfn.FORMULATEXT('CE'!F9),"")<>"",IF(_xlfn.FORMULATEXT('CE'!F9)<>'_f_CE'!F9,"M",""),IF(OR(LEFT('_f_CE'!F9,1)="=",'_f_CE'!F9=""),"M",""))) | G9: =IF(ISBLANK('CE'!G9),IF(LEFT('_f_CE'!G9,1)="=","M",""),IF(IFERROR(_xlfn.FORMULATEXT('CE'!G9),"")<>"",IF(_xlfn.FORMULATEXT('CE'!G9)<>'_f_CE'!G9,"M",""),IF(OR(LEFT('_f_CE'!G9,1)="=",'_f_CE'!G9=""),"M",""))) | H9: =IF(ISBLANK('CE'!H9),IF(LEFT('_f_CE'!H9,1)="=","M",""),IF(IFERROR(_xlfn.FORMULATEXT('CE'!H9),"")<>"",IF(_xlfn.FORMULATEXT('CE'!H9)<>'_f_CE'!H9,"M",""),IF(OR(LEFT('_f_CE'!H9,1)="=",'_f_CE'!H9=""),"M",""))) | ... P9: =IF(ISBLANK('CE'!P9),IF(LEFT('_f_CE'!P9,1)="=","M",""),IF(IFERROR(_xlfn.FORMULATEXT('CE'!P9),"")<>"",IF(_xlfn.FORMULATEXT('CE'!P9)<>'_f_CE'!P9,"M",""),IF(OR(LEFT('_f_CE'!P9,1)="=",'_f_CE'!P9=""),"M","")))
A10: =IF(ISBLANK('CE'!A10),IF(LEFT('_f_CE'!A10,1)="=","M",""),IF(IFERROR(_xlfn.FORMULATEXT('CE'!A10),"")<>"",IF(_xlfn.FORMULATEXT('CE'!A10)<>'_f_CE'!A10,"M",""),IF(OR(LEFT('_f_CE'!A10,1)="=",'_f_CE'!A10=""),"M",""))) | B10: =IF(ISBLANK('CE'!B10),IF(LEFT('_f_CE'!B10,1)="=","M",""),IF(IFERROR(_xlfn.FORMULATEXT('CE'!B10),"")<>"",IF(_xlfn.FORMULATEXT('CE'!B10)<>'_f_CE'!B10,"M",""),IF(OR(LEFT('_f_CE'!B10,1)="=",'_f_CE'!B10=""),"M",""))) | C10: =IF(ISBLANK('CE'!C10),IF(LEFT('_f_CE'!C10,1)="=","M",""),IF(IFERROR(_xlfn.FORMULATEXT('CE'!C10),"")<>"",IF(_xlfn.FORMULATEXT('CE'!C10)<>'_f_CE'!C10,"M",""),IF(OR(LEFT('_f_CE'!C10,1)="=",'_f_CE'!C10=""),"M",""))) | D10: =IF(ISBLANK('CE'!D10),IF(LEFT('_f_CE'!D10,1)="=","M",""),IF(IFERROR(_xlfn.FORMULATEXT('CE'!D10),"")<>"",IF(_xlfn.FORMULATEXT('CE'!D10)<>'_f_CE'!D10,"M",""),IF(OR(LEFT('_f_CE'!D10,1)="=",'_f_CE'!D10=""),"M",""))) | E10: =IF(ISBLANK('CE'!E10),IF(LEFT('_f_CE'!E10,1)="=","M",""),IF(IFERROR(_xlfn.FORMULATEXT('CE'!E10),"")<>"",IF(_xlfn.FORMULATEXT('CE'!E10)<>'_f_CE'!E10,"M",""),IF(OR(LEFT('_f_CE'!E10,1)="=",'_f_CE'!E10=""),"M",""))) | F10: =IF(ISBLANK('CE'!F10),IF(LEFT('_f_CE'!F10,1)="=","M",""),IF(IFERROR(_xlfn.FORMULATEXT('CE'!F10),"")<>"",IF(_xlfn.FORMULATEXT('CE'!F10)<>'_f_CE'!F10,"M",""),IF(OR(LEFT('_f_CE'!F10,1)="=",'_f_CE'!F10=""),"M",""))) | G10: =IF(ISBLANK('CE'!G10),IF(LEFT('_f_CE'!G10,1)="=","M",""),IF(IFERROR(_xlfn.FORMULATEXT('CE'!G10),"")<>"",IF(_xlfn.FORMULATEXT('CE'!G10)<>'_f_CE'!G10,"M",""),IF(OR(LEFT('_f_CE'!G10,1)="=",'_f_CE'!G10=""),"M",""))) | H10: =IF(ISBLANK('CE'!H10),IF(LEFT('_f_CE'!H10,1)="=","M",""),IF(IFERROR(_xlfn.FORMULATEXT('CE'!H10),"")<>"",IF(_xlfn.FORMULATEXT('CE'!H10)<>'_f_CE'!H10,"M",""),IF(OR(LEFT('_f_CE'!H10,1)="=",'_f_CE'!H10=""),"M",""))) | ... P10: =IF(ISBLANK('CE'!P10),IF(LEFT('_f_CE'!P10,1)="=","M",""),IF(IFERROR(_xlfn.FORMULATEXT('CE'!P10),"")<>"",IF(_xlfn.FORMULATEXT('CE'!P10)<>'_f_CE'!P10,"M",""),IF(OR(LEFT('_f_CE'!P10,1)="=",'_f_CE'!P10=""),"M","")))
A11: =IF(ISBLANK('CE'!A11),IF(LEFT('_f_CE'!A11,1)="=","M",""),IF(IFERROR(_xlfn.FORMULATEXT('CE'!A11),"")<>"",IF(_xlfn.FORMULATEXT('CE'!A11)<>'_f_CE'!A11,"M",""),IF(OR(LEFT('_f_CE'!A11,1)="=",'_f_CE'!A11=""),"M",""))) | B11: =IF(ISBLANK('CE'!B11),IF(LEFT('_f_CE'!B11,1)="=","M",""),IF(IFERROR(_xlfn.FORMULATEXT('CE'!B11),"")<>"",IF(_xlfn.FORMULATEXT('CE'!B11)<>'_f_CE'!B11,"M",""),IF(OR(LEFT('_f_CE'!B11,1)="=",'_f_CE'!B11=""),"M",""))) | C11: =IF(ISBLANK('CE'!C11),IF(LEFT('_f_CE'!C11,1)="=","M",""),IF(IFERROR(_xlfn.FORMULATEXT('CE'!C11),"")<>"",IF(_xlfn.FORMULATEXT('CE'!C11)<>'_f_CE'!C11,"M",""),IF(OR(LEFT('_f_CE'!C11,1)="=",'_f_CE'!C11=""),"M",""))) | D11: =IF(ISBLANK('CE'!D11),IF(LEFT('_f_CE'!D11,1)="=","M",""),IF(IFERROR(_xlfn.FORMULATEXT('CE'!D11),"")<>"",IF(_xlfn.FORMULATEXT('CE'!D11)<>'_f_CE'!D11,"M",""),IF(OR(LEFT('_f_CE'!D11,1)="=",'_f_CE'!D11=""),"M",""))) | E11: =IF(ISBLANK('CE'!E11),IF(LEFT('_f_CE'!E11,1)="=","M",""),IF(IFERROR(_xlfn.FORMULATEXT('CE'!E11),"")<>"",IF(_xlfn.FORMULATEXT('CE'!E11)<>'_f_CE'!E11,"M",""),IF(OR(LEFT('_f_CE'!E11,1)="=",'_f_CE'!E11=""),"M",""))) | F11: =IF(ISBLANK('CE'!F11),IF(LEFT('_f_CE'!F11,1)="=","M",""),IF(IFERROR(_xlfn.FORMULATEXT('CE'!F11),"")<>"",IF(_xlfn.FORMULATEXT('CE'!F11)<>'_f_CE'!F11,"M",""),IF(OR(LEFT('_f_CE'!F11,1)="=",'_f_CE'!F11=""),"M",""))) | G11: =IF(ISBLANK('CE'!G11),IF(LEFT('_f_CE'!G11,1)="=","M",""),IF(IFERROR(_xlfn.FORMULATEXT('CE'!G11),"")<>"",IF(_xlfn.FORMULATEXT('CE'!G11)<>'_f_CE'!G11,"M",""),IF(OR(LEFT('_f_CE'!G11,1)="=",'_f_CE'!G11=""),"M",""))) | H11: =IF(ISBLANK('CE'!H11),IF(LEFT('_f_CE'!H11,1)="=","M",""),IF(IFERROR(_xlfn.FORMULATEXT('CE'!H11),"")<>"",IF(_xlfn.FORMULATEXT('CE'!H11)<>'_f_CE'!H11,"M",""),IF(OR(LEFT('_f_CE'!H11,1)="=",'_f_CE'!H11=""),"M",""))) | ... P11: =IF(ISBLANK('CE'!P11),IF(LEFT('_f_CE'!P11,1)="=","M",""),IF(IFERROR(_xlfn.FORMULATEXT('CE'!P11),"")<>"",IF(_xlfn.FORMULATEXT('CE'!P11)<>'_f_CE'!P11,"M",""),IF(OR(LEFT('_f_CE'!P11,1)="=",'_f_CE'!P11=""),"M","")))
A12: =IF(ISBLANK('CE'!A12),IF(LEFT('_f_CE'!A12,1)="=","M",""),IF(IFERROR(_xlfn.FORMULATEXT('CE'!A12),"")<>"",IF(_xlfn.FORMULATEXT('CE'!A12)<>'_f_CE'!A12,"M",""),IF(OR(LEFT('_f_CE'!A12,1)="=",'_f_CE'!A12=""),"M",""))) | B12: =IF(ISBLANK('CE'!B12),IF(LEFT('_f_CE'!B12,1)="=","M",""),IF(IFERROR(_xlfn.FORMULATEXT('CE'!B12),"")<>"",IF(_xlfn.FORMULATEXT('CE'!B12)<>'_f_CE'!B12,"M",""),IF(OR(LEFT('_f_CE'!B12,1)="=",'_f_CE'!B12=""),"M",""))) | C12: =IF(ISBLANK('CE'!C12),IF(LEFT('_f_CE'!C12,1)="=","M",""),IF(IFERROR(_xlfn.FORMULATEXT('CE'!C12),"")<>"",IF(_xlfn.FORMULATEXT('CE'!C12)<>'_f_CE'!C12,"M",""),IF(OR(LEFT('_f_CE'!C12,1)="=",'_f_CE'!C12=""),"M",""))) | D12: =IF(ISBLANK('CE'!D12),IF(LEFT('_f_CE'!D12,1)="=","M",""),IF(IFERROR(_xlfn.FORMULATEXT('CE'!D12),"")<>"",IF(_xlfn.FORMULATEXT('CE'!D12)<>'_f_CE'!D12,"M",""),IF(OR(LEFT('_f_CE'!D12,1)="=",'_f_CE'!D12=""),"M",""))) | E12: =IF(ISBLANK('CE'!E12),IF(LEFT('_f_CE'!E12,1)="=","M",""),IF(IFERROR(_xlfn.FORMULATEXT('CE'!E12),"")<>"",IF(_xlfn.FORMULATEXT('CE'!E12)<>'_f_CE'!E12,"M",""),IF(OR(LEFT('_f_CE'!E12,1)="=",'_f_CE'!E12=""),"M",""))) | F12: =IF(ISBLANK('CE'!F12),IF(LEFT('_f_CE'!F12,1)="=","M",""),IF(IFERROR(_xlfn.FORMULATEXT('CE'!F12),"")<>"",IF(_xlfn.FORMULATEXT('CE'!F12)<>'_f_CE'!F12,"M",""),IF(OR(LEFT('_f_CE'!F12,1)="=",'_f_CE'!F12=""),"M",""))) | G12: =IF(ISBLANK('CE'!G12),IF(LEFT('_f_CE'!G12,1)="=","M",""),IF(IFERROR(_xlfn.FORMULATEXT('CE'!G12),"")<>"",IF(_xlfn.FORMULATEXT('CE'!G12)<>'_f_CE'!G12,"M",""),IF(OR(LEFT('_f_CE'!G12,1)="=",'_f_CE'!G12=""),"M",""))) | H12: =IF(ISBLANK('CE'!H12),IF(LEFT('_f_CE'!H12,1)="=","M",""),IF(IFERROR(_xlfn.FORMULATEXT('CE'!H12),"")<>"",IF(_xlfn.FORMULATEXT('CE'!H12)<>'_f_CE'!H12,"M",""),IF(OR(LEFT('_f_CE'!H12,1)="=",'_f_CE'!H12=""),"M",""))) | ... P12: =IF(ISBLANK('CE'!P12),IF(LEFT('_f_CE'!P12,1)="=","M",""),IF(IFERROR(_xlfn.FORMULATEXT('CE'!P12),"")<>"",IF(_xlfn.FORMULATEXT('CE'!P12)<>'_f_CE'!P12,"M",""),IF(OR(LEFT('_f_CE'!P12,1)="=",'_f_CE'!P12=""),"M","")))
... A57: =IF(ISBLANK('CE'!A57),IF(LEFT('_f_CE'!A57,1)="=","M",""),IF(IFERROR(_xlfn.FORMULATEXT('CE'!A57),"")<>"",IF(_xlfn.FORMULATEXT('CE'!A57)<>'_f_CE'!A57,"M",""),IF(OR(LEFT('_f_CE'!A57,1)="=",'_f_CE'!A57=""),"M",""))) | B57: =IF(ISBLANK('CE'!B57),IF(LEFT('_f_CE'!B57,1)="=","M",""),IF(IFERROR(_xlfn.FORMULATEXT('CE'!B57),"")<>"",IF(_xlfn.FORMULATEXT('CE'!B57)<>'_f_CE'!B57,"M",""),IF(OR(LEFT('_f_CE'!B57,1)="=",'_f_CE'!B57=""),"M",""))) | C57: =IF(ISBLANK('CE'!C57),IF(LEFT('_f_CE'!C57,1)="=","M",""),IF(IFERROR(_xlfn.FORMULATEXT('CE'!C57),"")<>"",IF(_xlfn.FORMULATEXT('CE'!C57)<>'_f_CE'!C57,"M",""),IF(OR(LEFT('_f_CE'!C57,1)="=",'_f_CE'!C57=""),"M",""))) | D57: =IF(ISBLANK('CE'!D57),IF(LEFT('_f_CE'!D57,1)="=","M",""),IF(IFERROR(_xlfn.FORMULATEXT('CE'!D57),"")<>"",IF(_xlfn.FORMULATEXT('CE'!D57)<>'_f_CE'!D57,"M",""),IF(OR(LEFT('_f_CE'!D57,1)="=",'_f_CE'!D57=""),"M",""))) | E57: =IF(ISBLANK('CE'!E57),IF(LEFT('_f_CE'!E57,1)="=","M",""),IF(IFERROR(_xlfn.FORMULATEXT('CE'!E57),"")<>"",IF(_xlfn.FORMULATEXT('CE'!E57)<>'_f_CE'!E57,"M",""),IF(OR(LEFT('_f_CE'!E57,1)="=",'_f_CE'!E57=""),"M",""))) | F57: =IF(ISBLANK('CE'!F57),IF(LEFT('_f_CE'!F57,1)="=","M",""),IF(IFERROR(_xlfn.FORMULATEXT('CE'!F57),"")<>"",IF(_xlfn.FORMULATEXT('CE'!F57)<>'_f_CE'!F57,"M",""),IF(OR(LEFT('_f_CE'!F57,1)="=",'_f_CE'!F57=""),"M",""))) | G57: =IF(ISBLANK('CE'!G57),IF(LEFT('_f_CE'!G57,1)="=","M",""),IF(IFERROR(_xlfn.FORMULATEXT('CE'!G57),"")<>"",IF(_xlfn.FORMULATEXT('CE'!G57)<>'_f_CE'!G57,"M",""),IF(OR(LEFT('_f_CE'!G57,1)="=",'_f_CE'!G57=""),"M",""))) | H57: =IF(ISBLANK('CE'!H57),IF(LEFT('_f_CE'!H57,1)="=","M",""),IF(IFERROR(_xlfn.FORMULATEXT('CE'!H57),"")<>"",IF(_xlfn.FORMULATEXT('CE'!H57)<>'_f_CE'!H57,"M",""),IF(OR(LEFT('_f_CE'!H57,1)="=",'_f_CE'!H57=""),"M",""))) | ... P57: =IF(ISBLANK('CE'!P57),IF(LEFT('_f_CE'!P57,1)="=","M",""),IF(IFERROR(_xlfn.FORMULATEXT('CE'!P57),"")<>"",IF(_xlfn.FORMULATEXT('CE'!P57)<>'_f_CE'!P57,"M",""),IF(OR(LEFT('_f_CE'!P57,1)="=",'_f_CE'!P57=""),"M","")))

Sheet _f_CF
A1: •
A2: •
A4: • | B4: • | C4: • | E4: • | F4: • | G4: • | H4: •
A5: • | B5: • | C5: • | E5: =B5=B6+B7+B9 | F5: =C5=C6+C7+C9 | G5: =IF(B5=B6+B7+B9,"",(B5)-(B6+B7+B9)) | H5: =IF(C5=C6+C7+C9,"",(C5)-(C6+C7+C9))
A6: • | B6: • | C6: •
A7: • | B7: • | C7: • | E7: =B7=SUM(B8:B8) | F7: =C7=SUM(C8:C8) | G7: =IF(B7=SUM(B8:B8),"",(B7)-(SUM(B8:B8))) | H7: =IF(C7=SUM(C8:C8),"",(C7)-(SUM(C8:C8)))
A8: • | B8: • | C8: •
A9: • | B9: • | C9: • | E9: =B9=-SUM(B10:B10) | F9: =C9=SUM(C10:C10) | G9: =IF(B9=-SUM(B10:B10),"",(B9)-(-SUM(B10:B10))) | H9: =IF(C9=SUM(C10:C10),"",(C9)-(SUM(C10:C10)))
A10: • | B10: • | C10: •
A11: • | B11: • | C11: • | E11: =B11=SUM(B12:B12) | F11: =C11=SUM(C12:C12) | G11: =IF(B11=SUM(B12:B12),"",(B11)-(SUM(B12:B12))) | H11: =IF(C11=SUM(C12:C12),"",(C11)-(SUM(C12:C12)))
A12: • | B12: • | C12: •
A13: • | B13: • | C13: • | E13: =B13=SUM(B14:B16) | F13: =C13=SUM(C14:C16) | G13: =IF(B13=SUM(B14:B16),"",(B13)-(SUM(B14:B16))) | H13: =IF(C13=SUM(C14:C16),"",(C13)-(SUM(C14:C16)))
A14: • | B14: • | C14: •
A15: • | B15: • | C15: •
A16: • | B16: • | C16: •
A17: • | B17: • | C17: • | E17: =B17=B5+B11+B13 | F17: =C17=C5+C11+C13 | G17: =IF(B17=B5+B11+B13,"",(B17)-(B5+B11+B13)) | H17: =IF(C17=C5+C11+C13,"",(C17)-(C5+C11+C13))
A18: • | B18: • | C18: •
A19: • | B19: • | C19: • | E19: =B19=B18+B17 | F19: =C19=C18+C17 | G19: =IF(B19=B18+B17,"",(B19)-(B18+B17)) | H19: =IF(C19=C18+C17,"",(C19)-(C18+C17))

Sheet _c_CF
A1: =IF(ISBLANK('CF'!A1),IF(LEFT('_f_CF'!A1,1)="=","M",""),IF(IFERROR(_xlfn.FORMULATEXT('CF'!A1),"")<>"",IF(_xlfn.FORMULATEXT('CF'!A1)<>'_f_CF'!A1,"M",""),IF(OR(LEFT('_f_CF'!A1,1)="=",'_f_CF'!A1=""),"M",""))) | B1: =IF(ISBLANK('CF'!B1),IF(LEFT('_f_CF'!B1,1)="=","M",""),IF(IFERROR(_xlfn.FORMULATEXT('CF'!B1),"")<>"",IF(_xlfn.FORMULATEXT('CF'!B1)<>'_f_CF'!B1,"M",""),IF(OR(LEFT('_f_CF'!B1,1)="=",'_f_CF'!B1=""),"M",""))) | C1: =IF(ISBLANK('CF'!C1),IF(LEFT('_f_CF'!C1,1)="=","M",""),IF(IFERROR(_xlfn.FORMULATEXT('CF'!C1),"")<>"",IF(_xlfn.FORMULATEXT('CF'!C1)<>'_f_CF'!C1,"M",""),IF(OR(LEFT('_f_CF'!C1,1)="=",'_f_CF'!C1=""),"M",""))) | D1: =IF(ISBLANK('CF'!D1),IF(LEFT('_f_CF'!D1,1)="=","M",""),IF(IFERROR(_xlfn.FORMULATEXT('CF'!D1),"")<>"",IF(_xlfn.FORMULATEXT('CF'!D1)<>'_f_CF'!D1,"M",""),IF(OR(LEFT('_f_CF'!D1,1)="=",'_f_CF'!D1=""),"M",""))) | E1: =IF(ISBLANK('CF'!E1),IF(LEFT('_f_CF'!E1,1)="=","M",""),IF(IFERROR(_xlfn.FORMULATEXT('CF'!E1),"")<>"",IF(_xlfn.FORMULATEXT('CF'!E1)<>'_f_CF'!E1,"M",""),IF(OR(LEFT('_f_CF'!E1,1)="=",'_f_CF'!E1=""),"M",""))) | F1: =IF(ISBLANK('CF'!F1),IF(LEFT('_f_CF'!F1,1)="=","M",""),IF(IFERROR(_xlfn.FORMULATEXT('CF'!F1),"")<>"",IF(_xlfn.FORMULATEXT('CF'!F1)<>'_f_CF'!F1,"M",""),IF(OR(LEFT('_f_CF'!F1,1)="=",'_f_CF'!F1=""),"M",""))) | G1: =IF(ISBLANK('CF'!G1),IF(LEFT('_f_CF'!G1,1)="=","M",""),IF(IFERROR(_xlfn.FORMULATEXT('CF'!G1),"")<>"",IF(_xlfn.FORMULATEXT('CF'!G1)<>'_f_CF'!G1,"M",""),IF(OR(LEFT('_f_CF'!G1,1)="=",'_f_CF'!G1=""),"M",""))) | H1: =IF(ISBLANK('CF'!H1),IF(LEFT('_f_CF'!H1,1)="=","M",""),IF(IFERROR(_xlfn.FORMULATEXT('CF'!H1),"")<>"",IF(_xlfn.FORMULATEXT('CF'!H1)<>'_f_CF'!H1,"M",""),IF(OR(LEFT('_f_CF'!H1,1)="=",'_f_CF'!H1=""),"M",""))) | ... P1: =IF(ISBLANK('CF'!P1),IF(LEFT('_f_CF'!P1,1)="=","M",""),IF(IFERROR(_xlfn.FORMULATEXT('CF'!P1),"")<>"",IF(_xlfn.FORMULATEXT('CF'!P1)<>'_f_CF'!P1,"M",""),IF(OR(LEFT('_f_CF'!P1,1)="=",'_f_CF'!P1=""),"M","")))
A2: =IF(ISBLANK('CF'!A2),IF(LEFT('_f_CF'!A2,1)="=","M",""),IF(IFERROR(_xlfn.FORMULATEXT('CF'!A2),"")<>"",IF(_xlfn.FORMULATEXT('CF'!A2)<>'_f_CF'!A2,"M",""),IF(OR(LEFT('_f_CF'!A2,1)="=",'_f_CF'!A2=""),"M",""))) | B2: =IF(ISBLANK('CF'!B2),IF(LEFT('_f_CF'!B2,1)="=","M",""),IF(IFERROR(_xlfn.FORMULATEXT('CF'!B2),"")<>"",IF(_xlfn.FORMULATEXT('CF'!B2)<>'_f_CF'!B2,"M",""),IF(OR(LEFT('_f_CF'!B2,1)="=",'_f_CF'!B2=""),"M",""))) | C2: =IF(ISBLANK('CF'!C2),IF(LEFT('_f_CF'!C2,1)="=","M",""),IF(IFERROR(_xlfn.FORMULATEXT('CF'!C2),"")<>"",IF(_xlfn.FORMULATEXT('CF'!C2)<>'_f_CF'!C2,"M",""),IF(OR(LEFT('_f_CF'!C2,1)="=",'_f_CF'!C2=""),"M",""))) | D2: =IF(ISBLANK('CF'!D2),IF(LEFT('_f_CF'!D2,1)="=","M",""),IF(IFERROR(_xlfn.FORMULATEXT('CF'!D2),"")<>"",IF(_xlfn.FORMULATEXT('CF'!D2)<>'_f_CF'!D2,"M",""),IF(OR(LEFT('_f_CF'!D2,1)="=",'_f_CF'!D2=""),"M",""))) | E2: =IF(ISBLANK('CF'!E2),IF(LEFT('_f_CF'!E2,1)="=","M",""),IF(IFERROR(_xlfn.FORMULATEXT('CF'!E2),"")<>"",IF(_xlfn.FORMULATEXT('CF'!E2)<>'_f_CF'!E2,"M",""),IF(OR(LEFT('_f_CF'!E2,1)="=",'_f_CF'!E2=""),"M",""))) | F2: =IF(ISBLANK('CF'!F2),IF(LEFT('_f_CF'!F2,1)="=","M",""),IF(IFERROR(_xlfn.FORMULATEXT('CF'!F2),"")<>"",IF(_xlfn.FORMULATEXT('CF'!F2)<>'_f_CF'!F2,"M",""),IF(OR(LEFT('_f_CF'!F2,1)="=",'_f_CF'!F2=""),"M",""))) | G2: =IF(ISBLANK('CF'!G2),IF(LEFT('_f_CF'!G2,1)="=","M",""),IF(IFERROR(_xlfn.FORMULATEXT('CF'!G2),"")<>"",IF(_xlfn.FORMULATEXT('CF'!G2)<>'_f_CF'!G2,"M",""),IF(OR(LEFT('_f_CF'!G2,1)="=",'_f_CF'!G2=""),"M",""))) | H2: =IF(ISBLANK('CF'!H2),IF(LEFT('_f_CF'!H2,1)="=","M",""),IF(IFERROR(_xlfn.FORMULATEXT('CF'!H2),"")<>"",IF(_xlfn.FORMULATEXT('CF'!H2)<>'_f_CF'!H2,"M",""),IF(OR(LEFT('_f_CF'!H2,1)="=",'_f_CF'!H2=""),"M",""))) | ... P2: =IF(ISBLANK('CF'!P2),IF(LEFT('_f_CF'!P2,1)="=","M",""),IF(IFERROR(_xlfn.FORMULATEXT('CF'!P2),"")<>"",IF(_xlfn.FORMULATEXT('CF'!P2)<>'_f_CF'!P2,"M",""),IF(OR(LEFT('_f_CF'!P2,1)="=",'_f_CF'!P2=""),"M","")))
A3: =IF(ISBLANK('CF'!A3),IF(LEFT('_f_CF'!A3,1)="=","M",""),IF(IFERROR(_xlfn.FORMULATEXT('CF'!A3),"")<>"",IF(_xlfn.FORMULATEXT('CF'!A3)<>'_f_CF'!A3,"M",""),IF(OR(LEFT('_f_CF'!A3,1)="=",'_f_CF'!A3=""),"M",""))) | B3: =IF(ISBLANK('CF'!B3),IF(LEFT('_f_CF'!B3,1)="=","M",""),IF(IFERROR(_xlfn.FORMULATEXT('CF'!B3),"")<>"",IF(_xlfn.FORMULATEXT('CF'!B3)<>'_f_CF'!B3,"M",""),IF(OR(LEFT('_f_CF'!B3,1)="=",'_f_CF'!B3=""),"M",""))) | C3: =IF(ISBLANK('CF'!C3),IF(LEFT('_f_CF'!C3,1)="=","M",""),IF(IFERROR(_xlfn.FORMULATEXT('CF'!C3),"")<>"",IF(_xlfn.FORMULATEXT('CF'!C3)<>'_f_CF'!C3,"M",""),IF(OR(LEFT('_f_CF'!C3,1)="=",'_f_CF'!C3=""),"M",""))) | D3: =IF(ISBLANK('CF'!D3),IF(LEFT('_f_CF'!D3,1)="=","M",""),IF(IFERROR(_xlfn.FORMULATEXT('CF'!D3),"")<>"",IF(_xlfn.FORMULATEXT('CF'!D3)<>'_f_CF'!D3,"M",""),IF(OR(LEFT('_f_CF'!D3,1)="=",'_f_CF'!D3=""),"M",""))) | E3: =IF(ISBLANK('CF'!E3),IF(LEFT('_f_CF'!E3,1)="=","M",""),IF(IFERROR(_xlfn.FORMULATEXT('CF'!E3),"")<>"",IF(_xlfn.FORMULATEXT('CF'!E3)<>'_f_CF'!E3,"M",""),IF(OR(LEFT('_f_CF'!E3,1)="=",'_f_CF'!E3=""),"M",""))) | F3: =IF(ISBLANK('CF'!F3),IF(LEFT('_f_CF'!F3,1)="=","M",""),IF(IFERROR(_xlfn.FORMULATEXT('CF'!F3),"")<>"",IF(_xlfn.FORMULATEXT('CF'!F3)<>'_f_CF'!F3,"M",""),IF(OR(LEFT('_f_CF'!F3,1)="=",'_f_CF'!F3=""),"M",""))) | G3: =IF(ISBLANK('CF'!G3),IF(LEFT('_f_CF'!G3,1)="=","M",""),IF(IFERROR(_xlfn.FORMULATEXT('CF'!G3),"")<>"",IF(_xlfn.FORMULATEXT('CF'!G3)<>'_f_CF'!G3,"M",""),IF(OR(LEFT('_f_CF'!G3,1)="=",'_f_CF'!G3=""),"M",""))) | H3: =IF(ISBLANK('CF'!H3),IF(LEFT('_f_CF'!H3,1)="=","M",""),IF(IFERROR(_xlfn.FORMULATEXT('CF'!H3),"")<>"",IF(_xlfn.FORMULATEXT('CF'!H3)<>'_f_CF'!H3,"M",""),IF(OR(LEFT('_f_CF'!H3,1)="=",'_f_CF'!H3=""),"M",""))) | ... P3: =IF(ISBLANK('CF'!P3),IF(LEFT('_f_CF'!P3,1)="=","M",""),IF(IFERROR(_xlfn.FORMULATEXT('CF'!P3),"")<>"",IF(_xlfn.FORMULATEXT('CF'!P3)<>'_f_CF'!P3,"M",""),IF(OR(LEFT('_f_CF'!P3,1)="=",'_f_CF'!P3=""),"M","")))
A4: =IF(ISBLANK('CF'!A4),IF(LEFT('_f_CF'!A4,1)="=","M",""),IF(IFERROR(_xlfn.FORMULATEXT('CF'!A4),"")<>"",IF(_xlfn.FORMULATEXT('CF'!A4)<>'_f_CF'!A4,"M",""),IF(OR(LEFT('_f_CF'!A4,1)="=",'_f_CF'!A4=""),"M",""))) | B4: =IF(ISBLANK('CF'!B4),IF(LEFT('_f_CF'!B4,1)="=","M",""),IF(IFERROR(_xlfn.FORMULATEXT('CF'!B4),"")<>"",IF(_xlfn.FORMULATEXT('CF'!B4)<>'_f_CF'!B4,"M",""),IF(OR(LEFT('_f_CF'!B4,1)="=",'_f_CF'!B4=""),"M",""))) | C4: =IF(ISBLANK('CF'!C4),IF(LEFT('_f_CF'!C4,1)="=","M",""),IF(IFERROR(_xlfn.FORMULATEXT('CF'!C4),"")<>"",IF(_xlfn.FORMULATEXT('CF'!C4)<>'_f_CF'!C4,"M",""),IF(OR(LEFT('_f_CF'!C4,1)="=",'_f_CF'!C4=""),"M",""))) | D4: =IF(ISBLANK('CF'!D4),IF(LEFT('_f_CF'!D4,1)="=","M",""),IF(IFERROR(_xlfn.FORMULATEXT('CF'!D4),"")<>"",IF(_xlfn.FORMULATEXT('CF'!D4)<>'_f_CF'!D4,"M",""),IF(OR(LEFT('_f_CF'!D4,1)="=",'_f_CF'!D4=""),"M",""))) | E4: =IF(ISBLANK('CF'!E4),IF(LEFT('_f_CF'!E4,1)="=","M",""),IF(IFERROR(_xlfn.FORMULATEXT('CF'!E4),"")<>"",IF(_xlfn.FORMULATEXT('CF'!E4)<>'_f_CF'!E4,"M",""),IF(OR(LEFT('_f_CF'!E4,1)="=",'_f_CF'!E4=""),"M",""))) | F4: =IF(ISBLANK('CF'!F4),IF(LEFT('_f_CF'!F4,1)="=","M",""),IF(IFERROR(_xlfn.FORMULATEXT('CF'!F4),"")<>"",IF(_xlfn.FORMULATEXT('CF'!F4)<>'_f_CF'!F4,"M",""),IF(OR(LEFT('_f_CF'!F4,1)="=",'_f_CF'!F4=""),"M",""))) | G4: =IF(ISBLANK('CF'!G4),IF(LEFT('_f_CF'!G4,1)="=","M",""),IF(IFERROR(_xlfn.FORMULATEXT('CF'!G4),"")<>"",IF(_xlfn.FORMULATEXT('CF'!G4)<>'_f_CF'!G4,"M",""),IF(OR(LEFT('_f_CF'!G4,1)="=",'_f_CF'!G4=""),"M",""))) | H4: =IF(ISBLANK('CF'!H4),IF(LEFT('_f_CF'!H4,1)="=","M",""),IF(IFERROR(_xlfn.FORMULATEXT('CF'!H4),"")<>"",IF(_xlfn.FORMULATEXT('CF'!H4)<>'_f_CF'!H4,"M",""),IF(OR(LEFT('_f_CF'!H4,1)="=",'_f_CF'!H4=""),"M",""))) | ... P4: =IF(ISBLANK('CF'!P4),IF(LEFT('_f_CF'!P4,1)="=","M",""),IF(IFERROR(_xlfn.FORMULATEXT('CF'!P4),"")<>"",IF(_xlfn.FORMULATEXT('CF'!P4)<>'_f_CF'!P4,"M",""),IF(OR(LEFT('_f_CF'!P4,1)="=",'_f_CF'!P4=""),"M","")))
A5: =IF(ISBLANK('CF'!A5),IF(LEFT('_f_CF'!A5,1)="=","M",""),IF(IFERROR(_xlfn.FORMULATEXT('CF'!A5),"")<>"",IF(_xlfn.FORMULATEXT('CF'!A5)<>'_f_CF'!A5,"M",""),IF(OR(LEFT('_f_CF'!A5,1)="=",'_f_CF'!A5=""),"M",""))) | B5: =IF(ISBLANK('CF'!B5),IF(LEFT('_f_CF'!B5,1)="=","M",""),IF(IFERROR(_xlfn.FORMULATEXT('CF'!B5),"")<>"",IF(_xlfn.FORMULATEXT('CF'!B5)<>'_f_CF'!B5,"M",""),IF(OR(LEFT('_f_CF'!B5,1)="=",'_f_CF'!B5=""),"M",""))) | C5: =IF(ISBLANK('CF'!C5),IF(LEFT('_f_CF'!C5,1)="=","M",""),IF(IFERROR(_xlfn.FORMULATEXT('CF'!C5),"")<>"",IF(_xlfn.FORMULATEXT('CF'!C5)<>'_f_CF'!C5,"M",""),IF(OR(LEFT('_f_CF'!C5,1)="=",'_f_CF'!C5=""),"M",""))) | D5: =IF(ISBLANK('CF'!D5),IF(LEFT('_f_CF'!D5,1)="=","M",""),IF(IFERROR(_xlfn.FORMULATEXT('CF'!D5),"")<>"",IF(_xlfn.FORMULATEXT('CF'!D5)<>'_f_CF'!D5,"M",""),IF(OR(LEFT('_f_CF'!D5,1)="=",'_f_CF'!D5=""),"M",""))) | E5: =IF(ISBLANK('CF'!E5),IF(LEFT('_f_CF'!E5,1)="=","M",""),IF(IFERROR(_xlfn.FORMULATEXT('CF'!E5),"")<>"",IF(_xlfn.FORMULATEXT('CF'!E5)<>'_f_CF'!E5,"M",""),IF(OR(LEFT('_f_CF'!E5,1)="=",'_f_CF'!E5=""),"M",""))) | F5: =IF(ISBLANK('CF'!F5),IF(LEFT('_f_CF'!F5,1)="=","M",""),IF(IFERROR(_xlfn.FORMULATEXT('CF'!F5),"")<>"",IF(_xlfn.FORMULATEXT('CF'!F5)<>'_f_CF'!F5,"M",""),IF(OR(LEFT('_f_CF'!F5,1)="=",'_f_CF'!F5=""),"M",""))) | G5: =IF(ISBLANK('CF'!G5),IF(LEFT('_f_CF'!G5,1)="=","M",""),IF(IFERROR(_xlfn.FORMULATEXT('CF'!G5),"")<>"",IF(_xlfn.FORMULATEXT('CF'!G5)<>'_f_CF'!G5,"M",""),IF(OR(LEFT('_f_CF'!G5,1)="=",'_f_CF'!G5=""),"M",""))) | H5: =IF(ISBLANK('CF'!H5),IF(LEFT('_f_CF'!H5,1)="=","M",""),IF(IFERROR(_xlfn.FORMULATEXT('CF'!H5),"")<>"",IF(_xlfn.FORMULATEXT('CF'!H5)<>'_f_CF'!H5,"M",""),IF(OR(LEFT('_f_CF'!H5,1)="=",'_f_CF'!H5=""),"M",""))) | ... P5: =IF(ISBLANK('CF'!P5),IF(LEFT('_f_CF'!P5,1)="=","M",""),IF(IFERROR(_xlfn.FORMULATEXT('CF'!P5),"")<>"",IF(_xlfn.FORMULATEXT('CF'!P5)<>'_f_CF'!P5,"M",""),IF(OR(LEFT('_f_CF'!P5,1)="=",'_f_CF'!P5=""),"M","")))
A6: =IF(ISBLANK('CF'!A6),IF(LEFT('_f_CF'!A6,1)="=","M",""),IF(IFERROR(_xlfn.FORMULATEXT('CF'!A6),"")<>"",IF(_xlfn.FORMULATEXT('CF'!A6)<>'_f_CF'!A6,"M",""),IF(OR(LEFT('_f_CF'!A6,1)="=",'_f_CF'!A6=""),"M",""))) | B6: =IF(ISBLANK('CF'!B6),IF(LEFT('_f_CF'!B6,1)="=","M",""),IF(IFERROR(_xlfn.FORMULATEXT('CF'!B6),"")<>"",IF(_xlfn.FORMULATEXT('CF'!B6)<>'_f_CF'!B6,"M",""),IF(OR(LEFT('_f_CF'!B6,1)="=",'_f_CF'!B6=""),"M",""))) | C6: =IF(ISBLANK('CF'!C6),IF(LEFT('_f_CF'!C6,1)="=","M",""),IF(IFERROR(_xlfn.FORMULATEXT('CF'!C6),"")<>"",IF(_xlfn.FORMULATEXT('CF'!C6)<>'_f_CF'!C6,"M",""),IF(OR(LEFT('_f_CF'!C6,1)="=",'_f_CF'!C6=""),"M",""))) | D6: =IF(ISBLANK('CF'!D6),IF(LEFT('_f_CF'!D6,1)="=","M",""),IF(IFERROR(_xlfn.FORMULATEXT('CF'!D6),"")<>"",IF(_xlfn.FORMULATEXT('CF'!D6)<>'_f_CF'!D6,"M",""),IF(OR(LEFT('_f_CF'!D6,1)="=",'_f_CF'!D6=""),"M",""))) | E6: =IF(ISBLANK('CF'!E6),IF(LEFT('_f_CF'!E6,1)="=","M",""),IF(IFERROR(_xlfn.FORMULATEXT('CF'!E6),"")<>"",IF(_xlfn.FORMULATEXT('CF'!E6)<>'_f_CF'!E6,"M",""),IF(OR(LEFT('_f_CF'!E6,1)="=",'_f_CF'!E6=""),"M",""))) | F6: =IF(ISBLANK('CF'!F6),IF(LEFT('_f_CF'!F6,1)="=","M",""),IF(IFERROR(_xlfn.FORMULATEXT('CF'!F6),"")<>"",IF(_xlfn.FORMULATEXT('CF'!F6)<>'_f_CF'!F6,"M",""),IF(OR(LEFT('_f_CF'!F6,1)="=",'_f_CF'!F6=""),"M",""))) | G6: =IF(ISBLANK('CF'!G6),IF(LEFT('_f_CF'!G6,1)="=","M",""),IF(IFERROR(_xlfn.FORMULATEXT('CF'!G6),"")<>"",IF(_xlfn.FORMULATEXT('CF'!G6)<>'_f_CF'!G6,"M",""),IF(OR(LEFT('_f_CF'!G6,1)="=",'_f_CF'!G6=""),"M",""))) | H6: =IF(ISBLANK('CF'!H6),IF(LEFT('_f_CF'!H6,1)="=","M",""),IF(IFERROR(_xlfn.FORMULATEXT('CF'!H6),"")<>"",IF(_xlfn.FORMULATEXT('CF'!H6)<>'_f_CF'!H6,"M",""),IF(OR(LEFT('_f_CF'!H6,1)="=",'_f_CF'!H6=""),"M",""))) | ... P6: =IF(ISBLANK('CF'!P6),IF(LEFT('_f_CF'!P6,1)="=","M",""),IF(IFERROR(_xlfn.FORMULATEXT('CF'!P6),"")<>"",IF(_xlfn.FORMULATEXT('CF'!P6)<>'_f_CF'!P6,"M",""),IF(OR(LEFT('_f_CF'!P6,1)="=",'_f_CF'!P6=""),"M","")))
A7: =IF(ISBLANK('CF'!A7),IF(LEFT('_f_CF'!A7,1)="=","M",""),IF(IFERROR(_xlfn.FORMULATEXT('CF'!A7),"")<>"",IF(_xlfn.FORMULATEXT('CF'!A7)<>'_f_CF'!A7,"M",""),IF(OR(LEFT('_f_CF'!A7,1)="=",'_f_CF'!A7=""),"M",""))) | B7: =IF(ISBLANK('CF'!B7),IF(LEFT('_f_CF'!B7,1)="=","M",""),IF(IFERROR(_xlfn.FORMULATEXT('CF'!B7),"")<>"",IF(_xlfn.FORMULATEXT('CF'!B7)<>'_f_CF'!B7,"M",""),IF(OR(LEFT('_f_CF'!B7,1)="=",'_f_CF'!B7=""),"M",""))) | C7: =IF(ISBLANK('CF'!C7),IF(LEFT('_f_CF'!C7,1)="=","M",""),IF(IFERROR(_xlfn.FORMULATEXT('CF'!C7),"")<>"",IF(_xlfn.FORMULATEXT('CF'!C7)<>'_f_CF'!C7,"M",""),IF(OR(LEFT('_f_CF'!C7,1)="=",'_f_CF'!C7=""),"M",""))) | D7: =IF(ISBLANK('CF'!D7),IF(LEFT('_f_CF'!D7,1)="=","M",""),IF(IFERROR(_xlfn.FORMULATEXT('CF'!D7),"")<>"",IF(_xlfn.FORMULATEXT('CF'!D7)<>'_f_CF'!D7,"M",""),IF(OR(LEFT('_f_CF'!D7,1)="=",'_f_CF'!D7=""),"M",""))) | E7: =IF(ISBLANK('CF'!E7),IF(LEFT('_f_CF'!E7,1)="=","M",""),IF(IFERROR(_xlfn.FORMULATEXT('CF'!E7),"")<>"",IF(_xlfn.FORMULATEXT('CF'!E7)<>'_f_CF'!E7,"M",""),IF(OR(LEFT('_f_CF'!E7,1)="=",'_f_CF'!E7=""),"M",""))) | F7: =IF(ISBLANK('CF'!F7),IF(LEFT('_f_CF'!F7,1)="=","M",""),IF(IFERROR(_xlfn.FORMULATEXT('CF'!F7),"")<>"",IF(_xlfn.FORMULATEXT('CF'!F7)<>'_f_CF'!F7,"M",""),IF(OR(LEFT('_f_CF'!F7,1)="=",'_f_CF'!F7=""),"M",""))) | G7: =IF(ISBLANK('CF'!G7),IF(LEFT('_f_CF'!G7,1)="=","M",""),IF(IFERROR(_xlfn.FORMULATEXT('CF'!G7),"")<>"",IF(_xlfn.FORMULATEXT('CF'!G7)<>'_f_CF'!G7,"M",""),IF(OR(LEFT('_f_CF'!G7,1)="=",'_f_CF'!G7=""),"M",""))) | H7: =IF(ISBLANK('CF'!H7),IF(LEFT('_f_CF'!H7,1)="=","M",""),IF(IFERROR(_xlfn.FORMULATEXT('CF'!H7),"")<>"",IF(_xlfn.FORMULATEXT('CF'!H7)<>'_f_CF'!H7,"M",""),IF(OR(LEFT('_f_CF'!H7,1)="=",'_f_CF'!H7=""),"M",""))) | ... P7: =IF(ISBLANK('CF'!P7),IF(LEFT('_f_CF'!P7,1)="=","M",""),IF(IFERROR(_xlfn.FORMULATEXT('CF'!P7),"")<>"",IF(_xlfn.FORMULATEXT('CF'!P7)<>'_f_CF'!P7,"M",""),IF(OR(LEFT('_f_CF'!P7,1)="=",'_f_CF'!P7=""),"M","")))
A8: =IF(ISBLANK('CF'!A8),IF(LEFT('_f_CF'!A8,1)="=","M",""),IF(IFERROR(_xlfn.FORMULATEXT('CF'!A8),"")<>"",IF(_xlfn.FORMULATEXT('CF'!A8)<>'_f_CF'!A8,"M",""),IF(OR(LEFT('_f_CF'!A8,1)="=",'_f_CF'!A8=""),"M",""))) | B8: =IF(ISBLANK('CF'!B8),IF(LEFT('_f_CF'!B8,1)="=","M",""),IF(IFERROR(_xlfn.FORMULATEXT('CF'!B8),"")<>"",IF(_xlfn.FORMULATEXT('CF'!B8)<>'_f_CF'!B8,"M",""),IF(OR(LEFT('_f_CF'!B8,1)="=",'_f_CF'!B8=""),"M",""))) | C8: =IF(ISBLANK('CF'!C8),IF(LEFT('_f_CF'!C8,1)="=","M",""),IF(IFERROR(_xlfn.FORMULATEXT('CF'!C8),"")<>"",IF(_xlfn.FORMULATEXT('CF'!C8)<>'_f_CF'!C8,"M",""),IF(OR(LEFT('_f_CF'!C8,1)="=",'_f_CF'!C8=""),"M",""))) | D8: =IF(ISBLANK('CF'!D8),IF(LEFT('_f_CF'!D8,1)="=","M",""),IF(IFERROR(_xlfn.FORMULATEXT('CF'!D8),"")<>"",IF(_xlfn.FORMULATEXT('CF'!D8)<>'_f_CF'!D8,"M",""),IF(OR(LEFT('_f_CF'!D8,1)="=",'_f_CF'!D8=""),"M",""))) | E8: =IF(ISBLANK('CF'!E8),IF(LEFT('_f_CF'!E8,1)="=","M",""),IF(IFERROR(_xlfn.FORMULATEXT('CF'!E8),"")<>"",IF(_xlfn.FORMULATEXT('CF'!E8)<>'_f_CF'!E8,"M",""),IF(OR(LEFT('_f_CF'!E8,1)="=",'_f_CF'!E8=""),"M",""))) | F8: =IF(ISBLANK('CF'!F8),IF(LEFT('_f_CF'!F8,1)="=","M",""),IF(IFERROR(_xlfn.FORMULATEXT('CF'!F8),"")<>"",IF(_xlfn.FORMULATEXT('CF'!F8)<>'_f_CF'!F8,"M",""),IF(OR(LEFT('_f_CF'!F8,1)="=",'_f_CF'!F8=""),"M",""))) | G8: =IF(ISBLANK('CF'!G8),IF(LEFT('_f_CF'!G8,1)="=","M",""),IF(IFERROR(_xlfn.FORMULATEXT('CF'!G8),"")<>"",IF(_xlfn.FORMULATEXT('CF'!G8)<>'_f_CF'!G8,"M",""),IF(OR(LEFT('_f_CF'!G8,1)="=",'_f_CF'!G8=""),"M",""))) | H8: =IF(ISBLANK('CF'!H8),IF(LEFT('_f_CF'!H8,1)="=","M",""),IF(IFERROR(_xlfn.FORMULATEXT('CF'!H8),"")<>"",IF(_xlfn.FORMULATEXT('CF'!H8)<>'_f_CF'!H8,"M",""),IF(OR(LEFT('_f_CF'!H8,1)="=",'_f_CF'!H8=""),"M",""))) | ... P8: =IF(ISBLANK('CF'!P8),IF(LEFT('_f_CF'!P8,1)="=","M",""),IF(IFERROR(_xlfn.FORMULATEXT('CF'!P8),"")<>"",IF(_xlfn.FORMULATEXT('CF'!P8)<>'_f_CF'!P8,"M",""),IF(OR(LEFT('_f_CF'!P8,1)="=",'_f_CF'!P8=""),"M","")))
A9: =IF(ISBLANK('CF'!A9),IF(LEFT('_f_CF'!A9,1)="=","M",""),IF(IFERROR(_xlfn.FORMULATEXT('CF'!A9),"")<>"",IF(_xlfn.FORMULATEXT('CF'!A9)<>'_f_CF'!A9,"M",""),IF(OR(LEFT('_f_CF'!A9,1)="=",'_f_CF'!A9=""),"M",""))) | B9: =IF(ISBLANK('CF'!B9),IF(LEFT('_f_CF'!B9,1)="=","M",""),IF(IFERROR(_xlfn.FORMULATEXT('CF'!B9),"")<>"",IF(_xlfn.FORMULATEXT('CF'!B9)<>'_f_CF'!B9,"M",""),IF(OR(LEFT('_f_CF'!B9,1)="=",'_f_CF'!B9=""),"M",""))) | C9: =IF(ISBLANK('CF'!C9),IF(LEFT('_f_CF'!C9,1)="=","M",""),IF(IFERROR(_xlfn.FORMULATEXT('CF'!C9),"")<>"",IF(_xlfn.FORMULATEXT('CF'!C9)<>'_f_CF'!C9,"M",""),IF(OR(LEFT('_f_CF'!C9,1)="=",'_f_CF'!C9=""),"M",""))) | D9: =IF(ISBLANK('CF'!D9),IF(LEFT('_f_CF'!D9,1)="=","M",""),IF(IFERROR(_xlfn.FORMULATEXT('CF'!D9),"")<>"",IF(_xlfn.FORMULATEXT('CF'!D9)<>'_f_CF'!D9,"M",""),IF(OR(LEFT('_f_CF'!D9,1)="=",'_f_CF'!D9=""),"M",""))) | E9: =IF(ISBLANK('CF'!E9),IF(LEFT('_f_CF'!E9,1)="=","M",""),IF(IFERROR(_xlfn.FORMULATEXT('CF'!E9),"")<>"",IF(_xlfn.FORMULATEXT('CF'!E9)<>'_f_CF'!E9,"M",""),IF(OR(LEFT('_f_CF'!E9,1)="=",'_f_CF'!E9=""),"M",""))) | F9: =IF(ISBLANK('CF'!F9),IF(LEFT('_f_CF'!F9,1)="=","M",""),IF(IFERROR(_xlfn.FORMULATEXT('CF'!F9),"")<>"",IF(_xlfn.FORMULATEXT('CF'!F9)<>'_f_CF'!F9,"M",""),IF(OR(LEFT('_f_CF'!F9,1)="=",'_f_CF'!F9=""),"M",""))) | G9: =IF(ISBLANK('CF'!G9),IF(LEFT('_f_CF'!G9,1)="=","M",""),IF(IFERROR(_xlfn.FORMULATEXT('CF'!G9),"")<>"",IF(_xlfn.FORMULATEXT('CF'!G9)<>'_f_CF'!G9,"M",""),IF(OR(LEFT('_f_CF'!G9,1)="=",'_f_CF'!G9=""),"M",""))) | H9: =IF(ISBLANK('CF'!H9),IF(LEFT('_f_CF'!H9,1)="=","M",""),IF(IFERROR(_xlfn.FORMULATEXT('CF'!H9),"")<>"",IF(_xlfn.FORMULATEXT('CF'!H9)<>'_f_CF'!H9,"M",""),IF(OR(LEFT('_f_CF'!H9,1)="=",'_f_CF'!H9=""),"M",""))) | ... P9: =IF(ISBLANK('CF'!P9),IF(LEFT('_f_CF'!P9,1)="=","M",""),IF(IFERROR(_xlfn.FORMULATEXT('CF'!P9),"")<>"",IF(_xlfn.FORMULATEXT('CF'!P9)<>'_f_CF'!P9,"M",""),IF(OR(LEFT('_f_CF'!P9,1)="=",'_f_CF'!P9=""),"M","")))
A10: =IF(ISBLANK('CF'!A10),IF(LEFT('_f_CF'!A10,1)="=","M",""),IF(IFERROR(_xlfn.FORMULATEXT('CF'!A10),"")<>"",IF(_xlfn.FORMULATEXT('CF'!A10)<>'_f_CF'!A10,"M",""),IF(OR(LEFT('_f_CF'!A10,1)="=",'_f_CF'!A10=""),"M",""))) | B10: =IF(ISBLANK('CF'!B10),IF(LEFT('_f_CF'!B10,1)="=","M",""),IF(IFERROR(_xlfn.FORMULATEXT('CF'!B10),"")<>"",IF(_xlfn.FORMULATEXT('CF'!B10)<>'_f_CF'!B10,"M",""),IF(OR(LEFT('_f_CF'!B10,1)="=",'_f_CF'!B10=""),"M",""))) | C10: =IF(ISBLANK('CF'!C10),IF(LEFT('_f_CF'!C10,1)="=","M",""),IF(IFERROR(_xlfn.FORMULATEXT('CF'!C10),"")<>"",IF(_xlfn.FORMULATEXT('CF'!C10)<>'_f_CF'!C10,"M",""),IF(OR(LEFT('_f_CF'!C10,1)="=",'_f_CF'!C10=""),"M",""))) | D10: =IF(ISBLANK('CF'!D10),IF(LEFT('_f_CF'!D10,1)="=","M",""),IF(IFERROR(_xlfn.FORMULATEXT('CF'!D10),"")<>"",IF(_xlfn.FORMULATEXT('CF'!D10)<>'_f_CF'!D10,"M",""),IF(OR(LEFT('_f_CF'!D10,1)="=",'_f_CF'!D10=""),"M",""))) | E10: =IF(ISBLANK('CF'!E10),IF(LEFT('_f_CF'!E10,1)="=","M",""),IF(IFERROR(_xlfn.FORMULATEXT('CF'!E10),"")<>"",IF(_xlfn.FORMULATEXT('CF'!E10)<>'_f_CF'!E10,"M",""),IF(OR(LEFT('_f_CF'!E10,1)="=",'_f_CF'!E10=""),"M",""))) | F10: =IF(ISBLANK('CF'!F10),IF(LEFT('_f_CF'!F10,1)="=","M",""),IF(IFERROR(_xlfn.FORMULATEXT('CF'!F10),"")<>"",IF(_xlfn.FORMULATEXT('CF'!F10)<>'_f_CF'!F10,"M",""),IF(OR(LEFT('_f_CF'!F10,1)="=",'_f_CF'!F10=""),"M",""))) | G10: =IF(ISBLANK('CF'!G10),IF(LEFT('_f_CF'!G10,1)="=","M",""),IF(IFERROR(_xlfn.FORMULATEXT('CF'!G10),"")<>"",IF(_xlfn.FORMULATEXT('CF'!G10)<>'_f_CF'!G10,"M",""),IF(OR(LEFT('_f_CF'!G10,1)="=",'_f_CF'!G10=""),"M",""))) | H10: =IF(ISBLANK('CF'!H10),IF(LEFT('_f_CF'!H10,1)="=","M",""),IF(IFERROR(_xlfn.FORMULATEXT('CF'!H10),"")<>"",IF(_xlfn.FORMULATEXT('CF'!H10)<>'_f_CF'!H10,"M",""),IF(OR(LEFT('_f_CF'!H10,1)="=",'_f_CF'!H10=""),"M",""))) | ... P10: =IF(ISBLANK('CF'!P10),IF(LEFT('_f_CF'!P10,1)="=","M",""),IF(IFERROR(_xlfn.FORMULATEXT('CF'!P10),"")<>"",IF(_xlfn.FORMULATEXT('CF'!P10)<>'_f_CF'!P10,"M",""),IF(OR(LEFT('_f_CF'!P10,1)="=",'_f_CF'!P10=""),"M","")))
A11: =IF(ISBLANK('CF'!A11),IF(LEFT('_f_CF'!A11,1)="=","M",""),IF(IFERROR(_xlfn.FORMULATEXT('CF'!A11),"")<>"",IF(_xlfn.FORMULATEXT('CF'!A11)<>'_f_CF'!A11,"M",""),IF(OR(LEFT('_f_CF'!A11,1)="=",'_f_CF'!A11=""),"M",""))) | B11: =IF(ISBLANK('CF'!B11),IF(LEFT('_f_CF'!B11,1)="=","M",""),IF(IFERROR(_xlfn.FORMULATEXT('CF'!B11),"")<>"",IF(_xlfn.FORMULATEXT('CF'!B11)<>'_f_CF'!B11,"M",""),IF(OR(LEFT('_f_CF'!B11,1)="=",'_f_CF'!B11=""),"M",""))) | C11: =IF(ISBLANK('CF'!C11),IF(LEFT('_f_CF'!C11,1)="=","M",""),IF(IFERROR(_xlfn.FORMULATEXT('CF'!C11),"")<>"",IF(_xlfn.FORMULATEXT('CF'!C11)<>'_f_CF'!C11,"M",""),IF(OR(LEFT('_f_CF'!C11,1)="=",'_f_CF'!C11=""),"M",""))) | D11: =IF(ISBLANK('CF'!D11),IF(LEFT('_f_CF'!D11,1)="=","M",""),IF(IFERROR(_xlfn.FORMULATEXT('CF'!D11),"")<>"",IF(_xlfn.FORMULATEXT('CF'!D11)<>'_f_CF'!D11,"M",""),IF(OR(LEFT('_f_CF'!D11,1)="=",'_f_CF'!D11=""),"M",""))) | E11: =IF(ISBLANK('CF'!E11),IF(LEFT('_f_CF'!E11,1)="=","M",""),IF(IFERROR(_xlfn.FORMULATEXT('CF'!E11),"")<>"",IF(_xlfn.FORMULATEXT('CF'!E11)<>'_f_CF'!E11,"M",""),IF(OR(LEFT('_f_CF'!E11,1)="=",'_f_CF'!E11=""),"M",""))) | F11: =IF(ISBLANK('CF'!F11),IF(LEFT('_f_CF'!F11,1)="=","M",""),IF(IFERROR(_xlfn.FORMULATEXT('CF'!F11),"")<>"",IF(_xlfn.FORMULATEXT('CF'!F11)<>'_f_CF'!F11,"M",""),IF(OR(LEFT('_f_CF'!F11,1)="=",'_f_CF'!F11=""),"M",""))) | G11: =IF(ISBLANK('CF'!G11),IF(LEFT('_f_CF'!G11,1)="=","M",""),IF(IFERROR(_xlfn.FORMULATEXT('CF'!G11),"")<>"",IF(_xlfn.FORMULATEXT('CF'!G11)<>'_f_CF'!G11,"M",""),IF(OR(LEFT('_f_CF'!G11,1)="=",'_f_CF'!G11=""),"M",""))) | H11: =IF(ISBLANK('CF'!H11),IF(LEFT('_f_CF'!H11,1)="=","M",""),IF(IFERROR(_xlfn.FORMULATEXT('CF'!H11),"")<>"",IF(_xlfn.FORMULATEXT('CF'!H11)<>'_f_CF'!H11,"M",""),IF(OR(LEFT('_f_CF'!H11,1)="=",'_f_CF'!H11=""),"M",""))) | ... P11: =IF(ISBLANK('CF'!P11),IF(LEFT('_f_CF'!P11,1)="=","M",""),IF(IFERROR(_xlfn.FORMULATEXT('CF'!P11),"")<>"",IF(_xlfn.FORMULATEXT('CF'!P11)<>'_f_CF'!P11,"M",""),IF(OR(LEFT('_f_CF'!P11,1)="=",'_f_CF'!P11=""),"M","")))
A12: =IF(ISBLANK('CF'!A12),IF(LEFT('_f_CF'!A12,1)="=","M",""),IF(IFERROR(_xlfn.FORMULATEXT('CF'!A12),"")<>"",IF(_xlfn.FORMULATEXT('CF'!A12)<>'_f_CF'!A12,"M",""),IF(OR(LEFT('_f_CF'!A12,1)="=",'_f_CF'!A12=""),"M",""))) | B12: =IF(ISBLANK('CF'!B12),IF(LEFT('_f_CF'!B12,1)="=","M",""),IF(IFERROR(_xlfn.FORMULATEXT('CF'!B12),"")<>"",IF(_xlfn.FORMULATEXT('CF'!B12)<>'_f_CF'!B12,"M",""),IF(OR(LEFT('_f_CF'!B12,1)="=",'_f_CF'!B12=""),"M",""))) | C12: =IF(ISBLANK('CF'!C12),IF(LEFT('_f_CF'!C12,1)="=","M",""),IF(IFERROR(_xlfn.FORMULATEXT('CF'!C12),"")<>"",IF(_xlfn.FORMULATEXT('CF'!C12)<>'_f_CF'!C12,"M",""),IF(OR(LEFT('_f_CF'!C12,1)="=",'_f_CF'!C12=""),"M",""))) | D12: =IF(ISBLANK('CF'!D12),IF(LEFT('_f_CF'!D12,1)="=","M",""),IF(IFERROR(_xlfn.FORMULATEXT('CF'!D12),"")<>"",IF(_xlfn.FORMULATEXT('CF'!D12)<>'_f_CF'!D12,"M",""),IF(OR(LEFT('_f_CF'!D12,1)="=",'_f_CF'!D12=""),"M",""))) | E12: =IF(ISBLANK('CF'!E12),IF(LEFT('_f_CF'!E12,1)="=","M",""),IF(IFERROR(_xlfn.FORMULATEXT('CF'!E12),"")<>"",IF(_xlfn.FORMULATEXT('CF'!E12)<>'_f_CF'!E12,"M",""),IF(OR(LEFT('_f_CF'!E12,1)="=",'_f_CF'!E12=""),"M",""))) | F12: =IF(ISBLANK('CF'!F12),IF(LEFT('_f_CF'!F12,1)="=","M",""),IF(IFERROR(_xlfn.FORMULATEXT('CF'!F12),"")<>"",IF(_xlfn.FORMULATEXT('CF'!F12)<>'_f_CF'!F12,"M",""),IF(OR(LEFT('_f_CF'!F12,1)="=",'_f_CF'!F12=""),"M",""))) | G12: =IF(ISBLANK('CF'!G12),IF(LEFT('_f_CF'!G12,1)="=","M",""),IF(IFERROR(_xlfn.FORMULATEXT('CF'!G12),"")<>"",IF(_xlfn.FORMULATEXT('CF'!G12)<>'_f_CF'!G12,"M",""),IF(OR(LEFT('_f_CF'!G12,1)="=",'_f_CF'!G12=""),"M",""))) | H12: =IF(ISBLANK('CF'!H12),IF(LEFT('_f_CF'!H12,1)="=","M",""),IF(IFERROR(_xlfn.FORMULATEXT('CF'!H12),"")<>"",IF(_xlfn.FORMULATEXT('CF'!H12)<>'_f_CF'!H12,"M",""),IF(OR(LEFT('_f_CF'!H12,1)="=",'_f_CF'!H12=""),"M",""))) | ... P12: =IF(ISBLANK('CF'!P12),IF(LEFT('_f_CF'!P12,1)="=","M",""),IF(IFERROR(_xlfn.FORMULATEXT('CF'!P12),"")<>"",IF(_xlfn.FORMULATEXT('CF'!P12)<>'_f_CF'!P12,"M",""),IF(OR(LEFT('_f_CF'!P12,1)="=",'_f_CF'!P12=""),"M","")))
... A59: =IF(ISBLANK('CF'!A59),IF(LEFT('_f_CF'!A59,1)="=","M",""),IF(IFERROR(_xlfn.FORMULATEXT('CF'!A59),"")<>"",IF(_xlfn.FORMULATEXT('CF'!A59)<>'_f_CF'!A59,"M",""),IF(OR(LEFT('_f_CF'!A59,1)="=",'_f_CF'!A59=""),"M",""))) | B59: =IF(ISBLANK('CF'!B59),IF(LEFT('_f_CF'!B59,1)="=","M",""),IF(IFERROR(_xlfn.FORMULATEXT('CF'!B59),"")<>"",IF(_xlfn.FORMULATEXT('CF'!B59)<>'_f_CF'!B59,"M",""),IF(OR(LEFT('_f_CF'!B59,1)="=",'_f_CF'!B59=""),"M",""))) | C59: =IF(ISBLANK('CF'!C59),IF(LEFT('_f_CF'!C59,1)="=","M",""),IF(IFERROR(_xlfn.FORMULATEXT('CF'!C59),"")<>"",IF(_xlfn.FORMULATEXT('CF'!C59)<>'_f_CF'!C59,"M",""),IF(OR(LEFT('_f_CF'!C59,1)="=",'_f_CF'!C59=""),"M",""))) | D59: =IF(ISBLANK('CF'!D59),IF(LEFT('_f_CF'!D59,1)="=","M",""),IF(IFERROR(_xlfn.FORMULATEXT('CF'!D59),"")<>"",IF(_xlfn.FORMULATEXT('CF'!D59)<>'_f_CF'!D59,"M",""),IF(OR(LEFT('_f_CF'!D59,1)="=",'_f_CF'!D59=""),"M",""))) | E59: =IF(ISBLANK('CF'!E59),IF(LEFT('_f_CF'!E59,1)="=","M",""),IF(IFERROR(_xlfn.FORMULATEXT('CF'!E59),"")<>"",IF(_xlfn.FORMULATEXT('CF'!E59)<>'_f_CF'!E59,"M",""),IF(OR(LEFT('_f_CF'!E59,1)="=",'_f_CF'!E59=""),"M",""))) | F59: =IF(ISBLANK('CF'!F59),IF(LEFT('_f_CF'!F59,1)="=","M",""),IF(IFERROR(_xlfn.FORMULATEXT('CF'!F59),"")<>"",IF(_xlfn.FORMULATEXT('CF'!F59)<>'_f_CF'!F59,"M",""),IF(OR(LEFT('_f_CF'!F59,1)="=",'_f_CF'!F59=""),"M",""))) | G59: =IF(ISBLANK('CF'!G59),IF(LEFT('_f_CF'!G59,1)="=","M",""),IF(IFERROR(_xlfn.FORMULATEXT('CF'!G59),"")<>"",IF(_xlfn.FORMULATEXT('CF'!G59)<>'_f_CF'!G59,"M",""),IF(OR(LEFT('_f_CF'!G59,1)="=",'_f_CF'!G59=""),"M",""))) | H59: =IF(ISBLANK('CF'!H59),IF(LEFT('_f_CF'!H59,1)="=","M",""),IF(IFERROR(_xlfn.FORMULATEXT('CF'!H59),"")<>"",IF(_xlfn.FORMULATEXT('CF'!H59)<>'_f_CF'!H59,"M",""),IF(OR(LEFT('_f_CF'!H59,1)="=",'_f_CF'!H59=""),"M",""))) | ... P59: =IF(ISBLANK('CF'!P59),IF(LEFT('_f_CF'!P59,1)="=","M",""),IF(IFERROR(_xlfn.FORMULATEXT('CF'!P59),"")<>"",IF(_xlfn.FORMULATEXT('CF'!P59)<>'_f_CF'!P59,"M",""),IF(OR(LEFT('_f_CF'!P59,1)="=",'_f_CF'!P59=""),"M","")))

Sheet _f_주석매핑
B2: •
B3: •
B5: • | C5: • | D5: • | E5: • | F5: • | G5: •
B6: • | C6: • | D6: • | E6: • | F6: • | G6: •
B7: • | C7: • | D7: • | E7: • | F7: • | G7: •
B8: • | C8: • | D8: • | E8: • | F8: • | G8: •
B9: • | C9: • | D9: • | E9: • | F9: • | G9: •
B10: • | C10: • | D10: • | E10: • | F10: • | G10: •
B11: • | C11: • | D11: • | E11: • | F11: • | G11: •
B12: • | C12: • | D12: • | E12: • | F12: • | G12: •
B13: • | C13: • | D13: • | E13: • | F13: • | G13: •
B14: • | C14: • | D14: • | E14: • | F14: • | G14: •
B15: • | C15: • | D15: • | E15: • | F15: • | G15: •
B16: • | C16: • | D16: • | E16: • | F16: • | G16: •
... B25: • | C25: • | D25: • | E25: • | F25: • | G25: •

Sheet _c_주석매핑
A1: =IF(ISBLANK('주석매핑'!A1),IF(LEFT('_f_주석매핑'!A1,1)="=","M",""),IF(IFERROR(_xlfn.FORMULATEXT('주석매핑'!A1),"")<>"",IF(_xlfn.FORMULATEXT('주석매핑'!A1)<>'_f_주석매핑'!A1,"M",""),IF(OR(LEFT('_f_주석매핑'!A1,1)="=",'_f_주석매핑'!A1=""),"M",""))) | B1: =IF(ISBLANK('주석매핑'!B1),IF(LEFT('_f_주석매핑'!B1,1)="=","M",""),IF(IFERROR(_xlfn.FORMULATEXT('주석매핑'!B1),"")<>"",IF(_xlfn.FORMULATEXT('주석매핑'!B1)<>'_f_주석매핑'!B1,"M",""),IF(OR(LEFT('_f_주석매핑'!B1,1)="=",'_f_주석매핑'!B1=""),"M",""))) | C1: =IF(ISBLANK('주석매핑'!C1),IF(LEFT('_f_주석매핑'!C1,1)="=","M",""),IF(IFERROR(_xlfn.FORMULATEXT('주석매핑'!C1),"")<>"",IF(_xlfn.FORMULATEXT('주석매핑'!C1)<>'_f_주석매핑'!C1,"M",""),IF(OR(LEFT('_f_주석매핑'!C1,1)="=",'_f_주석매핑'!C1=""),"M",""))) | D1: =IF(ISBLANK('주석매핑'!D1),IF(LEFT('_f_주석매핑'!D1,1)="=","M",""),IF(IFERROR(_xlfn.FORMULATEXT('주석매핑'!D1),"")<>"",IF(_xlfn.FORMULATEXT('주석매핑'!D1)<>'_f_주석매핑'!D1,"M",""),IF(OR(LEFT('_f_주석매핑'!D1,1)="=",'_f_주석매핑'!D1=""),"M",""))) | E1: =IF(ISBLANK('주석매핑'!E1),IF(LEFT('_f_주석매핑'!E1,1)="=","M",""),IF(IFERROR(_xlfn.FORMULATEXT('주석매핑'!E1),"")<>"",IF(_xlfn.FORMULATEXT('주석매핑'!E1)<>'_f_주석매핑'!E1,"M",""),IF(OR(LEFT('_f_주석매핑'!E1,1)="=",'_f_주석매핑'!E1=""),"M",""))) | F1: =IF(ISBLANK('주석매핑'!F1),IF(LEFT('_f_주석매핑'!F1,1)="=","M",""),IF(IFERROR(_xlfn.FORMULATEXT('주석매핑'!F1),"")<>"",IF(_xlfn.FORMULATEXT('주석매핑'!F1)<>'_f_주석매핑'!F1,"M",""),IF(OR(LEFT('_f_주석매핑'!F1,1)="=",'_f_주석매핑'!F1=""),"M",""))) | G1: =IF(ISBLANK('주석매핑'!G1),IF(LEFT('_f_주석매핑'!G1,1)="=","M",""),IF(IFERROR(_xlfn.FORMULATEXT('주석매핑'!G1),"")<>"",IF(_xlfn.FORMULATEXT('주석매핑'!G1)<>'_f_주석매핑'!G1,"M",""),IF(OR(LEFT('_f_주석매핑'!G1,1)="=",'_f_주석매핑'!G1=""),"M",""))) | H1: =IF(ISBLANK('주석매핑'!H1),IF(LEFT('_f_주석매핑'!H1,1)="=","M",""),IF(IFERROR(_xlfn.FORMULATEXT('주석매핑'!H1),"")<>"",IF(_xlfn.FORMULATEXT('주석매핑'!H1)<>'_f_주석매핑'!H1,"M",""),IF(OR(LEFT('_f_주석매핑'!H1,1)="=",'_f_주석매핑'!H1=""),"M",""))) | ... O1: =IF(ISBLANK('주석매핑'!O1),IF(LEFT('_f_주석매핑'!O1,1)="=","M",""),IF(IFERROR(_xlfn.FORMULATEXT('주석매핑'!O1),"")<>"",IF(_xlfn.FORMULATEXT('주석매핑'!O1)<>'_f_주석매핑'!O1,"M",""),IF(OR(LEFT('_f_주석매핑'!O1,1)="=",'_f_주석매핑'!O1=""),"M","")))
A2: =IF(ISBLANK('주석매핑'!A2),IF(LEFT('_f_주석매핑'!A2,1)="=","M",""),IF(IFERROR(_xlfn.FORMULATEXT('주석매핑'!A2),"")<>"",IF(_xlfn.FORMULATEXT('주석매핑'!A2)<>'_f_주석매핑'!A2,"M",""),IF(OR(LEFT('_f_주석매핑'!A2,1)="=",'_f_주석매핑'!A2=""),"M",""))) | B2: =IF(ISBLANK('주석매핑'!B2),IF(LEFT('_f_주석매핑'!B2,1)="=","M",""),IF(IFERROR(_xlfn.FORMULATEXT('주석매핑'!B2),"")<>"",IF(_xlfn.FORMULATEXT('주석매핑'!B2)<>'_f_주석매핑'!B2,"M",""),IF(OR(LEFT('_f_주석매핑'!B2,1)="=",'_f_주석매핑'!B2=""),"M",""))) | C2: =IF(ISBLANK('주석매핑'!C2),IF(LEFT('_f_주석매핑'!C2,1)="=","M",""),IF(IFERROR(_xlfn.FORMULATEXT('주석매핑'!C2),"")<>"",IF(_xlfn.FORMULATEXT('주석매핑'!C2)<>'_f_주석매핑'!C2,"M",""),IF(OR(LEFT('_f_주석매핑'!C2,1)="=",'_f_주석매핑'!C2=""),"M",""))) | D2: =IF(ISBLANK('주석매핑'!D2),IF(LEFT('_f_주석매핑'!D2,1)="=","M",""),IF(IFERROR(_xlfn.FORMULATEXT('주석매핑'!D2),"")<>"",IF(_xlfn.FORMULATEXT('주석매핑'!D2)<>'_f_주석매핑'!D2,"M",""),IF(OR(LEFT('_f_주석매핑'!D2,1)="=",'_f_주석매핑'!D2=""),"M",""))) | E2: =IF(ISBLANK('주석매핑'!E2),IF(LEFT('_f_주석매핑'!E2,1)="=","M",""),IF(IFERROR(_xlfn.FORMULATEXT('주석매핑'!E2),"")<>"",IF(_xlfn.FORMULATEXT('주석매핑'!E2)<>'_f_주석매핑'!E2,"M",""),IF(OR(LEFT('_f_주석매핑'!E2,1)="=",'_f_주석매핑'!E2=""),"M",""))) | F2: =IF(ISBLANK('주석매핑'!F2),IF(LEFT('_f_주석매핑'!F2,1)="=","M",""),IF(IFERROR(_xlfn.FORMULATEXT('주석매핑'!F2),"")<>"",IF(_xlfn.FORMULATEXT('주석매핑'!F2)<>'_f_주석매핑'!F2,"M",""),IF(OR(LEFT('_f_주석매핑'!F2,1)="=",'_f_주석매핑'!F2=""),"M",""))) | G2: =IF(ISBLANK('주석매핑'!G2),IF(LEFT('_f_주석매핑'!G2,1)="=","M",""),IF(IFERROR(_xlfn.FORMULATEXT('주석매핑'!G2),"")<>"",IF(_xlfn.FORMULATEXT('주석매핑'!G2)<>'_f_주석매핑'!G2,"M",""),IF(OR(LEFT('_f_주석매핑'!G2,1)="=",'_f_주석매핑'!G2=""),"M",""))) | H2: =IF(ISBLANK('주석매핑'!H2),IF(LEFT('_f_주석매핑'!H2,1)="=","M",""),IF(IFERROR(_xlfn.FORMULATEXT('주석매핑'!H2),"")<>"",IF(_xlfn.FORMULATEXT('주석매핑'!H2)<>'_f_주석매핑'!H2,"M",""),IF(OR(LEFT('_f_주석매핑'!H2,1)="=",'_f_주석매핑'!H2=""),"M",""))) | ... O2: =IF(ISBLANK('주석매핑'!O2),IF(LEFT('_f_주석매핑'!O2,1)="=","M",""),IF(IFERROR(_xlfn.FORMULATEXT('주석매핑'!O2),"")<>"",IF(_xlfn.FORMULATEXT('주석매핑'!O2)<>'_f_주석매핑'!O2,"M",""),IF(OR(LEFT('_f_주석매핑'!O2,1)="=",'_f_주석매핑'!O2=""),"M","")))
A3: =IF(ISBLANK('주석매핑'!A3),IF(LEFT('_f_주석매핑'!A3,1)="=","M",""),IF(IFERROR(_xlfn.FORMULATEXT('주석매핑'!A3),"")<>"",IF(_xlfn.FORMULATEXT('주석매핑'!A3)<>'_f_주석매핑'!A3,"M",""),IF(OR(LEFT('_f_주석매핑'!A3,1)="=",'_f_주석매핑'!A3=""),"M",""))) | B3: =IF(ISBLANK('주석매핑'!B3),IF(LEFT('_f_주석매핑'!B3,1)="=","M",""),IF(IFERROR(_xlfn.FORMULATEXT('주석매핑'!B3),"")<>"",IF(_xlfn.FORMULATEXT('주석매핑'!B3)<>'_f_주석매핑'!B3,"M",""),IF(OR(LEFT('_f_주석매핑'!B3,1)="=",'_f_주석매핑'!B3=""),"M",""))) | C3: =IF(ISBLANK('주석매핑'!C3),IF(LEFT('_f_주석매핑'!C3,1)="=","M",""),IF(IFERROR(_xlfn.FORMULATEXT('주석매핑'!C3),"")<>"",IF(_xlfn.FORMULATEXT('주석매핑'!C3)<>'_f_주석매핑'!C3,"M",""),IF(OR(LEFT('_f_주석매핑'!C3,1)="=",'_f_주석매핑'!C3=""),"M",""))) | D3: =IF(ISBLANK('주석매핑'!D3),IF(LEFT('_f_주석매핑'!D3,1)="=","M",""),IF(IFERROR(_xlfn.FORMULATEXT('주석매핑'!D3),"")<>"",IF(_xlfn.FORMULATEXT('주석매핑'!D3)<>'_f_주석매핑'!D3,"M",""),IF(OR(LEFT('_f_주석매핑'!D3,1)="=",'_f_주석매핑'!D3=""),"M",""))) | E3: =IF(ISBLANK('주석매핑'!E3),IF(LEFT('_f_주석매핑'!E3,1)="=","M",""),IF(IFERROR(_xlfn.FORMULATEXT('주석매핑'!E3),"")<>"",IF(_xlfn.FORMULATEXT('주석매핑'!E3)<>'_f_주석매핑'!E3,"M",""),IF(OR(LEFT('_f_주석매핑'!E3,1)="=",'_f_주석매핑'!E3=""),"M",""))) | F3: =IF(ISBLANK('주석매핑'!F3),IF(LEFT('_f_주석매핑'!F3,1)="=","M",""),IF(IFERROR(_xlfn.FORMULATEXT('주석매핑'!F3),"")<>"",IF(_xlfn.FORMULATEXT('주석매핑'!F3)<>'_f_주석매핑'!F3,"M",""),IF(OR(LEFT('_f_주석매핑'!F3,1)="=",'_f_주석매핑'!F3=""),"M",""))) | G3: =IF(ISBLANK('주석매핑'!G3),IF(LEFT('_f_주석매핑'!G3,1)="=","M",""),IF(IFERROR(_xlfn.FORMULATEXT('주석매핑'!G3),"")<>"",IF(_xlfn.FORMULATEXT('주석매핑'!G3)<>'_f_주석매핑'!G3,"M",""),IF(OR(LEFT('_f_주석매핑'!G3,1)="=",'_f_주석매핑'!G3=""),"M",""))) | H3: =IF(ISBLANK('주석매핑'!H3),IF(LEFT('_f_주석매핑'!H3,1)="=","M",""),IF(IFERROR(_xlfn.FORMULATEXT('주석매핑'!H3),"")<>"",IF(_xlfn.FORMULATEXT('주석매핑'!H3)<>'_f_주석매핑'!H3,"M",""),IF(OR(LEFT('_f_주석매핑'!H3,1)="=",'_f_주석매핑'!H3=""),"M",""))) | ... O3: =IF(ISBLANK('주석매핑'!O3),IF(LEFT('_f_주석매핑'!O3,1)="=","M",""),IF(IFERROR(_xlfn.FORMULATEXT('주석매핑'!O3),"")<>"",IF(_xlfn.FORMULATEXT('주석매핑'!O3)<>'_f_주석매핑'!O3,"M",""),IF(OR(LEFT('_f_주석매핑'!O3,1)="=",'_f_주석매핑'!O3=""),"M","")))
A4: =IF(ISBLANK('주석매핑'!A4),IF(LEFT('_f_주석매핑'!A4,1)="=","M",""),IF(IFERROR(_xlfn.FORMULATEXT('주석매핑'!A4),"")<>"",IF(_xlfn.FORMULATEXT('주석매핑'!A4)<>'_f_주석매핑'!A4,"M",""),IF(OR(LEFT('_f_주석매핑'!A4,1)="=",'_f_주석매핑'!A4=""),"M",""))) | B4: =IF(ISBLANK('주석매핑'!B4),IF(LEFT('_f_주석매핑'!B4,1)="=","M",""),IF(IFERROR(_xlfn.FORMULATEXT('주석매핑'!B4),"")<>"",IF(_xlfn.FORMULATEXT('주석매핑'!B4)<>'_f_주석매핑'!B4,"M",""),IF(OR(LEFT('_f_주석매핑'!B4,1)="=",'_f_주석매핑'!B4=""),"M",""))) | C4: =IF(ISBLANK('주석매핑'!C4),IF(LEFT('_f_주석매핑'!C4,1)="=","M",""),IF(IFERROR(_xlfn.FORMULATEXT('주석매핑'!C4),"")<>"",IF(_xlfn.FORMULATEXT('주석매핑'!C4)<>'_f_주석매핑'!C4,"M",""),IF(OR(LEFT('_f_주석매핑'!C4,1)="=",'_f_주석매핑'!C4=""),"M",""))) | D4: =IF(ISBLANK('주석매핑'!D4),IF(LEFT('_f_주석매핑'!D4,1)="=","M",""),IF(IFERROR(_xlfn.FORMULATEXT('주석매핑'!D4),"")<>"",IF(_xlfn.FORMULATEXT('주석매핑'!D4)<>'_f_주석매핑'!D4,"M",""),IF(OR(LEFT('_f_주석매핑'!D4,1)="=",'_f_주석매핑'!D4=""),"M",""))) | E4: =IF(ISBLANK('주석매핑'!E4),IF(LEFT('_f_주석매핑'!E4,1)="=","M",""),IF(IFERROR(_xlfn.FORMULATEXT('주석매핑'!E4),"")<>"",IF(_xlfn.FORMULATEXT('주석매핑'!E4)<>'_f_주석매핑'!E4,"M",""),IF(OR(LEFT('_f_주석매핑'!E4,1)="=",'_f_주석매핑'!E4=""),"M",""))) | F4: =IF(ISBLANK('주석매핑'!F4),IF(LEFT('_f_주석매핑'!F4,1)="=","M",""),IF(IFERROR(_xlfn.FORMULATEXT('주석매핑'!F4),"")<>"",IF(_xlfn.FORMULATEXT('주석매핑'!F4)<>'_f_주석매핑'!F4,"M",""),IF(OR(LEFT('_f_주석매핑'!F4,1)="=",'_f_주석매핑'!F4=""),"M",""))) | G4: =IF(ISBLANK('주석매핑'!G4),IF(LEFT('_f_주석매핑'!G4,1)="=","M",""),IF(IFERROR(_xlfn.FORMULATEXT('주석매핑'!G4),"")<>"",IF(_xlfn.FORMULATEXT('주석매핑'!G4)<>'_f_주석매핑'!G4,"M",""),IF(OR(LEFT('_f_주석매핑'!G4,1)="=",'_f_주석매핑'!G4=""),"M",""))) | H4: =IF(ISBLANK('주석매핑'!H4),IF(LEFT('_f_주석매핑'!H4,1)="=","M",""),IF(IFERROR(_xlfn.FORMULATEXT('주석매핑'!H4),"")<>"",IF(_xlfn.FORMULATEXT('주석매핑'!H4)<>'_f_주석매핑'!H4,"M",""),IF(OR(LEFT('_f_주석매핑'!H4,1)="=",'_f_주석매핑'!H4=""),"M",""))) | ... O4: =IF(ISBLANK('주석매핑'!O4),IF(LEFT('_f_주석매핑'!O4,1)="=","M",""),IF(IFERROR(_xlfn.FORMULATEXT('주석매핑'!O4),"")<>"",IF(_xlfn.FORMULATEXT('주석매핑'!O4)<>'_f_주석매핑'!O4,"M",""),IF(OR(LEFT('_f_주석매핑'!O4,1)="=",'_f_주석매핑'!O4=""),"M","")))
A5: =IF(ISBLANK('주석매핑'!A5),IF(LEFT('_f_주석매핑'!A5,1)="=","M",""),IF(IFERROR(_xlfn.FORMULATEXT('주석매핑'!A5),"")<>"",IF(_xlfn.FORMULATEXT('주석매핑'!A5)<>'_f_주석매핑'!A5,"M",""),IF(OR(LEFT('_f_주석매핑'!A5,1)="=",'_f_주석매핑'!A5=""),"M",""))) | B5: =IF(ISBLANK('주석매핑'!B5),IF(LEFT('_f_주석매핑'!B5,1)="=","M",""),IF(IFERROR(_xlfn.FORMULATEXT('주석매핑'!B5),"")<>"",IF(_xlfn.FORMULATEXT('주석매핑'!B5)<>'_f_주석매핑'!B5,"M",""),IF(OR(LEFT('_f_주석매핑'!B5,1)="=",'_f_주석매핑'!B5=""),"M",""))) | C5: =IF(ISBLANK('주석매핑'!C5),IF(LEFT('_f_주석매핑'!C5,1)="=","M",""),IF(IFERROR(_xlfn.FORMULATEXT('주석매핑'!C5),"")<>"",IF(_xlfn.FORMULATEXT('주석매핑'!C5)<>'_f_주석매핑'!C5,"M",""),IF(OR(LEFT('_f_주석매핑'!C5,1)="=",'_f_주석매핑'!C5=""),"M",""))) | D5: =IF(ISBLANK('주석매핑'!D5),IF(LEFT('_f_주석매핑'!D5,1)="=","M",""),IF(IFERROR(_xlfn.FORMULATEXT('주석매핑'!D5),"")<>"",IF(_xlfn.FORMULATEXT('주석매핑'!D5)<>'_f_주석매핑'!D5,"M",""),IF(OR(LEFT('_f_주석매핑'!D5,1)="=",'_f_주석매핑'!D5=""),"M",""))) | E5: =IF(ISBLANK('주석매핑'!E5),IF(LEFT('_f_주석매핑'!E5,1)="=","M",""),IF(IFERROR(_xlfn.FORMULATEXT('주석매핑'!E5),"")<>"",IF(_xlfn.FORMULATEXT('주석매핑'!E5)<>'_f_주석매핑'!E5,"M",""),IF(OR(LEFT('_f_주석매핑'!E5,1)="=",'_f_주석매핑'!E5=""),"M",""))) | F5: =IF(ISBLANK('주석매핑'!F5),IF(LEFT('_f_주석매핑'!F5,1)="=","M",""),IF(IFERROR(_xlfn.FORMULATEXT('주석매핑'!F5),"")<>"",IF(_xlfn.FORMULATEXT('주석매핑'!F5)<>'_f_주석매핑'!F5,"M",""),IF(OR(LEFT('_f_주석매핑'!F5,1)="=",'_f_주석매핑'!F5=""),"M",""))) | G5: =IF(ISBLANK('주석매핑'!G5),IF(LEFT('_f_주석매핑'!G5,1)="=","M",""),IF(IFERROR(_xlfn.FORMULATEXT('주석매핑'!G5),"")<>"",IF(_xlfn.FORMULATEXT('주석매핑'!G5)<>'_f_주석매핑'!G5,"M",""),IF(OR(LEFT('_f_주석매핑'!G5,1)="=",'_f_주석매핑'!G5=""),"M",""))) | H5: =IF(ISBLANK('주석매핑'!H5),IF(LEFT('_f_주석매핑'!H5,1)="=","M",""),IF(IFERROR(_xlfn.FORMULATEXT('주석매핑'!H5),"")<>"",IF(_xlfn.FORMULATEXT('주석매핑'!H5)<>'_f_주석매핑'!H5,"M",""),IF(OR(LEFT('_f_주석매핑'!H5,1)="=",'_f_주석매핑'!H5=""),"M",""))) | ... O5: =IF(ISBLANK('주석매핑'!O5),IF(LEFT('_f_주석매핑'!O5,1)="=","M",""),IF(IFERROR(_xlfn.FORMULATEXT('주석매핑'!O5),"")<>"",IF(_xlfn.FORMULATEXT('주석매핑'!O5)<>'_f_주석매핑'!O5,"M",""),IF(OR(LEFT('_f_주석매핑'!O5,1)="=",'_f_주석매핑'!O5=""),"M","")))
A6: =IF(ISBLANK('주석매핑'!A6),IF(LEFT('_f_주석매핑'!A6,1)="=","M",""),IF(IFERROR(_xlfn.FORMULATEXT('주석매핑'!A6),"")<>"",IF(_xlfn.FORMULATEXT('주석매핑'!A6)<>'_f_주석매핑'!A6,"M",""),IF(OR(LEFT('_f_주석매핑'!A6,1)="=",'_f_주석매핑'!A6=""),"M",""))) | B6: =IF(ISBLANK('주석매핑'!B6),IF(LEFT('_f_주석매핑'!B6,1)="=","M",""),IF(IFERROR(_xlfn.FORMULATEXT('주석매핑'!B6),"")<>"",IF(_xlfn.FORMULATEXT('주석매핑'!B6)<>'_f_주석매핑'!B6,"M",""),IF(OR(LEFT('_f_주석매핑'!B6,1)="=",'_f_주석매핑'!B6=""),"M",""))) | C6: =IF(ISBLANK('주석매핑'!C6),IF(LEFT('_f_주석매핑'!C6,1)="=","M",""),IF(IFERROR(_xlfn.FORMULATEXT('주석매핑'!C6),"")<>"",IF(_xlfn.FORMULATEXT('주석매핑'!C6)<>'_f_주석매핑'!C6,"M",""),IF(OR(LEFT('_f_주석매핑'!C6,1)="=",'_f_주석매핑'!C6=""),"M",""))) | D6: =IF(ISBLANK('주석매핑'!D6),IF(LEFT('_f_주석매핑'!D6,1)="=","M",""),IF(IFERROR(_xlfn.FORMULATEXT('주석매핑'!D6),"")<>"",IF(_xlfn.FORMULATEXT('주석매핑'!D6)<>'_f_주석매핑'!D6,"M",""),IF(OR(LEFT('_f_주석매핑'!D6,1)="=",'_f_주석매핑'!D6=""),"M",""))) | E6: =IF(ISBLANK('주석매핑'!E6),IF(LEFT('_f_주석매핑'!E6,1)="=","M",""),IF(IFERROR(_xlfn.FORMULATEXT('주석매핑'!E6),"")<>"",IF(_xlfn.FORMULATEXT('주석매핑'!E6)<>'_f_주석매핑'!E6,"M",""),IF(OR(LEFT('_f_주석매핑'!E6,1)="=",'_f_주석매핑'!E6=""),"M",""))) | F6: =IF(ISBLANK('주석매핑'!F6),IF(LEFT('_f_주석매핑'!F6,1)="=","M",""),IF(IFERROR(_xlfn.FORMULATEXT('주석매핑'!F6),"")<>"",IF(_xlfn.FORMULATEXT('주석매핑'!F6)<>'_f_주석매핑'!F6,"M",""),IF(OR(LEFT('_f_주석매핑'!F6,1)="=",'_f_주석매핑'!F6=""),"M",""))) | G6: =IF(ISBLANK('주석매핑'!G6),IF(LEFT('_f_주석매핑'!G6,1)="=","M",""),IF(IFERROR(_xlfn.FORMULATEXT('주석매핑'!G6),"")<>"",IF(_xlfn.FORMULATEXT('주석매핑'!G6)<>'_f_주석매핑'!G6,"M",""),IF(OR(LEFT('_f_주석매핑'!G6,1)="=",'_f_주석매핑'!G6=""),"M",""))) | H6: =IF(ISBLANK('주석매핑'!H6),IF(LEFT('_f_주석매핑'!H6,1)="=","M",""),IF(IFERROR(_xlfn.FORMULATEXT('주석매핑'!H6),"")<>"",IF(_xlfn.FORMULATEXT('주석매핑'!H6)<>'_f_주석매핑'!H6,"M",""),IF(OR(LEFT('_f_주석매핑'!H6,1)="=",'_f_주석매핑'!H6=""),"M",""))) | ... O6: =IF(ISBLANK('주석매핑'!O6),IF(LEFT('_f_주석매핑'!O6,1)="=","M",""),IF(IFERROR(_xlfn.FORMULATEXT('주석매핑'!O6),"")<>"",IF(_xlfn.FORMULATEXT('주석매핑'!O6)<>'_f_주석매핑'!O6,"M",""),IF(OR(LEFT('_f_주석매핑'!O6,1)="=",'_f_주석매핑'!O6=""),"M","")))
A7: =IF(ISBLANK('주석매핑'!A7),IF(LEFT('_f_주석매핑'!A7,1)="=","M",""),IF(IFERROR(_xlfn.FORMULATEXT('주석매핑'!A7),"")<>"",IF(_xlfn.FORMULATEXT('주석매핑'!A7)<>'_f_주석매핑'!A7,"M",""),IF(OR(LEFT('_f_주석매핑'!A7,1)="=",'_f_주석매핑'!A7=""),"M",""))) | B7: =IF(ISBLANK('주석매핑'!B7),IF(LEFT('_f_주석매핑'!B7,1)="=","M",""),IF(IFERROR(_xlfn.FORMULATEXT('주석매핑'!B7),"")<>"",IF(_xlfn.FORMULATEXT('주석매핑'!B7)<>'_f_주석매핑'!B7,"M",""),IF(OR(LEFT('_f_주석매핑'!B7,1)="=",'_f_주석매핑'!B7=""),"M",""))) | C7: =IF(ISBLANK('주석매핑'!C7),IF(LEFT('_f_주석매핑'!C7,1)="=","M",""),IF(IFERROR(_xlfn.FORMULATEXT('주석매핑'!C7),"")<>"",IF(_xlfn.FORMULATEXT('주석매핑'!C7)<>'_f_주석매핑'!C7,"M",""),IF(OR(LEFT('_f_주석매핑'!C7,1)="=",'_f_주석매핑'!C7=""),"M",""))) | D7: =IF(ISBLANK('주석매핑'!D7),IF(LEFT('_f_주석매핑'!D7,1)="=","M",""),IF(IFERROR(_xlfn.FORMULATEXT('주석매핑'!D7),"")<>"",IF(_xlfn.FORMULATEXT('주석매핑'!D7)<>'_f_주석매핑'!D7,"M",""),IF(OR(LEFT('_f_주석매핑'!D7,1)="=",'_f_주석매핑'!D7=""),"M",""))) | E7: =IF(ISBLANK('주석매핑'!E7),IF(LEFT('_f_주석매핑'!E7,1)="=","M",""),IF(IFERROR(_xlfn.FORMULATEXT('주석매핑'!E7),"")<>"",IF(_xlfn.FORMULATEXT('주석매핑'!E7)<>'_f_주석매핑'!E7,"M",""),IF(OR(LEFT('_f_주석매핑'!E7,1)="=",'_f_주석매핑'!E7=""),"M",""))) | F7: =IF(ISBLANK('주석매핑'!F7),IF(LEFT('_f_주석매핑'!F7,1)="=","M",""),IF(IFERROR(_xlfn.FORMULATEXT('주석매핑'!F7),"")<>"",IF(_xlfn.FORMULATEXT('주석매핑'!F7)<>'_f_주석매핑'!F7,"M",""),IF(OR(LEFT('_f_주석매핑'!F7,1)="=",'_f_주석매핑'!F7=""),"M",""))) | G7: =IF(ISBLANK('주석매핑'!G7),IF(LEFT('_f_주석매핑'!G7,1)="=","M",""),IF(IFERROR(_xlfn.FORMULATEXT('주석매핑'!G7),"")<>"",IF(_xlfn.FORMULATEXT('주석매핑'!G7)<>'_f_주석매핑'!G7,"M",""),IF(OR(LEFT('_f_주석매핑'!G7,1)="=",'_f_주석매핑'!G7=""),"M",""))) | H7: =IF(ISBLANK('주석매핑'!H7),IF(LEFT('_f_주석매핑'!H7,1)="=","M",""),IF(IFERROR(_xlfn.FORMULATEXT('주석매핑'!H7),"")<>"",IF(_xlfn.FORMULATEXT('주석매핑'!H7)<>'_f_주석매핑'!H7,"M",""),IF(OR(LEFT('_f_주석매핑'!H7,1)="=",'_f_주석매핑'!H7=""),"M",""))) | ... O7: =IF(ISBLANK('주석매핑'!O7),IF(LEFT('_f_주석매핑'!O7,1)="=","M",""),IF(IFERROR(_xlfn.FORMULATEXT('주석매핑'!O7),"")<>"",IF(_xlfn.FORMULATEXT('주석매핑'!O7)<>'_f_주석매핑'!O7,"M",""),IF(OR(LEFT('_f_주석매핑'!O7,1)="=",'_f_주석매핑'!O7=""),"M","")))
A8: =IF(ISBLANK('주석매핑'!A8),IF(LEFT('_f_주석매핑'!A8,1)="=","M",""),IF(IFERROR(_xlfn.FORMULATEXT('주석매핑'!A8),"")<>"",IF(_xlfn.FORMULATEXT('주석매핑'!A8)<>'_f_주석매핑'!A8,"M",""),IF(OR(LEFT('_f_주석매핑'!A8,1)="=",'_f_주석매핑'!A8=""),"M",""))) | B8: =IF(ISBLANK('주석매핑'!B8),IF(LEFT('_f_주석매핑'!B8,1)="=","M",""),IF(IFERROR(_xlfn.FORMULATEXT('주석매핑'!B8),"")<>"",IF(_xlfn.FORMULATEXT('주석매핑'!B8)<>'_f_주석매핑'!B8,"M",""),IF(OR(LEFT('_f_주석매핑'!B8,1)="=",'_f_주석매핑'!B8=""),"M",""))) | C8: =IF(ISBLANK('주석매핑'!C8),IF(LEFT('_f_주석매핑'!C8,1)="=","M",""),IF(IFERROR(_xlfn.FORMULATEXT('주석매핑'!C8),"")<>"",IF(_xlfn.FORMULATEXT('주석매핑'!C8)<>'_f_주석매핑'!C8,"M",""),IF(OR(LEFT('_f_주석매핑'!C8,1)="=",'_f_주석매핑'!C8=""),"M",""))) | D8: =IF(ISBLANK('주석매핑'!D8),IF(LEFT('_f_주석매핑'!D8,1)="=","M",""),IF(IFERROR(_xlfn.FORMULATEXT('주석매핑'!D8),"")<>"",IF(_xlfn.FORMULATEXT('주석매핑'!D8)<>'_f_주석매핑'!D8,"M",""),IF(OR(LEFT('_f_주석매핑'!D8,1)="=",'_f_주석매핑'!D8=""),"M",""))) | E8: =IF(ISBLANK('주석매핑'!E8),IF(LEFT('_f_주석매핑'!E8,1)="=","M",""),IF(IFERROR(_xlfn.FORMULATEXT('주석매핑'!E8),"")<>"",IF(_xlfn.FORMULATEXT('주석매핑'!E8)<>'_f_주석매핑'!E8,"M",""),IF(OR(LEFT('_f_주석매핑'!E8,1)="=",'_f_주석매핑'!E8=""),"M",""))) | F8: =IF(ISBLANK('주석매핑'!F8),IF(LEFT('_f_주석매핑'!F8,1)="=","M",""),IF(IFERROR(_xlfn.FORMULATEXT('주석매핑'!F8),"")<>"",IF(_xlfn.FORMULATEXT('주석매핑'!F8)<>'_f_주석매핑'!F8,"M",""),IF(OR(LEFT('_f_주석매핑'!F8,1)="=",'_f_주석매핑'!F8=""),"M",""))) | G8: =IF(ISBLANK('주석매핑'!G8),IF(LEFT('_f_주석매핑'!G8,1)="=","M",""),IF(IFERROR(_xlfn.FORMULATEXT('주석매핑'!G8),"")<>"",IF(_xlfn.FORMULATEXT('주석매핑'!G8)<>'_f_주석매핑'!G8,"M",""),IF(OR(LEFT('_f_주석매핑'!G8,1)="=",'_f_주석매핑'!G8=""),"M",""))) | H8: =IF(ISBLANK('주석매핑'!H8),IF(LEFT('_f_주석매핑'!H8,1)="=","M",""),IF(IFERROR(_xlfn.FORMULATEXT('주석매핑'!H8),"")<>"",IF(_xlfn.FORMULATEXT('주석매핑'!H8)<>'_f_주석매핑'!H8,"M",""),IF(OR(LEFT('_f_주석매핑'!H8,1)="=",'_f_주석매핑'!H8=""),"M",""))) | ... O8: =IF(ISBLANK('주석매핑'!O8),IF(LEFT('_f_주석매핑'!O8,1)="=","M",""),IF(IFERROR(_xlfn.FORMULATEXT('주석매핑'!O8),"")<>"",IF(_xlfn.FORMULATEXT('주석매핑'!O8)<>'_f_주석매핑'!O8,"M",""),IF(OR(LEFT('_f_주석매핑'!O8,1)="=",'_f_주석매핑'!O8=""),"M","")))
A9: =IF(ISBLANK('주석매핑'!A9),IF(LEFT('_f_주석매핑'!A9,1)="=","M",""),IF(IFERROR(_xlfn.FORMULATEXT('주석매핑'!A9),"")<>"",IF(_xlfn.FORMULATEXT('주석매핑'!A9)<>'_f_주석매핑'!A9,"M",""),IF(OR(LEFT('_f_주석매핑'!A9,1)="=",'_f_주석매핑'!A9=""),"M",""))) | B9: =IF(ISBLANK('주석매핑'!B9),IF(LEFT('_f_주석매핑'!B9,1)="=","M",""),IF(IFERROR(_xlfn.FORMULATEXT('주석매핑'!B9),"")<>"",IF(_xlfn.FORMULATEXT('주석매핑'!B9)<>'_f_주석매핑'!B9,"M",""),IF(OR(LEFT('_f_주석매핑'!B9,1)="=",'_f_주석매핑'!B9=""),"M",""))) | C9: =IF(ISBLANK('주석매핑'!C9),IF(LEFT('_f_주석매핑'!C9,1)="=","M",""),IF(IFERROR(_xlfn.FORMULATEXT('주석매핑'!C9),"")<>"",IF(_xlfn.FORMULATEXT('주석매핑'!C9)<>'_f_주석매핑'!C9,"M",""),IF(OR(LEFT('_f_주석매핑'!C9,1)="=",'_f_주석매핑'!C9=""),"M",""))) | D9: =IF(ISBLANK('주석매핑'!D9),IF(LEFT('_f_주석매핑'!D9,1)="=","M",""),IF(IFERROR(_xlfn.FORMULATEXT('주석매핑'!D9),"")<>"",IF(_xlfn.FORMULATEXT('주석매핑'!D9)<>'_f_주석매핑'!D9,"M",""),IF(OR(LEFT('_f_주석매핑'!D9,1)="=",'_f_주석매핑'!D9=""),"M",""))) | E9: =IF(ISBLANK('주석매핑'!E9),IF(LEFT('_f_주석매핑'!E9,1)="=","M",""),IF(IFERROR(_xlfn.FORMULATEXT('주석매핑'!E9),"")<>"",IF(_xlfn.FORMULATEXT('주석매핑'!E9)<>'_f_주석매핑'!E9,"M",""),IF(OR(LEFT('_f_주석매핑'!E9,1)="=",'_f_주석매핑'!E9=""),"M",""))) | F9: =IF(ISBLANK('주석매핑'!F9),IF(LEFT('_f_주석매핑'!F9,1)="=","M",""),IF(IFERROR(_xlfn.FORMULATEXT('주석매핑'!F9),"")<>"",IF(_xlfn.FORMULATEXT('주석매핑'!F9)<>'_f_주석매핑'!F9,"M",""),IF(OR(LEFT('_f_주석매핑'!F9,1)="=",'_f_주석매핑'!F9=""),"M",""))) | G9: =IF(ISBLANK('주석매핑'!G9),IF(LEFT('_f_주석매핑'!G9,1)="=","M",""),IF(IFERROR(_xlfn.FORMULATEXT('주석매핑'!G9),"")<>"",IF(_xlfn.FORMULATEXT('주석매핑'!G9)<>'_f_주석매핑'!G9,"M",""),IF(OR(LEFT('_f_주석매핑'!G9,1)="=",'_f_주석매핑'!G9=""),"M",""))) | H9: =IF(ISBLANK('주석매핑'!H9),IF(LEFT('_f_주석매핑'!H9,1)="=","M",""),IF(IFERROR(_xlfn.FORMULATEXT('주석매핑'!H9),"")<>"",IF(_xlfn.FORMULATEXT('주석매핑'!H9)<>'_f_주석매핑'!H9,"M",""),IF(OR(LEFT('_f_주석매핑'!H9,1)="=",'_f_주석매핑'!H9=""),"M",""))) | ... O9: =IF(ISBLANK('주석매핑'!O9),IF(LEFT('_f_주석매핑'!O9,1)="=","M",""),IF(IFERROR(_xlfn.FORMULATEXT('주석매핑'!O9),"")<>"",IF(_xlfn.FORMULATEXT('주석매핑'!O9)<>'_f_주석매핑'!O9,"M",""),IF(OR(LEFT('_f_주석매핑'!O9,1)="=",'_f_주석매핑'!O9=""),"M","")))
A10: =IF(ISBLANK('주석매핑'!A10),IF(LEFT('_f_주석매핑'!A10,1)="=","M",""),IF(IFERROR(_xlfn.FORMULATEXT('주석매핑'!A10),"")<>"",IF(_xlfn.FORMULATEXT('주석매핑'!A10)<>'_f_주석매핑'!A10,"M",""),IF(OR(LEFT('_f_주석매핑'!A10,1)="=",'_f_주석매핑'!A10=""),"M",""))) | B10: =IF(ISBLANK('주석매핑'!B10),IF(LEFT('_f_주석매핑'!B10,1)="=","M",""),IF(IFERROR(_xlfn.FORMULATEXT('주석매핑'!B10),"")<>"",IF(_xlfn.FORMULATEXT('주석매핑'!B10)<>'_f_주석매핑'!B10,"M",""),IF(OR(LEFT('_f_주석매핑'!B10,1)="=",'_f_주석매핑'!B10=""),"M",""))) | C10: =IF(ISBLANK('주석매핑'!C10),IF(LEFT('_f_주석매핑'!C10,1)="=","M",""),IF(IFERROR(_xlfn.FORMULATEXT('주석매핑'!C10),"")<>"",IF(_xlfn.FORMULATEXT('주석매핑'!C10)<>'_f_주석매핑'!C10,"M",""),IF(OR(LEFT('_f_주석매핑'!C10,1)="=",'_f_주석매핑'!C10=""),"M",""))) | D10: =IF(ISBLANK('주석매핑'!D10),IF(LEFT('_f_주석매핑'!D10,1)="=","M",""),IF(IFERROR(_xlfn.FORMULATEXT('주석매핑'!D10),"")<>"",IF(_xlfn.FORMULATEXT('주석매핑'!D10)<>'_f_주석매핑'!D10,"M",""),IF(OR(LEFT('_f_주석매핑'!D10,1)="=",'_f_주석매핑'!D10=""),"M",""))) | E10: =IF(ISBLANK('주석매핑'!E10),IF(LEFT('_f_주석매핑'!E10,1)="=","M",""),IF(IFERROR(_xlfn.FORMULATEXT('주석매핑'!E10),"")<>"",IF(_xlfn.FORMULATEXT('주석매핑'!E10)<>'_f_주석매핑'!E10,"M",""),IF(OR(LEFT('_f_주석매핑'!E10,1)="=",'_f_주석매핑'!E10=""),"M",""))) | F10: =IF(ISBLANK('주석매핑'!F10),IF(LEFT('_f_주석매핑'!F10,1)="=","M",""),IF(IFERROR(_xlfn.FORMULATEXT('주석매핑'!F10),"")<>"",IF(_xlfn.FORMULATEXT('주석매핑'!F10)<>'_f_주석매핑'!F10,"M",""),IF(OR(LEFT('_f_주석매핑'!F10,1)="=",'_f_주석매핑'!F10=""),"M",""))) | G10: =IF(ISBLANK('주석매핑'!G10),IF(LEFT('_f_주석매핑'!G10,1)="=","M",""),IF(IFERROR(_xlfn.FORMULATEXT('주석매핑'!G10),"")<>"",IF(_xlfn.FORMULATEXT('주석매핑'!G10)<>'_f_주석매핑'!G10,"M",""),IF(OR(LEFT('_f_주석매핑'!G10,1)="=",'_f_주석매핑'!G10=""),"M",""))) | H10: =IF(ISBLANK('주석매핑'!H10),IF(LEFT('_f_주석매핑'!H10,1)="=","M",""),IF(IFERROR(_xlfn.FORMULATEXT('주석매핑'!H10),"")<>"",IF(_xlfn.FORMULATEXT('주석매핑'!H10)<>'_f_주석매핑'!H10,"M",""),IF(OR(LEFT('_f_주석매핑'!H10,1)="=",'_f_주석매핑'!H10=""),"M",""))) | ... O10: =IF(ISBLANK('주석매핑'!O10),IF(LEFT('_f_주석매핑'!O10,1)="=","M",""),IF(IFERROR(_xlfn.FORMULATEXT('주석매핑'!O10),"")<>"",IF(_xlfn.FORMULATEXT('주석매핑'!O10)<>'_f_주석매핑'!O10,"M",""),IF(OR(LEFT('_f_주석매핑'!O10,1)="=",'_f_주석매핑'!O10=""),"M","")))
A11: =IF(ISBLANK('주석매핑'!A11),IF(LEFT('_f_주석매핑'!A11,1)="=","M",""),IF(IFERROR(_xlfn.FORMULATEXT('주석매핑'!A11),"")<>"",IF(_xlfn.FORMULATEXT('주석매핑'!A11)<>'_f_주석매핑'!A11,"M",""),IF(OR(LEFT('_f_주석매핑'!A11,1)="=",'_f_주석매핑'!A11=""),"M",""))) | B11: =IF(ISBLANK('주석매핑'!B11),IF(LEFT('_f_주석매핑'!B11,1)="=","M",""),IF(IFERROR(_xlfn.FORMULATEXT('주석매핑'!B11),"")<>"",IF(_xlfn.FORMULATEXT('주석매핑'!B11)<>'_f_주석매핑'!B11,"M",""),IF(OR(LEFT('_f_주석매핑'!B11,1)="=",'_f_주석매핑'!B11=""),"M",""))) | C11: =IF(ISBLANK('주석매핑'!C11),IF(LEFT('_f_주석매핑'!C11,1)="=","M",""),IF(IFERROR(_xlfn.FORMULATEXT('주석매핑'!C11),"")<>"",IF(_xlfn.FORMULATEXT('주석매핑'!C11)<>'_f_주석매핑'!C11,"M",""),IF(OR(LEFT('_f_주석매핑'!C11,1)="=",'_f_주석매핑'!C11=""),"M",""))) | D11: =IF(ISBLANK('주석매핑'!D11),IF(LEFT('_f_주석매핑'!D11,1)="=","M",""),IF(IFERROR(_xlfn.FORMULATEXT('주석매핑'!D11),"")<>"",IF(_xlfn.FORMULATEXT('주석매핑'!D11)<>'_f_주석매핑'!D11,"M",""),IF(OR(LEFT('_f_주석매핑'!D11,1)="=",'_f_주석매핑'!D11=""),"M",""))) | E11: =IF(ISBLANK('주석매핑'!E11),IF(LEFT('_f_주석매핑'!E11,1)="=","M",""),IF(IFERROR(_xlfn.FORMULATEXT('주석매핑'!E11),"")<>"",IF(_xlfn.FORMULATEXT('주석매핑'!E11)<>'_f_주석매핑'!E11,"M",""),IF(OR(LEFT('_f_주석매핑'!E11,1)="=",'_f_주석매핑'!E11=""),"M",""))) | F11: =IF(ISBLANK('주석매핑'!F11),IF(LEFT('_f_주석매핑'!F11,1)="=","M",""),IF(IFERROR(_xlfn.FORMULATEXT('주석매핑'!F11),"")<>"",IF(_xlfn.FORMULATEXT('주석매핑'!F11)<>'_f_주석매핑'!F11,"M",""),IF(OR(LEFT('_f_주석매핑'!F11,1)="=",'_f_주석매핑'!F11=""),"M",""))) | G11: =IF(ISBLANK('주석매핑'!G11),IF(LEFT('_f_주석매핑'!G11,1)="=","M",""),IF(IFERROR(_xlfn.FORMULATEXT('주석매핑'!G11),"")<>"",IF(_xlfn.FORMULATEXT('주석매핑'!G11)<>'_f_주석매핑'!G11,"M",""),IF(OR(LEFT('_f_주석매핑'!G11,1)="=",'_f_주석매핑'!G11=""),"M",""))) | H11: =IF(ISBLANK('주석매핑'!H11),IF(LEFT('_f_주석매핑'!H11,1)="=","M",""),IF(IFERROR(_xlfn.FORMULATEXT('주석매핑'!H11),"")<>"",IF(_xlfn.FORMULATEXT('주석매핑'!H11)<>'_f_주석매핑'!H11,"M",""),IF(OR(LEFT('_f_주석매핑'!H11,1)="=",'_f_주석매핑'!H11=""),"M",""))) | ... O11: =IF(ISBLANK('주석매핑'!O11),IF(LEFT('_f_주석매핑'!O11,1)="=","M",""),IF(IFERROR(_xlfn.FORMULATEXT('주석매핑'!O11),"")<>"",IF(_xlfn.FORMULATEXT('주석매핑'!O11)<>'_f_주석매핑'!O11,"M",""),IF(OR(LEFT('_f_주석매핑'!O11,1)="=",'_f_주석매핑'!O11=""),"M","")))
A12: =IF(ISBLANK('주석매핑'!A12),IF(LEFT('_f_주석매핑'!A12,1)="=","M",""),IF(IFERROR(_xlfn.FORMULATEXT('주석매핑'!A12),"")<>"",IF(_xlfn.FORMULATEXT('주석매핑'!A12)<>'_f_주석매핑'!A12,"M",""),IF(OR(LEFT('_f_주석매핑'!A12,1)="=",'_f_주석매핑'!A12=""),"M",""))) | B12: =IF(ISBLANK('주석매핑'!B12),IF(LEFT('_f_주석매핑'!B12,1)="=","M",""),IF(IFERROR(_xlfn.FORMULATEXT('주석매핑'!B12),"")<>"",IF(_xlfn.FORMULATEXT('주석매핑'!B12)<>'_f_주석매핑'!B12,"M",""),IF(OR(LEFT('_f_주석매핑'!B12,1)="=",'_f_주석매핑'!B12=""),"M",""))) | C12: =IF(ISBLANK('주석매핑'!C12),IF(LEFT('_f_주석매핑'!C12,1)="=","M",""),IF(IFERROR(_xlfn.FORMULATEXT('주석매핑'!C12),"")<>"",IF(_xlfn.FORMULATEXT('주석매핑'!C12)<>'_f_주석매핑'!C12,"M",""),IF(OR(LEFT('_f_주석매핑'!C12,1)="=",'_f_주석매핑'!C12=""),"M",""))) | D12: =IF(ISBLANK('주석매핑'!D12),IF(LEFT('_f_주석매핑'!D12,1)="=","M",""),IF(IFERROR(_xlfn.FORMULATEXT('주석매핑'!D12),"")<>"",IF(_xlfn.FORMULATEXT('주석매핑'!D12)<>'_f_주석매핑'!D12,"M",""),IF(OR(LEFT('_f_주석매핑'!D12,1)="=",'_f_주석매핑'!D12=""),"M",""))) | E12: =IF(ISBLANK('주석매핑'!E12),IF(LEFT('_f_주석매핑'!E12,1)="=","M",""),IF(IFERROR(_xlfn.FORMULATEXT('주석매핑'!E12),"")<>"",IF(_xlfn.FORMULATEXT('주석매핑'!E12)<>'_f_주석매핑'!E12,"M",""),IF(OR(LEFT('_f_주석매핑'!E12,1)="=",'_f_주석매핑'!E12=""),"M",""))) | F12: =IF(ISBLANK('주석매핑'!F12),IF(LEFT('_f_주석매핑'!F12,1)="=","M",""),IF(IFERROR(_xlfn.FORMULATEXT('주석매핑'!F12),"")<>"",IF(_xlfn.FORMULATEXT('주석매핑'!F12)<>'_f_주석매핑'!F12,"M",""),IF(OR(LEFT('_f_주석매핑'!F12,1)="=",'_f_주석매핑'!F12=""),"M",""))) | G12: =IF(ISBLANK('주석매핑'!G12),IF(LEFT('_f_주석매핑'!G12,1)="=","M",""),IF(IFERROR(_xlfn.FORMULATEXT('주석매핑'!G12),"")<>"",IF(_xlfn.FORMULATEXT('주석매핑'!G12)<>'_f_주석매핑'!G12,"M",""),IF(OR(LEFT('_f_주석매핑'!G12,1)="=",'_f_주석매핑'!G12=""),"M",""))) | H12: =IF(ISBLANK('주석매핑'!H12),IF(LEFT('_f_주석매핑'!H12,1)="=","M",""),IF(IFERROR(_xlfn.FORMULATEXT('주석매핑'!H12),"")<>"",IF(_xlfn.FORMULATEXT('주석매핑'!H12)<>'_f_주석매핑'!H12,"M",""),IF(OR(LEFT('_f_주석매핑'!H12,1)="=",'_f_주석매핑'!H12=""),"M",""))) | ... O12: =IF(ISBLANK('주석매핑'!O12),IF(LEFT('_f_주석매핑'!O12,1)="=","M",""),IF(IFERROR(_xlfn.FORMULATEXT('주석매핑'!O12),"")<>"",IF(_xlfn.FORMULATEXT('주석매핑'!O12)<>'_f_주석매핑'!O12,"M",""),IF(OR(LEFT('_f_주석매핑'!O12,1)="=",'_f_주석매핑'!O12=""),"M","")))
... A65: =IF(ISBLANK('주석매핑'!A65),IF(LEFT('_f_주석매핑'!A65,1)="=","M",""),IF(IFERROR(_xlfn.FORMULATEXT('주석매핑'!A65),"")<>"",IF(_xlfn.FORMULATEXT('주석매핑'!A65)<>'_f_주석매핑'!A65,"M",""),IF(OR(LEFT('_f_주석매핑'!A65,1)="=",'_f_주석매핑'!A65=""),"M",""))) | B65: =IF(ISBLANK('주석매핑'!B65),IF(LEFT('_f_주석매핑'!B65,1)="=","M",""),IF(IFERROR(_xlfn.FORMULATEXT('주석매핑'!B65),"")<>"",IF(_xlfn.FORMULATEXT('주석매핑'!B65)<>'_f_주석매핑'!B65,"M",""),IF(OR(LEFT('_f_주석매핑'!B65,1)="=",'_f_주석매핑'!B65=""),"M",""))) | C65: =IF(ISBLANK('주석매핑'!C65),IF(LEFT('_f_주석매핑'!C65,1)="=","M",""),IF(IFERROR(_xlfn.FORMULATEXT('주석매핑'!C65),"")<>"",IF(_xlfn.FORMULATEXT('주석매핑'!C65)<>'_f_주석매핑'!C65,"M",""),IF(OR(LEFT('_f_주석매핑'!C65,1)="=",'_f_주석매핑'!C65=""),"M",""))) | D65: =IF(ISBLANK('주석매핑'!D65),IF(LEFT('_f_주석매핑'!D65,1)="=","M",""),IF(IFERROR(_xlfn.FORMULATEXT('주석매핑'!D65),"")<>"",IF(_xlfn.FORMULATEXT('주석매핑'!D65)<>'_f_주석매핑'!D65,"M",""),IF(OR(LEFT('_f_주석매핑'!D65,1)="=",'_f_주석매핑'!D65=""),"M",""))) | E65: =IF(ISBLANK('주석매핑'!E65),IF(LEFT('_f_주석매핑'!E65,1)="=","M",""),IF(IFERROR(_xlfn.FORMULATEXT('주석매핑'!E65),"")<>"",IF(_xlfn.FORMULATEXT('주석매핑'!E65)<>'_f_주석매핑'!E65,"M",""),IF(OR(LEFT('_f_주석매핑'!E65,1)="=",'_f_주석매핑'!E65=""),"M",""))) | F65: =IF(ISBLANK('주석매핑'!F65),IF(LEFT('_f_주석매핑'!F65,1)="=","M",""),IF(IFERROR(_xlfn.FORMULATEXT('주석매핑'!F65),"")<>"",IF(_xlfn.FORMULATEXT('주석매핑'!F65)<>'_f_주석매핑'!F65,"M",""),IF(OR(LEFT('_f_주석매핑'!F65,1)="=",'_f_주석매핑'!F65=""),"M",""))) | G65: =IF(ISBLANK('주석매핑'!G65),IF(LEFT('_f_주석매핑'!G65,1)="=","M",""),IF(IFERROR(_xlfn.FORMULATEXT('주석매핑'!G65),"")<>"",IF(_xlfn.FORMULATEXT('주석매핑'!G65)<>'_f_주석매핑'!G65,"M",""),IF(OR(LEFT('_f_주석매핑'!G65,1)="=",'_f_주석매핑'!G65=""),"M",""))) | H65: =IF(ISBLANK('주석매핑'!H65),IF(LEFT('_f_주석매핑'!H65,1)="=","M",""),IF(IFERROR(_xlfn.FORMULATEXT('주석매핑'!H65),"")<>"",IF(_xlfn.FORMULATEXT('주석매핑'!H65)<>'_f_주석매핑'!H65,"M",""),IF(OR(LEFT('_f_주석매핑'!H65,1)="=",'_f_주석매핑'!H65=""),"M",""))) | ... O65: =IF(ISBLANK('주석매핑'!O65),IF(LEFT('_f_주석매핑'!O65,1)="=","M",""),IF(IFERROR(_xlfn.FORMULATEXT('주석매핑'!O65),"")<>"",IF(_xlfn.FORMULATEXT('주석매핑'!O65)<>'_f_주석매핑'!O65,"M",""),IF(OR(LEFT('_f_주석매핑'!O65,1)="=",'_f_주석매핑'!O65=""),"M","")))

Sheet _f_주석4
A1: •
A2: •
A3: • | B3: • | C3: •
A4: • | B4: • | C4: •
A5: • | B5: =ABS(ABS(B4)-ABS(ROUND((BS!B8)/1000,0)))<=2 | C5: =ABS(ABS(C4)-ABS(ROUND((BS!C8)/1000,0)))<=2
A6: • | B6: =IF(ABS(ABS(B4)-ABS(ROUND((BS!B8)/1000,0)))<=2,"",ABS(B4)-ABS(ROUND((BS!B8)/1000,0))) | C6: =IF(ABS(ABS(C4)-ABS(ROUND((BS!C8)/1000,0)))<=2,"",ABS(C4)-ABS(ROUND((BS!C8)/1000,0)))

Sheet _c_주석4
A1: =IF(ISBLANK('주석4'!A1),IF(LEFT('_f_주석4'!A1,1)="=","M",""),IF(IFERROR(_xlfn.FORMULATEXT('주석4'!A1),"")<>"",IF(_xlfn.FORMULATEXT('주석4'!A1)<>'_f_주석4'!A1,"M",""),IF(OR(LEFT('_f_주석4'!A1,1)="=",'_f_주석4'!A1=""),"M",""))) | B1: =IF(ISBLANK('주석4'!B1),IF(LEFT('_f_주석4'!B1,1)="=","M",""),IF(IFERROR(_xlfn.FORMULATEXT('주석4'!B1),"")<>"",IF(_xlfn.FORMULATEXT('주석4'!B1)<>'_f_주석4'!B1,"M",""),IF(OR(LEFT('_f_주석4'!B1,1)="=",'_f_주석4'!B1=""),"M",""))) | C1: =IF(ISBLANK('주석4'!C1),IF(LEFT('_f_주석4'!C1,1)="=","M",""),IF(IFERROR(_xlfn.FORMULATEXT('주석4'!C1),"")<>"",IF(_xlfn.FORMULATEXT('주석4'!C1)<>'_f_주석4'!C1,"M",""),IF(OR(LEFT('_f_주석4'!C1,1)="=",'_f_주석4'!C1=""),"M",""))) | D1: =IF(ISBLANK('주석4'!D1),IF(LEFT('_f_주석4'!D1,1)="=","M",""),IF(IFERROR(_xlfn.FORMULATEXT('주석4'!D1),"")<>"",IF(_xlfn.FORMULATEXT('주석4'!D1)<>'_f_주석4'!D1,"M",""),IF(OR(LEFT('_f_주석4'!D1,1)="=",'_f_주석4'!D1=""),"M",""))) | E1: =IF(ISBLANK('주석4'!E1),IF(LEFT('_f_주석4'!E1,1)="=","M",""),IF(IFERROR(_xlfn.FORMULATEXT('주석4'!E1),"")<>"",IF(_xlfn.FORMULATEXT('주석4'!E1)<>'_f_주석4'!E1,"M",""),IF(OR(LEFT('_f_주석4'!E1,1)="=",'_f_주석4'!E1=""),"M",""))) | F1: =IF(ISBLANK('주석4'!F1),IF(LEFT('_f_주석4'!F1,1)="=","M",""),IF(IFERROR(_xlfn.FORMULATEXT('주석4'!F1),"")<>"",IF(_xlfn.FORMULATEXT('주석4'!F1)<>'_f_주석4'!F1,"M",""),IF(OR(LEFT('_f_주석4'!F1,1)="=",'_f_주석4'!F1=""),"M",""))) | G1: =IF(ISBLANK('주석4'!G1),IF(LEFT('_f_주석4'!G1,1)="=","M",""),IF(IFERROR(_xlfn.FORMULATEXT('주석4'!G1),"")<>"",IF(_xlfn.FORMULATEXT('주석4'!G1)<>'_f_주석4'!G1,"M",""),IF(OR(LEFT('_f_주석4'!G1,1)="=",'_f_주석4'!G1=""),"M",""))) | H1: =IF(ISBLANK('주석4'!H1),IF(LEFT('_f_주석4'!H1,1)="=","M",""),IF(IFERROR(_xlfn.FORMULATEXT('주석4'!H1),"")<>"",IF(_xlfn.FORMULATEXT('주석4'!H1)<>'_f_주석4'!H1,"M",""),IF(OR(LEFT('_f_주석4'!H1,1)="=",'_f_주석4'!H1=""),"M",""))) | ... K1: =IF(ISBLANK('주석4'!K1),IF(LEFT('_f_주석4'!K1,1)="=","M",""),IF(IFERROR(_xlfn.FORMULATEXT('주석4'!K1),"")<>"",IF(_xlfn.FORMULATEXT('주석4'!K1)<>'_f_주석4'!K1,"M",""),IF(OR(LEFT('_f_주석4'!K1,1)="=",'_f_주석4'!K1=""),"M","")))
A2: =IF(ISBLANK('주석4'!A2),IF(LEFT('_f_주석4'!A2,1)="=","M",""),IF(IFERROR(_xlfn.FORMULATEXT('주석4'!A2),"")<>"",IF(_xlfn.FORMULATEXT('주석4'!A2)<>'_f_주석4'!A2,"M",""),IF(OR(LEFT('_f_주석4'!A2,1)="=",'_f_주석4'!A2=""),"M",""))) | B2: =IF(ISBLANK('주석4'!B2),IF(LEFT('_f_주석4'!B2,1)="=","M",""),IF(IFERROR(_xlfn.FORMULATEXT('주석4'!B2),"")<>"",IF(_xlfn.FORMULATEXT('주석4'!B2)<>'_f_주석4'!B2,"M",""),IF(OR(LEFT('_f_주석4'!B2,1)="=",'_f_주석4'!B2=""),"M",""))) | C2: =IF(ISBLANK('주석4'!C2),IF(LEFT('_f_주석4'!C2,1)="=","M",""),IF(IFERROR(_xlfn.FORMULATEXT('주석4'!C2),"")<>"",IF(_xlfn.FORMULATEXT('주석4'!C2)<>'_f_주석4'!C2,"M",""),IF(OR(LEFT('_f_주석4'!C2,1)="=",'_f_주석4'!C2=""),"M",""))) | D2: =IF(ISBLANK('주석4'!D2),IF(LEFT('_f_주석4'!D2,1)="=","M",""),IF(IFERROR(_xlfn.FORMULATEXT('주석4'!D2),"")<>"",IF(_xlfn.FORMULATEXT('주석4'!D2)<>'_f_주석4'!D2,"M",""),IF(OR(LEFT('_f_주석4'!D2,1)="=",'_f_주석4'!D2=""),"M",""))) | E2: =IF(ISBLANK('주석4'!E2),IF(LEFT('_f_주석4'!E2,1)="=","M",""),IF(IFERROR(_xlfn.FORMULATEXT('주석4'!E2),"")<>"",IF(_xlfn.FORMULATEXT('주석4'!E2)<>'_f_주석4'!E2,"M",""),IF(OR(LEFT('_f_주석4'!E2,1)="=",'_f_주석4'!E2=""),"M",""))) | F2: =IF(ISBLANK('주석4'!F2),IF(LEFT('_f_주석4'!F2,1)="=","M",""),IF(IFERROR(_xlfn.FORMULATEXT('주석4'!F2),"")<>"",IF(_xlfn.FORMULATEXT('주석4'!F2)<>'_f_주석4'!F2,"M",""),IF(OR(LEFT('_f_주석4'!F2,1)="=",'_f_주석4'!F2=""),"M",""))) | G2: =IF(ISBLANK('주석4'!G2),IF(LEFT('_f_주석4'!G2,1)="=","M",""),IF(IFERROR(_xlfn.FORMULATEXT('주석4'!G2),"")<>"",IF(_xlfn.FORMULATEXT('주석4'!G2)<>'_f_주석4'!G2,"M",""),IF(OR(LEFT('_f_주석4'!G2,1)="=",'_f_주석4'!G2=""),"M",""))) | H2: =IF(ISBLANK('주석4'!H2),IF(LEFT('_f_주석4'!H2,1)="=","M",""),IF(IFERROR(_xlfn.FORMULATEXT('주석4'!H2),"")<>"",IF(_xlfn.FORMULATEXT('주석4'!H2)<>'_f_주석4'!H2,"M",""),IF(OR(LEFT('_f_주석4'!H2,1)="=",'_f_주석4'!H2=""),"M",""))) | ... K2: =IF(ISBLANK('주석4'!K2),IF(LEFT('_f_주석4'!K2,1)="=","M",""),IF(IFERROR(_xlfn.FORMULATEXT('주석4'!K2),"")<>"",IF(_xlfn.FORMULATEXT('주석4'!K2)<>'_f_주석4'!K2,"M",""),IF(OR(LEFT('_f_주석4'!K2,1)="=",'_f_주석4'!K2=""),"M","")))
A3: =IF(ISBLANK('주석4'!A3),IF(LEFT('_f_주석4'!A3,1)="=","M",""),IF(IFERROR(_xlfn.FORMULATEXT('주석4'!A3),"")<>"",IF(_xlfn.FORMULATEXT('주석4'!A3)<>'_f_주석4'!A3,"M",""),IF(OR(LEFT('_f_주석4'!A3,1)="=",'_f_주석4'!A3=""),"M",""))) | B3: =IF(ISBLANK('주석4'!B3),IF(LEFT('_f_주석4'!B3,1)="=","M",""),IF(IFERROR(_xlfn.FORMULATEXT('주석4'!B3),"")<>"",IF(_xlfn.FORMULATEXT('주석4'!B3)<>'_f_주석4'!B3,"M",""),IF(OR(LEFT('_f_주석4'!B3,1)="=",'_f_주석4'!B3=""),"M",""))) | C3: =IF(ISBLANK('주석4'!C3),IF(LEFT('_f_주석4'!C3,1)="=","M",""),IF(IFERROR(_xlfn.FORMULATEXT('주석4'!C3),"")<>"",IF(_xlfn.FORMULATEXT('주석4'!C3)<>'_f_주석4'!C3,"M",""),IF(OR(LEFT('_f_주석4'!C3,1)="=",'_f_주석4'!C3=""),"M",""))) | D3: =IF(ISBLANK('주석4'!D3),IF(LEFT('_f_주석4'!D3,1)="=","M",""),IF(IFERROR(_xlfn.FORMULATEXT('주석4'!D3),"")<>"",IF(_xlfn.FORMULATEXT('주석4'!D3)<>'_f_주석4'!D3,"M",""),IF(OR(LEFT('_f_주석4'!D3,1)="=",'_f_주석4'!D3=""),"M",""))) | E3: =IF(ISBLANK('주석4'!E3),IF(LEFT('_f_주석4'!E3,1)="=","M",""),IF(IFERROR(_xlfn.FORMULATEXT('주석4'!E3),"")<>"",IF(_xlfn.FORMULATEXT('주석4'!E3)<>'_f_주석4'!E3,"M",""),IF(OR(LEFT('_f_주석4'!E3,1)="=",'_f_주석4'!E3=""),"M",""))) | F3: =IF(ISBLANK('주석4'!F3),IF(LEFT('_f_주석4'!F3,1)="=","M",""),IF(IFERROR(_xlfn.FORMULATEXT('주석4'!F3),"")<>"",IF(_xlfn.FORMULATEXT('주석4'!F3)<>'_f_주석4'!F3,"M",""),IF(OR(LEFT('_f_주석4'!F3,1)="=",'_f_주석4'!F3=""),"M",""))) | G3: =IF(ISBLANK('주석4'!G3),IF(LEFT('_f_주석4'!G3,1)="=","M",""),IF(IFERROR(_xlfn.FORMULATEXT('주석4'!G3),"")<>"",IF(_xlfn.FORMULATEXT('주석4'!G3)<>'_f_주석4'!G3,"M",""),IF(OR(LEFT('_f_주석4'!G3,1)="=",'_f_주석4'!G3=""),"M",""))) | H3: =IF(ISBLANK('주석4'!H3),IF(LEFT('_f_주석4'!H3,1)="=","M",""),IF(IFERROR(_xlfn.FORMULATEXT('주석4'!H3),"")<>"",IF(_xlfn.FORMULATEXT('주석4'!H3)<>'_f_주석4'!H3,"M",""),IF(OR(LEFT('_f_주석4'!H3,1)="=",'_f_주석4'!H3=""),"M",""))) | ... K3: =IF(ISBLANK('주석4'!K3),IF(LEFT('_f_주석4'!K3,1)="=","M",""),IF(IFERROR(_xlfn.FORMULATEXT('주석4'!K3),"")<>"",IF(_xlfn.FORMULATEXT('주석4'!K3)<>'_f_주석4'!K3,"M",""),IF(OR(LEFT('_f_주석4'!K3,1)="=",'_f_주석4'!K3=""),"M","")))
A4: =IF(ISBLANK('주석4'!A4),IF(LEFT('_f_주석4'!A4,1)="=","M",""),IF(IFERROR(_xlfn.FORMULATEXT('주석4'!A4),"")<>"",IF(_xlfn.FORMULATEXT('주석4'!A4)<>'_f_주석4'!A4,"M",""),IF(OR(LEFT('_f_주석4'!A4,1)="=",'_f_주석4'!A4=""),"M",""))) | B4: =IF(ISBLANK('주석4'!B4),IF(LEFT('_f_주석4'!B4,1)="=","M",""),IF(IFERROR(_xlfn.FORMULATEXT('주석4'!B4),"")<>"",IF(_xlfn.FORMULATEXT('주석4'!B4)<>'_f_주석4'!B4,"M",""),IF(OR(LEFT('_f_주석4'!B4,1)="=",'_f_주석4'!B4=""),"M",""))) | C4: =IF(ISBLANK('주석4'!C4),IF(LEFT('_f_주석4'!C4,1)="=","M",""),IF(IFERROR(_xlfn.FORMULATEXT('주석4'!C4),"")<>"",IF(_xlfn.FORMULATEXT('주석4'!C4)<>'_f_주석4'!C4,"M",""),IF(OR(LEFT('_f_주석4'!C4,1)="=",'_f_주석4'!C4=""),"M",""))) | D4: =IF(ISBLANK('주석4'!D4),IF(LEFT('_f_주석4'!D4,1)="=","M",""),IF(IFERROR(_xlfn.FORMULATEXT('주석4'!D4),"")<>"",IF(_xlfn.FORMULATEXT('주석4'!D4)<>'_f_주석4'!D4,"M",""),IF(OR(LEFT('_f_주석4'!D4,1)="=",'_f_주석4'!D4=""),"M",""))) | E4: =IF(ISBLANK('주석4'!E4),IF(LEFT('_f_주석4'!E4,1)="=","M",""),IF(IFERROR(_xlfn.FORMULATEXT('주석4'!E4),"")<>"",IF(_xlfn.FORMULATEXT('주석4'!E4)<>'_f_주석4'!E4,"M",""),IF(OR(LEFT('_f_주석4'!E4,1)="=",'_f_주석4'!E4=""),"M",""))) | F4: =IF(ISBLANK('주석4'!F4),IF(LEFT('_f_주석4'!F4,1)="=","M",""),IF(IFERROR(_xlfn.FORMULATEXT('주석4'!F4),"")<>"",IF(_xlfn.FORMULATEXT('주석4'!F4)<>'_f_주석4'!F4,"M",""),IF(OR(LEFT('_f_주석4'!F4,1)="=",'_f_주석4'!F4=""),"M",""))) | G4: =IF(ISBLANK('주석4'!G4),IF(LEFT('_f_주석4'!G4,1)="=","M",""),IF(IFERROR(_xlfn.FORMULATEXT('주석4'!G4),"")<>"",IF(_xlfn.FORMULATEXT('주석4'!G4)<>'_f_주석4'!G4,"M",""),IF(OR(LEFT('_f_주석4'!G4,1)="=",'_f_주석4'!G4=""),"M",""))) | H4: =IF(ISBLANK('주석4'!H4),IF(LEFT('_f_주석4'!H4,1)="=","M",""),IF(IFERROR(_xlfn.FORMULATEXT('주석4'!H4),"")<>"",IF(_xlfn.FORMULATEXT('주석4'!H4)<>'_f_주석4'!H4,"M",""),IF(OR(LEFT('_f_주석4'!H4,1)="=",'_f_주석4'!H4=""),"M",""))) | ... K4: =IF(ISBLANK('주석4'!K4),IF(LEFT('_f_주석4'!K4,1)="=","M",""),IF(IFERROR(_xlfn.FORMULATEXT('주석4'!K4),"")<>"",IF(_xlfn.FORMULATEXT('주석4'!K4)<>'_f_주석4'!K4,"M",""),IF(OR(LEFT('_f_주석4'!K4,1)="=",'_f_주석4'!K4=""),"M","")))
